{"text_format":"1","workbook":"xlsx","n_sheets":1,"sheets":["PC-Version"],"not_rendered":{"charts":0,"images":5,"macros":1,"external_links":0,"defined_names":0,"comments":0,"pivot_tables":0},"unopened":[],"bounds":{"document_bytes":16777216,"sheet_cells":100000,"rows_first":2000,"rows_last":500,"rows_between":2000,"halvings":0,"cell_chars":16384,"cell_head_chars":4096},"cells_cut":0,"cells_raw":0,"read":"whole","date_system":"1900"}

{"sheet":"PC-Version","index":0,"n_rows":120,"n_cols":91,"rows_kept":120,"cut":false,"hidden":false,"merged":[[95,7,95,11],[95,20,95,21],[95,23,95,27],[95,37,95,41],[94,1,94,54],[0,0,1,54],[2,0,2,41],[3,12,3,19],[3,24,3,31],[4,1,4,39],[81,1,81,2],[28,80,28,82],[28,87,28,89],[59,31,59,47],[59,48,59,49],[59,51,59,52],[59,53,59,54],[81,3,81,14],[81,15,81,17],[81,18,81,19],[81,21,81,22],[81,23,81,25],[82,50,82,51],[82,52,82,54],[82,30,82,31],[82,32,82,43],[81,52,81,54],[81,47,81,48],[85,18,85,22],[86,1,86,2],[86,3,86,14],[86,15,86,17],[86,18,86,19],[86,21,86,22],[82,1,82,2],[82,3,82,14],[82,15,82,17],[82,18,82,19],[82,21,82,22],[82,23,82,25],[80,1,80,2],[80,3,80,14],[80,15,80,17],[80,18,80,19],[79,1,79,2],[79,23,79,25],[80,21,80,22],[80,23,80,25],[79,21,79,22],[47,53,47,54],[78,1,78,14],[78,15,78,17],[78,18,78,22],[78,23,78,25],[50,53,50,54],[51,53,51,54],[48,51,48,52],[49,1,49,2],[44,3,51,5],[47,6,47,8],[47,9,47,13],[47,14,47,29],[47,31,47,47],[47,48,47,49],[47,51,47,52],[46,6,46,8],[44,6,44,8],[44,53,44,54],[45,48,45,49],[45,51,45,52],[45,53,45,54],[46,48,46,49],[46,51,46,52],[46,53,46,54],[45,9,45,13],[45,14,45,29],[45,31,45,47],[46,9,46,13],[46,14,46,29],[46,31,46,47],[44,9,44,13],[44,14,44,29],[44,31,44,47],[44,48,44,49],[44,51,44,52],[43,9,43,13],[43,14,43,29],[43,31,43,47],[41,53,41,54],[42,48,42,49],[42,51,42,52],[42,53,42,54],[43,48,43,49],[43,51,43,52],[43,53,43,54],[41,9,41,13],[41,14,41,29],[41,31,41,47],[41,48,41,49],[41,51,41,52],[42,6,42,8],[42,9,42,13],[42,14,42,29],[42,31,42,47],[39,53,39,54],[40,6,40,8],[40,9,40,13],[40,14,40,29],[40,31,40,47],[39,51,39,52],[36,3,43,5],[40,48,40,49],[40,51,40,52],[40,53,40,54],[41,6,41,8],[39,9,39,13],[39,14,39,29],[37,51,37,52],[39,31,39,47],[39,48,39,49],[38,9,38,13],[38,14,38,29],[38,31,38,47],[38,48,38,49],[38,51,38,52],[38,53,38,54],[37,14,37,29],[37,31,37,47],[37,48,37,49],[35,53,35,54],[36,9,36,13],[36,14,36,29],[36,31,36,47],[36,48,36,49],[36,51,36,52],[35,31,35,47],[31,14,31,29],[36,53,36,54],[35,9,35,13],[35,48,35,49],[33,53,33,54],[34,9,34,13],[34,14,34,29],[34,31,34,47],[34,48,34,49],[34,51,34,52],[30,53,30,54],[30,31,30,47],[32,51,32,52],[32,53,32,54],[31,31,31,47],[31,48,31,49],[31,53,31,54],[34,53,34,54],[32,14,32,29],[33,31,33,47],[33,51,33,52],[33,14,33,29],[47,1,47,2],[43,1,43,2],[36,1,36,2],[34,6,34,8],[28,3,35,5],[33,9,33,13],[28,6,28,8],[44,1,44,2],[45,1,45,2],[46,1,46,2],[35,1,35,2],[39,6,39,8],[43,6,43,8],[45,6,45,8],[37,6,37,8],[38,1,38,2],[27,1,27,2],[29,1,29,2],[30,1,30,2],[34,1,34,2],[28,1,28,2],[31,1,31,2],[32,1,32,2],[33,1,33,2],[28,9,28,13],[29,14,29,29],[33,6,33,8],[30,6,30,8],[31,6,31,8],[38,6,38,8],[30,9,30,13],[35,14,35,29],[36,6,36,8],[35,6,35,8],[27,6,27,8],[27,3,27,5],[27,53,27,54],[27,48,27,52],[27,9,27,13],[27,14,27,47],[18,1,18,25],[20,1,20,2],[20,3,20,23],[20,24,20,25],[19,1,19,2],[19,3,19,23],[19,24,19,25],[23,24,23,25],[22,24,22,25],[14,1,14,2],[15,1,15,2],[15,3,15,23],[15,30,15,31],[15,24,15,25],[16,24,16,25],[14,3,14,23],[14,30,14,31],[14,24,14,25],[12,1,12,2],[12,30,12,31],[12,24,12,25],[13,1,13,2],[12,3,12,23],[13,3,13,23],[13,30,13,31],[13,24,13,25],[30,14,30,29],[29,9,29,13],[29,6,29,8],[32,6,32,8],[32,9,32,13],[42,1,42,2],[37,1,37,2],[39,1,39,2],[40,1,40,2],[41,1,41,2],[31,9,31,13],[80,30,80,31],[80,32,80,43],[79,44,79,46],[79,30,79,31],[79,32,79,43],[60,14,60,29],[80,44,80,46],[50,31,50,47],[62,14,62,29],[50,1,50,2],[50,6,50,8],[48,53,48,54],[49,53,49,54],[48,9,48,13],[48,14,48,29],[48,31,48,47],[48,48,48,49],[49,48,49,49],[50,14,50,29],[13,53,13,54],[14,32,14,52],[28,31,28,47],[19,30,19,31],[19,32,19,52],[19,53,19,54],[20,30,20,31],[20,32,20,52],[15,32,15,52],[15,53,15,54],[88,1,88,2],[82,47,82,48],[82,44,82,46],[85,23,85,25],[85,30,85,43],[29,53,29,54],[49,6,49,8],[59,9,59,13],[60,1,60,2],[60,6,60,8],[23,1,23,2],[80,47,80,48],[79,50,79,51],[79,52,79,54],[80,50,80,51],[80,52,80,54],[60,9,60,13],[62,6,62,8],[62,9,62,13],[66,6,66,8],[16,30,16,31],[85,44,85,46],[85,47,85,51],[83,47,83,48],[16,32,16,52],[16,53,16,54],[29,31,29,47],[30,48,30,49],[23,53,23,54],[22,30,22,31],[87,1,87,2],[87,3,87,14],[81,50,81,51],[55,1,55,54],[85,1,85,14],[85,15,85,17],[66,9,66,13],[79,3,79,14],[79,15,79,17],[79,18,79,19],[6,20,6,21],[11,1,11,25],[11,30,11,54],[6,23,6,27],[6,7,6,11],[23,3,23,23],[21,1,21,2],[21,3,21,23],[6,37,6,41],[13,32,13,52],[12,32,12,52],[18,30,18,54],[12,53,12,54],[14,53,14,54],[20,53,20,54],[28,53,28,54],[28,48,28,49],[22,53,22,54],[23,30,23,31],[23,32,23,52],[21,30,21,31],[21,32,21,52],[21,53,21,54],[21,24,21,25],[22,1,22,2],[22,3,22,23],[22,32,22,52],[28,51,28,52],[29,48,29,49],[29,51,29,52],[49,31,49,47],[33,48,33,49],[30,51,30,52],[32,31,32,47],[31,51,31,52],[35,51,35,52],[32,48,32,49],[86,23,86,25],[87,21,87,22],[87,23,87,25],[88,3,88,14],[88,15,88,17],[88,18,88,19],[88,21,88,22],[88,23,88,25],[87,15,87,17],[87,18,87,19],[89,1,89,2],[89,3,89,14],[89,15,89,17],[89,18,89,19],[89,21,89,22],[89,23,89,25],[86,52,86,54],[87,30,87,31],[88,44,88,46],[88,47,88,48],[87,44,87,46],[87,47,87,48],[87,32,87,43],[87,50,87,51],[90,30,90,31],[90,32,90,43],[89,44,89,46],[89,47,89,48],[85,52,85,54],[86,30,86,31],[86,32,86,43],[86,44,86,46],[86,47,86,48],[86,50,86,51],[99,31,99,47],[99,48,100,49],[99,50,100,50],[99,51,100,52],[98,1,98,2],[98,3,98,8],[98,9,98,13],[98,14,98,47],[102,1,102,2],[102,3,102,8],[102,9,102,13],[102,14,102,47],[98,48,98,52],[98,53,98,54],[99,1,100,2],[99,3,100,8],[99,9,100,13],[99,14,99,29],[103,51,104,52],[103,1,104,2],[103,3,104,8],[103,9,104,13],[103,14,103,29],[99,53,100,54],[100,14,100,29],[100,31,100,47],[102,48,102,52],[102,53,102,54],[116,8,116,10],[116,12,116,47],[111,51,112,52],[96,1,96,54],[103,53,104,54],[104,14,104,29],[104,31,104,47],[103,31,103,47],[103,48,104,49],[103,50,104,50],[106,48,106,52],[106,53,106,54],[107,31,107,47],[107,48,108,49],[107,50,108,50],[107,53,108,54],[108,31,108,47],[107,51,108,52],[119,8,119,10],[119,12,119,47],[117,8,117,10],[117,12,117,47],[118,8,118,10],[118,12,118,47],[110,1,110,2],[110,3,110,8],[110,9,110,13],[110,14,110,47],[108,14,108,29],[111,1,112,2],[111,3,112,8],[111,9,112,13],[111,14,111,29],[106,1,106,2],[106,3,106,8],[106,9,106,13],[106,14,106,47],[107,1,108,2],[107,3,108,8],[107,9,108,13],[107,14,107,29],[59,6,59,8],[67,3,73,5],[111,53,112,54],[112,14,112,29],[112,31,112,47],[110,53,110,54],[111,31,111,47],[111,48,112,49],[111,50,112,50],[110,48,110,52],[16,1,16,2],[16,3,16,23],[59,14,59,29],[51,14,51,29],[49,14,49,29],[28,14,28,29],[48,1,48,2],[48,6,48,8],[59,1,59,2],[51,1,51,2],[36,80,36,82],[51,6,51,8],[51,9,51,13],[50,51,50,52],[49,9,49,13],[51,48,51,49],[49,51,49,52],[51,51,51,52],[50,9,50,13],[37,9,37,13],[58,1,58,2],[58,3,58,5],[58,6,58,8],[58,9,58,13],[58,14,58,47],[58,48,58,52],[60,31,60,47],[60,48,60,49],[60,51,60,52],[60,53,60,54],[61,31,61,47],[36,87,36,89],[58,53,58,54],[51,31,51,47],[50,48,50,49],[37,53,37,54],[62,48,62,49],[62,51,62,52],[61,53,61,54],[61,1,61,2],[61,6,61,8],[61,9,61,13],[61,14,61,29],[63,51,63,52],[59,3,65,5],[61,48,61,49],[61,51,61,52],[63,53,63,54],[63,1,63,2],[63,6,63,8],[63,9,63,13],[63,14,63,29],[62,31,62,47],[64,51,64,52],[64,53,64,54],[64,1,64,2],[62,53,62,54],[62,1,62,2],[64,6,64,8],[64,9,64,13],[64,14,64,29],[63,31,63,47],[63,48,63,49],[65,1,65,2],[65,6,65,8],[65,9,65,13],[65,14,65,29],[64,31,64,47],[64,48,64,49],[65,31,65,47],[65,48,65,49],[65,51,65,52],[67,53,67,54],[67,1,67,2],[67,6,67,8],[67,9,67,13],[67,14,67,29],[66,31,66,47],[65,53,65,54],[66,48,66,49],[66,51,66,52],[72,6,72,8],[72,9,72,13],[67,31,67,47],[67,48,67,49],[67,51,67,52],[70,1,70,2],[70,6,70,8],[70,9,70,13],[69,1,69,2],[69,6,69,8],[66,53,66,54],[66,1,66,2],[66,14,66,29],[68,31,68,47],[68,48,68,49],[68,51,68,52],[68,1,68,2],[68,6,68,8],[68,9,68,13],[68,53,68,54],[69,9,69,13],[69,14,69,29],[69,31,69,47],[69,48,69,49],[69,51,69,52],[69,53,69,54],[68,14,68,29],[71,48,71,49],[71,51,71,52],[71,53,71,54],[70,14,70,29],[70,31,70,47],[70,48,70,49],[70,51,70,52],[72,31,72,47],[72,48,72,49],[72,51,72,52],[70,53,70,54],[71,1,71,2],[71,6,71,8],[71,9,71,13],[71,14,71,29],[71,31,71,47],[72,1,72,2],[72,53,72,54],[73,1,73,2],[73,6,73,8],[73,9,73,13],[73,14,73,29],[73,31,73,47],[73,48,73,49],[73,51,73,52],[73,53,73,54],[72,14,72,29],[78,44,78,46],[74,51,74,52],[74,1,74,2],[74,6,74,8],[74,9,74,13],[78,47,78,51],[78,52,78,54],[78,30,78,43],[74,53,74,54],[74,48,74,49],[90,1,90,2],[90,3,90,14],[83,30,83,31],[83,32,83,43],[83,44,83,46],[74,14,74,29],[74,31,74,47],[81,30,81,31],[81,32,81,43],[81,44,81,46],[83,1,83,2],[83,3,83,14],[83,15,83,17],[83,18,83,19],[83,21,83,22],[83,23,83,25],[79,47,79,48],[90,15,90,17],[90,18,90,19],[90,21,90,22],[90,23,90,25],[90,47,90,48],[88,30,88,31],[88,32,88,43],[89,30,89,31],[89,32,89,43],[90,50,90,51],[90,44,90,46],[90,52,90,54],[83,52,83,54],[89,50,89,51],[89,52,89,54],[83,50,83,51],[87,52,87,54],[88,50,88,51],[88,52,88,54]]}
["   2. Schumacher Finanzen & Consulting Cup"]
[]
["Hallenfußballturnier für A-Junioren"]
[null,null,null,null,null,null,null,null,null,null,null,"Am","Sonntag",null,null,null,null,null,null,null,", den",null,null,null,"2019-01-20"]
[null,"Sporthalle Willy-Jürissen, Goebenstr., 46045 OB"]
[]
[null,null,null,null,null,null,"Beginn:","10:00:00",null,null,null,null,"Uhr",null,null,null,null,null,null,"Spielzeit:",1,null,"x","00:10:00",null,null,null,null,"min",null,null,null,null,null,null,null,"Pause:","00:02:00",null,null,null,null,"min"]
[]
[]
[null,"I. Teilnehmende Mannschaften"]
[]
[null,"Gruppe A",null,null,null,null,null,null,null,null,null,null,null,null,null,null,null,null,null,null,null,null,null,null,null,null,null,null,null,null,"Gruppe B"]
[null,"1.",null,"Fortuna Bottrop",null,null,null,null,null,null,null,null,null,null,null,null,null,null,null,null,null,null,null,null,null,null,null,null,null,null,"1.",null,"Sportfreunde Königshardt"]
[null,"2.",null,"Schwarz-Weiß Alstaden",null,null,null,null,null,null,null,null,null,null,null,null,null,null,null,null,null,null,null,null,null,null,null,null,null,null,"2.",null,"VFR 08 Oberhausen"]
[null,"3.",null,"FC Sterkrade 72",null,null,null,null,null,null,null,null,null,null,null,null,null,null,null,null,null,null,null,null,null,null,null,null,null,null,"3.",null,"Blau-Weiß Oberhausen"]
[null,"4.",null,"Rhenania Bottrop",null,null,null,null,null,null,null,null,null,null,null,null,null,null,null,null,null,null,null,null,null,null,null,null,null,null,"4.",null,"Blau-Weiß Fuhlenbrock"]
[null,"5.",null,"Adler Osterfeld",null,null,null,null,null,null,null,null,null,null,null,null,null,null,null,null,null,null,null,null,null,null,null,null,null,null,"5.",null,"Barisspor Bottrop"]
[]
[null,"Gruppe C",null,null,null,null,null,null,null,null,null,null,null,null,null,null,null,null,null,null,null,null,null,null,null,null,null,null,null,null,"Gruppe D"]
[null,"1.",null,"Sterkrade Nord",null,null,null,null,null,null,null,null,null,null,null,null,null,null,null,null,null,null,null,null,null,null,null,null,null,null,"1.",null,"VFB Bottrop"]
[null,"2.",null,"Sterkrade 06/07",null,null,null,null,null,null,null,null,null,null,null,null,null,null,null,null,null,null,null,null,null,null,null,null,null,null,"2.",null,"SuS 21 Oberhausen"]
[null,"3.",null,"DJK Arminia Lirich",null,null,null,null,null,null,null,null,null,null,null,null,null,null,null,null,null,null,null,null,null,null,null,null,null,null,"3.",null,"SC Buschhausen 1912"]
[null,"4.",null,"SF 08/21 Bottrop",null,null,null,null,null,null,null,null,null,null,null,null,null,null,null,null,null,null,null,null,null,null,null,null,null,null,"4.",null,"DJK Arminia Klosterhardt"]
[null,"5.",null,"Post SV Oberhausen"]
[]
[null,"II. Spielplan Vorrunde"]
[]
[null,"Nr.",null,null,null,null,"Grp.",null,null,"Beginn",null,null,null,null,"Spielpaarung",null,null,null,null,null,null,null,null,null,null,null,null,null,null,null,null,null,null,null,null,null,null,null,null,null,null,null,null,null,null,null,null,null,"Ergebnis"]
[null,1,null,"Runde 1",null,null,"A",null,null,{"$f":"$H$7","v":"10:00:00"},null,null,null,null,{"$f":"D13","v":"Fortuna Bottrop"},null,null,null,null,null,null,null,null,null,null,null,null,null,null,null,"-",{"$f":"D14","v":"Schwarz-Weiß Alstaden"},null,null,null,null,null,null,null,null,null,null,null,null,null,null,null,null,null,null,":",null,null,null,null,null,null,null,null,null,null,null,null,null,null,null,null,null,null,null,null,null,{"$f":"IF(ISBLANK(AZ29),\"0\",IF(AW29>AZ29,3,IF(AW29=AZ29,1,0)))","v":"0"},":",{"$f":"IF(ISBLANK(AZ29),\"0\",IF(AZ29>AW29,3,IF(AZ29=AW29,1,0)))","v":"0"},null,null,null,"Gruppe A","Pkt.","Tore",null,null,"Diff.",null,"Gruppe B","Pkt.","Tore",null,null,"Diff."]
[null,2,null,null,null,null,"A",null,null,{"$f":"J29+$U$7*$X$7+$AL$7","v":"10:12:00"},null,null,null,null,{"$f":"D16","v":"Rhenania Bottrop"},null,null,null,null,null,null,null,null,null,null,null,null,null,null,null,"-",{"$f":"D15","v":"FC Sterkrade 72"},null,null,null,null,null,null,null,null,null,null,null,null,null,null,null,null,null,null,":",null,null,null,null,null,null,null,null,null,null,null,null,null,null,null,null,null,null,null,null,null,"0",":","0",null,null,null,{"$f":"$D$15","v":"FC Sterkrade 72"},{"$f":"SUM($BW$30+$BU$45+$BU$60+$BW$68)","v":0},{"$f":"SUM($AZ$30+$AW$45+$AW$60+$AZ$68)","v":0},":",{"$f":"SUM($AW$30+$AZ$45+$AZ$60+$AW$68)","v":0},{"$f":"SUM(CC30-CE30)","v":0},null,{"$f":"$AG$17","v":"Barisspor Bottrop"},{"$f":"SUM($BU$39+$BW$47+$BU$63+$BW$71)","v":0},{"$f":"SUM($AW$39+$AZ$47+$AW$63+$AZ$71)","v":0},":",{"$f":"SUM($AZ$39+$AW$47+$AZ$63+$AW$71)","v":0},{"$f":"SUM(CJ30-CL30)","v":0}]
[null,3,null,null,null,null,"B",null,null,"10:24:00",null,null,null,null,{"$f":"AG13","v":"Sportfreunde Königshardt"},null,null,null,null,null,null,null,null,null,null,null,null,null,null,null,"-",{"$f":"AG14","v":"VFR 08 Oberhausen"},null,null,null,null,null,null,null,null,null,null,null,null,null,null,null,null,null,null,":",null,null,null,null,null,null,null,null,null,null,null,null,null,null,null,null,null,null,null,null,null,"0",":","0",null,null,null,{"$f":"$D$13","v":"Fortuna Bottrop"},{"$f":"SUM($BU$29+$BW$37+$BW$46+$BU$68)","v":0},{"$f":"SUM($AW$29+$AZ$37+$AZ$46+$AW$68)","v":0},":",{"$f":"SUM($AZ$29+$AW$37+$AW$46+$AZ$68)","v":0},{"$f":"SUM(CC31-CE31)","v":0},null,{"$f":"$AG$13","v":"Sportfreunde Königshardt"},{"$f":"SUM($BU$31+$BW$39+$BW$48+$BU$70)","v":0},{"$f":"SUM($AW$31+$AZ$39+$AZ$48+$AW$70)","v":0},":",{"$f":"SUM($AZ$31+$AW$39+$AW$48+$AZ$70)","v":0},{"$f":"SUM(CJ31-CL31)","v":0}]
[null,4,null,null,null,null,"B",null,null,"10:36:00",null,null,null,null,{"$f":"AG16","v":"Blau-Weiß Fuhlenbrock"},null,null,null,null,null,null,null,null,null,null,null,null,null,null,null,"-",{"$f":"AG15","v":"Blau-Weiß Oberhausen"},null,null,null,null,null,null,null,null,null,null,null,null,null,null,null,null,null,null,":",null,null,null,null,null,null,null,null,null,null,null,null,null,null,null,null,null,null,null,null,null,"0",":","0",null,null,null,{"$f":"$D$14","v":"Schwarz-Weiß Alstaden"},{"$f":"SUM($BW$29+$BU$38+$BW$60+$BU$69)","v":0},{"$f":"SUM($AZ$29+$AW$38+$AZ$60+$AW$69)","v":0},":",{"$f":"SUM($AW$29+$AZ$38+$AW$60+$AZ$69)","v":0},{"$f":"SUM(CC32-CE32)","v":0},null,{"$f":"$AG$16","v":"Blau-Weiß Fuhlenbrock"},{"$f":"SUM($BU$32+$BW$40+$BU$48+$BW$63)","v":0},{"$f":"SUM($AW$32+$AZ$40+$AW$48+$AZ$63)","v":0},":",{"$f":"SUM($AZ$32+$AW$40+$AZ$48+$AW$63)","v":0},{"$f":"SUM(CJ32-CL32)","v":0}]
[null,5,null,null,null,null,"C",null,null,"10:48:00",null,null,null,null,{"$f":"D20","v":"Sterkrade Nord"},null,null,null,null,null,null,null,null,null,null,null,null,null,null,null,"-",{"$f":"D21","v":"Sterkrade 06/07"},null,null,null,null,null,null,null,null,null,null,null,null,null,null,null,null,null,null,":",null,null,null,null,null,null,null,null,null,null,null,null,null,null,null,null,null,null,null,null,null,"0",":","0",null,null,null,{"$f":"$D$16","v":"Rhenania Bottrop"},{"$f":"SUM($BU$30+$BW$38+$BU$46+$BW$61)","v":0},{"$f":"SUM($AW$30+$AZ$38+$AW$46+$AZ$61)","v":0},":",{"$f":"SUM($AZ$30+$AW$38+$AZ$46+$AW$61)","v":0},{"$f":"SUM(CC33-CE33)","v":0},null,{"$f":"$AG$15","v":"Blau-Weiß Oberhausen"},{"$f":"SUM($BW$32+$BU$47+$BU$62+$BW$70)","v":0},{"$f":"SUM($AZ$32+$AW$47+$AW$62+$AZ$70)","v":0},":",{"$f":"SUM($AW$32+$AZ$47+$AZ$62+$AW$70)","v":0},{"$f":"SUM(CJ33-CL33)","v":0}]
[null,6,null,null,null,null,"C",null,null,"11:00:00",null,null,null,null,{"$f":"D23","v":"SF 08/21 Bottrop"},null,null,null,null,null,null,null,null,null,null,null,null,null,null,null,"-",{"$f":"D22","v":"DJK Arminia Lirich"},null,null,null,null,null,null,null,null,null,null,null,null,null,null,null,null,null,null,":",null,null,null,null,null,null,null,null,null,null,null,null,null,null,null,null,null,null,null,null,null,"0",":","0",null,null,null,{"$f":"$D$17","v":"Adler Osterfeld"},{"$f":"SUM($BU$37+$BW$45+$BU$61+$BW$69)","v":0},{"$f":"SUM($AW$37+$AZ$45+$AW$61+$AZ$69)","v":0},":",{"$f":"SUM($AZ$37+$AW$45+$AZ$61+$AW$69)","v":0},{"$f":"SUM(CC34-CE34)","v":0},null,{"$f":"$AG$14","v":"VFR 08 Oberhausen"},{"$f":"SUM($BW$31+$BU$40+$BW$62+$BU$71)","v":0},{"$f":"SUM($AZ$31+$AW$40+$AZ$62+$AW$71)","v":0},":",{"$f":"SUM($AW$31+$AZ$40+$AW$62+$AZ$71)","v":0},{"$f":"SUM(CJ34-CL34)","v":0}]
[null,7,null,null,null,null,"D",null,null,"11:12:00",null,null,null,null,{"$f":"AG20","v":"VFB Bottrop"},null,null,null,null,null,null,null,null,null,null,null,null,null,null,null,"-",{"$f":"AG21","v":"SuS 21 Oberhausen"},null,null,null,null,null,null,null,null,null,null,null,null,null,null,null,null,null,null,":",null,null,null,null,null,null,null,null,null,null,null,null,null,null,null,null,null,null,null,null,null,"0",":","0"]
[null,8,null,null,null,null,"D",null,null,"11:24:00",null,null,null,null,{"$f":"AG23","v":"DJK Arminia Klosterhardt"},null,null,null,null,null,null,null,null,null,null,null,null,null,null,null,"-",{"$f":"AG22","v":"SC Buschhausen 1912"},null,null,null,null,null,null,null,null,null,null,null,null,null,null,null,null,null,null,":",null,null,null,null,null,null,null,null,null,null,null,null,null,null,null,null,null,null,null,null,null,"0",":","0"]
[null,9,null,"Runde 2",null,null,"A",null,null,"11:36:00",null,null,null,null,{"$f":"D17","v":"Adler Osterfeld"},null,null,null,null,null,null,null,null,null,null,null,null,null,null,null,"-",{"$f":"D13","v":"Fortuna Bottrop"},null,null,null,null,null,null,null,null,null,null,null,null,null,null,null,null,null,null,":",null,null,null,null,null,null,null,null,null,null,null,null,null,null,null,null,null,null,null,null,null,"0",":","0",null,null,null,"Gruppe C","Pkt.","Tore",null,null,"Diff.",null,"Gruppe D","Pkt.","Tore",null,null,"Diff."]
[null,10,null,null,null,null,"A",null,null,"11:48:00",null,null,null,null,{"$f":"D14","v":"Schwarz-Weiß Alstaden"},null,null,null,null,null,null,null,null,null,null,null,null,null,null,null,"-",{"$f":"D16","v":"Rhenania Bottrop"},null,null,null,null,null,null,null,null,null,null,null,null,null,null,null,null,null,null,":",null,null,null,null,null,null,null,null,null,null,null,null,null,null,null,null,null,null,null,null,null,"0",":","0",null,null,null,{"$f":"$D$22","v":"DJK Arminia Lirich"},{"$f":"SUM($BW$34+$BU$49+$BU$64+$BW$72)","v":0},{"$f":"SUM($AZ$34+$AW$49+$AW$64+$AZ$72)","v":0},":",{"$f":"SUM($AW$34+$AZ$49+$AZ$64+$AW$72)","v":0},{"$f":"SUM(CC38-CE38)","v":0},null,{"$f":"$AG$20","v":"VFB Bottrop"},{"$f":"SUM($BU$35+$BW$52+$BU$74)","v":0},{"$f":"SUM($AW$35+$AZ$43+$AZ$52+$AW$74)","v":0},":",{"$f":"SUM($AZ$35+$AW$43+$AW$52+$AZ$74)","v":0},{"$f":"SUM(CJ38-CL38)","v":0}]
[null,11,null,null,null,null,"B",null,null,"12:00:00",null,null,null,null,{"$f":"AG17","v":"Barisspor Bottrop"},null,null,null,null,null,null,null,null,null,null,null,null,null,null,null,"-",{"$f":"AG13","v":"Sportfreunde Königshardt"},null,null,null,null,null,null,null,null,null,null,null,null,null,null,null,null,null,null,":",null,null,null,null,null,null,null,null,null,null,null,null,null,null,null,null,null,null,null,null,null,"0",":","0",null,null,null,{"$f":"$D$24","v":"Post SV Oberhausen"},{"$f":"SUM($BU$41+$BW$49+$BU$65+$BW$72)","v":0},{"$f":"SUM($AW$41+$AZ$49+$AW$65+$AZ$73)","v":0},":",{"$f":"SUM($AZ$41+$AW$49+$AZ$65+$AW$73)","v":0},{"$f":"SUM(CC39-CE39)","v":0},null,{"$f":"$AG$22","v":"SC Buschhausen 1912"},{"$f":"SUM($BW$36+$BU$66+$BW$74)","v":0},{"$f":"SUM($AZ$36+$AW$51+$AW$66+$AZ$74)","v":0},":",{"$f":"SUM($AW$36+$AZ$51+$AZ$66+$AW$74)","v":0},{"$f":"SUM(CJ39-CL39)","v":0}]
[null,12,null,null,null,null,"B",null,null,"12:12:00",null,null,null,null,{"$f":"AG14","v":"VFR 08 Oberhausen"},null,null,null,null,null,null,null,null,null,null,null,null,null,null,null,"-",{"$f":"AG16","v":"Blau-Weiß Fuhlenbrock"},null,null,null,null,null,null,null,null,null,null,null,null,null,null,null,null,null,null,":",null,null,null,null,null,null,null,null,null,null,null,null,null,null,null,null,null,null,null,null,null,"0",":","0",null,null,null,{"$f":"$D$23","v":"SF 08/21 Bottrop"},{"$f":"SUM($BU$34+$BW$42+$BU$50+$BW$65)","v":0},{"$f":"SUM($AW$34+$AZ$42+$AW$50+$AZ$65)","v":0},":",{"$f":"SUM($AZ$34+$AW$42+$AZ$50+$AW$65)","v":0},{"$f":"SUM(CC40-CE40)","v":0},null,{"$f":"$AG$23","v":"DJK Arminia Klosterhardt"},{"$f":"SUM($BU$36+$BW$44+$BU$52)","v":0},{"$f":"SUM($AW$36+$AZ$44+$AW$52+$AZ$67)","v":0},":",{"$f":"SUM($AZ$36+$AW$44+$AZ$52+$AW$67)","v":0},{"$f":"SUM(CJ40-CL40)","v":0}]
[null,13,null,null,null,null,"C",null,null,"12:24:00",null,null,null,null,{"$f":"D24","v":"Post SV Oberhausen"},null,null,null,null,null,null,null,null,null,null,null,null,null,null,null,"-",{"$f":"D20","v":"Sterkrade Nord"},null,null,null,null,null,null,null,null,null,null,null,null,null,null,null,null,null,null,":",null,null,null,null,null,null,null,null,null,null,null,null,null,null,null,null,null,null,null,null,null,"0",":","0",null,null,null,{"$f":"$D$21","v":"Sterkrade 06/07"},{"$f":"SUM($BW$33+$BU$42+$BW$64+$BU$73)","v":0},{"$f":"SUM($AZ$33+$AW$42+$AZ$64+$AW$73)","v":0},":",{"$f":"SUM($AW$33+$AZ$42+$AW$64+$AZ$73)","v":0},{"$f":"SUM(CC41-CE41)","v":0},null,{"$f":"$AG$21","v":"SuS 21 Oberhausen"},{"$f":"SUM($BW$35+$BU$44+$BW$66)","v":0},{"$f":"SUM($AZ$35+$AW$44+$AZ$66+$AW$75)","v":0},":",{"$f":"SUM($AW$35+$AZ$44+$AW$66+$AZ$75)","v":0},{"$f":"SUM(CJ41-CL41)","v":0}]
[null,14,null,null,null,null,"C",null,null,{"$f":"J41+$U$7*$X$7+$AL$7","v":"12:36:00"},null,null,null,null,{"$f":"D21","v":"Sterkrade 06/07"},null,null,null,null,null,null,null,null,null,null,null,null,null,null,null,"-",{"$f":"D23","v":"SF 08/21 Bottrop"},null,null,null,null,null,null,null,null,null,null,null,null,null,null,null,null,null,null,":",null,null,null,null,null,null,null,null,null,null,null,null,null,null,null,null,null,null,null,null,null,"0",":","0",null,null,null,{"$f":"$D$20","v":"Sterkrade Nord"},{"$f":"SUM($BU$33+$BW$41+$BW$50+$BU$72)","v":0},{"$f":"SUM($AW$33+$AZ$41+$AZ$50+$AW$72)","v":0},":",{"$f":"SUM($AZ$33+$AW$41+$AW$50+$AZ$72)","v":0},{"$f":"SUM(CC42-CE42)","v":0}]
[null,null,null,null,null,null,null,null,null,null,null,null,null,null,null,null,null,null,null,null,null,null,null,null,null,null,null,null,null,null,null,null,null,null,null,null,null,null,null,null,null,null,null,null,null,null,null,null,null,null,null,null,null,null,null,null,null,null,null,null,null,null,null,null,null,null,null,null,null,null,null,null,"0",":","0"]
[null,15,null,null,null,null,"D",null,null,{"$f":"J42+$U$7*$X$7+$AL$7","v":"12:48:00"},null,null,null,null,{"$f":"AG21","v":"SuS 21 Oberhausen"},null,null,null,null,null,null,null,null,null,null,null,null,null,null,null,"-",{"$f":"AG23","v":"DJK Arminia Klosterhardt"},null,null,null,null,null,null,null,null,null,null,null,null,null,null,null,null,null,null,":",null,null,null,null,null,null,null,null,null,null,null,null,null,null,null,null,null,null,null,null,null,"0",":","0"]
[null,16,null,"Runde 3",null,null,"A",null,null,"13:00:00",null,null,null,null,{"$f":"D15","v":"FC Sterkrade 72"},null,null,null,null,null,null,null,null,null,null,null,null,null,null,null,"-",{"$f":"D17","v":"Adler Osterfeld"},null,null,null,null,null,null,null,null,null,null,null,null,null,null,null,null,null,null,":",null,null,null,null,null,null,null,null,null,null,null,null,null,null,null,null,null,null,null,null,null,"0",":","0"]
[null,17,null,null,null,null,"A",null,null,"13:12:00",null,null,null,null,{"$f":"D16","v":"Rhenania Bottrop"},null,null,null,null,null,null,null,null,null,null,null,null,null,null,null,"-",{"$f":"D13","v":"Fortuna Bottrop"},null,null,null,null,null,null,null,null,null,null,null,null,null,null,null,null,null,null,":",null,null,null,null,null,null,null,null,null,null,null,null,null,null,null,null,null,null,null,null,null,"0",":","0"]
[null,18,null,null,null,null,"B",null,null,"13:24:00",null,null,null,null,{"$f":"AG15","v":"Blau-Weiß Oberhausen"},null,null,null,null,null,null,null,null,null,null,null,null,null,null,null,"-",{"$f":"AG17","v":"Barisspor Bottrop"},null,null,null,null,null,null,null,null,null,null,null,null,null,null,null,null,null,null,":",null,null,null,null,null,null,null,null,null,null,null,null,null,null,null,null,null,null,null,null,null,"0",":","0"]
[null,19,null,null,null,null,"B",null,null,"13:36:00",null,null,null,null,{"$f":"AG16","v":"Blau-Weiß Fuhlenbrock"},null,null,null,null,null,null,null,null,null,null,null,null,null,null,null,"-",{"$f":"AG13","v":"Sportfreunde Königshardt"},null,null,null,null,null,null,null,null,null,null,null,null,null,null,null,null,null,null,":",null,null,null,null,null,null,null,null,null,null,null,null,null,null,null,null,null,null,null,null,null,"0",":","0"]
[null,20,null,null,null,null,"C",null,null,"13:48:00",null,null,null,null,{"$f":"D22","v":"DJK Arminia Lirich"},null,null,null,null,null,null,null,null,null,null,null,null,null,null,null,"-",{"$f":"D24","v":"Post SV Oberhausen"},null,null,null,null,null,null,null,null,null,null,null,null,null,null,null,null,null,null,":",null,null,null,null,null,null,null,null,null,null,null,null,null,null,null,null,null,null,null,null,null,"0",":","0"]
[null,21,null,null,null,null,"C",null,null,"14:00:00",null,null,null,null,{"$f":"D23","v":"SF 08/21 Bottrop"},null,null,null,null,null,null,null,null,null,null,null,null,null,null,null,"-",{"$f":"D20","v":"Sterkrade Nord"},null,null,null,null,null,null,null,null,null,null,null,null,null,null,null,null,null,null,":",null,null,null,null,null,null,null,null,null,null,null,null,null,null,null,null,null,null,null,null,null,"0",":","0"]
[null,null,null,null,null,null,null,null,null,null,null,null,null,null,null,null,null,null,null,null,null,null,null,null,null,null,null,null,null,null,null,null,null,null,null,null,null,null,null,null,null,null,null,null,null,null,null,null,null,null,null,null,null,null,null,null,null,null,null,null,null,null,null,null,null,null,null,null,null,null,null,null,"0",":","0"]
[null,22,null,null,null,null,"D",null,null,{"$f":"J50+$U$7*$X$7+$AL$7","v":"14:12:00"},null,null,null,null,{"$f":"AG23","v":"DJK Arminia Klosterhardt"},null,null,null,null,null,null,null,null,null,null,null,null,null,null,null,"-",{"$f":"AG20","v":"VFB Bottrop"},null,null,null,null,null,null,null,null,null,null,null,null,null,null,null,null,null,null,":",null,null,null,null,null,null,null,null,null,null,null,null,null,null,null,null,null,null,null,null,null,"0",":","0"]
[]
[]
[]
[null,{"$f":"$A$1","v":"   2. Schumacher Finanzen & Consulting Cup"}]
[null,"II. Spielplan Vorrunde"]
[]
[null,"Nr.",null,null,null,null,"Grp.",null,null,"Beginn",null,null,null,null,"Spielpaarung",null,null,null,null,null,null,null,null,null,null,null,null,null,null,null,null,null,null,null,null,null,null,null,null,null,null,null,null,null,null,null,null,null,"Ergebnis"]
[null,23,null,"Runde 4",null,null,"A",null,null,{"$f":"J52+$U$7*$X$7+$AL$7","v":"14:24:00"},null,null,null,null,{"$f":"D15","v":"FC Sterkrade 72"},null,null,null,null,null,null,null,null,null,null,null,null,null,null,null,"-",{"$f":"D14","v":"Schwarz-Weiß Alstaden"},null,null,null,null,null,null,null,null,null,null,null,null,null,null,null,null,null,null,":",null,null,null,null,null,null,null,null,null,null,null,null,null,null,null,null,null,null,null,null,null,{"$f":"IF(ISBLANK(AZ60),\"0\",IF(AW60>AZ60,3,IF(AW60=AZ60,1,0)))","v":"0"},":",{"$f":"IF(ISBLANK(AZ60),\"0\",IF(AZ60>AW60,3,IF(AZ60=AW60,1,0)))","v":"0"}]
[null,24,null,null,null,null,"A",null,null,{"$f":"J60+$U$7*$X$7+$AL$7","v":"14:36:00"},null,null,null,null,{"$f":"D17","v":"Adler Osterfeld"},null,null,null,null,null,null,null,null,null,null,null,null,null,null,null,"-",{"$f":"D16","v":"Rhenania Bottrop"},null,null,null,null,null,null,null,null,null,null,null,null,null,null,null,null,null,null,":",null,null,null,null,null,null,null,null,null,null,null,null,null,null,null,null,null,null,null,null,null,"0",":","0"]
[null,25,null,null,null,null,"B",null,null,"14:48:00",null,null,null,null,{"$f":"AG15","v":"Blau-Weiß Oberhausen"},null,null,null,null,null,null,null,null,null,null,null,null,null,null,null,"-",{"$f":"AG14","v":"VFR 08 Oberhausen"},null,null,null,null,null,null,null,null,null,null,null,null,null,null,null,null,null,null,":",null,null,null,null,null,null,null,null,null,null,null,null,null,null,null,null,null,null,null,null,null,"0",":","0"]
[null,26,null,null,null,null,"B",null,null,"15:00:00",null,null,null,null,{"$f":"AG17","v":"Barisspor Bottrop"},null,null,null,null,null,null,null,null,null,null,null,null,null,null,null,"-",{"$f":"AG16","v":"Blau-Weiß Fuhlenbrock"},null,null,null,null,null,null,null,null,null,null,null,null,null,null,null,null,null,null,":",null,null,null,null,null,null,null,null,null,null,null,null,null,null,null,null,null,null,null,null,null,"0",":","0"]
[null,27,null,null,null,null,"C",null,null,"15:12:00",null,null,null,null,{"$f":"D22","v":"DJK Arminia Lirich"},null,null,null,null,null,null,null,null,null,null,null,null,null,null,null,"-",{"$f":"D21","v":"Sterkrade 06/07"},null,null,null,null,null,null,null,null,null,null,null,null,null,null,null,null,null,null,":",null,null,null,null,null,null,null,null,null,null,null,null,null,null,null,null,null,null,null,null,null,"0",":","0"]
[null,28,null,null,null,null,"C",null,null,"15:24:00",null,null,null,null,{"$f":"D24","v":"Post SV Oberhausen"},null,null,null,null,null,null,null,null,null,null,null,null,null,null,null,"-",{"$f":"D23","v":"SF 08/21 Bottrop"},null,null,null,null,null,null,null,null,null,null,null,null,null,null,null,null,null,null,":",null,null,null,null,null,null,null,null,null,null,null,null,null,null,null,null,null,null,null,null,null,"0",":","0"]
[null,29,null,null,null,null,"D",null,null,"15:36:00",null,null,null,null,{"$f":"AG22","v":"SC Buschhausen 1912"},null,null,null,null,null,null,null,null,null,null,null,null,null,null,null,"-",{"$f":"AG21","v":"SuS 21 Oberhausen"},null,null,null,null,null,null,null,null,null,null,null,null,null,null,null,null,null,null,":",null,null,null,null,null,null,null,null,null,null,null,null,null,null,null,null,null,null,null,null,null,"0",":","0"]
[null,null,null,null,null,null,null,null,null,null,null,null,null,null,null,null,null,null,null,null,null,null,null,null,null,null,null,null,null,null,null,null,null,null,null,null,null,null,null,null,null,null,null,null,null,null,null,null,null,null,":",null,null,null,null,null,null,null,null,null,null,null,null,null,null,null,null,null,null,null,null,null,"0",":","0"]
[null,30,null,"Runde 5",null,null,"A",null,null,{"$f":"J66+$U$7*$X$7+$AL$7","v":"15:48:00"},null,null,null,null,{"$f":"D13","v":"Fortuna Bottrop"},null,null,null,null,null,null,null,null,null,null,null,null,null,null,null,"-",{"$f":"D15","v":"FC Sterkrade 72"},null,null,null,null,null,null,null,null,null,null,null,null,null,null,null,null,null,null,":",null,null,null,null,null,null,null,null,null,null,null,null,null,null,null,null,null,null,null,null,null,"0",":","0"]
[null,31,null,null,null,null,"A",null,null,"16:00:00",null,null,null,null,{"$f":"D14","v":"Schwarz-Weiß Alstaden"},null,null,null,null,null,null,null,null,null,null,null,null,null,null,null,"-",{"$f":"D17","v":"Adler Osterfeld"},null,null,null,null,null,null,null,null,null,null,null,null,null,null,null,null,null,null,":",null,null,null,null,null,null,null,null,null,null,null,null,null,null,null,null,null,null,null,null,null,"0",":","0"]
[null,32,null,null,null,null,"B",null,null,"16:12:00",null,null,null,null,{"$f":"AG13","v":"Sportfreunde Königshardt"},null,null,null,null,null,null,null,null,null,null,null,null,null,null,null,"-",{"$f":"AG15","v":"Blau-Weiß Oberhausen"},null,null,null,null,null,null,null,null,null,null,null,null,null,null,null,null,null,null,":",null,null,null,null,null,null,null,null,null,null,null,null,null,null,null,null,null,null,null,null,null,"0",":","0"]
[null,33,null,null,null,null,"B",null,null,"16:24:00",null,null,null,null,{"$f":"AG14","v":"VFR 08 Oberhausen"},null,null,null,null,null,null,null,null,null,null,null,null,null,null,null,"-",{"$f":"AG17","v":"Barisspor Bottrop"},null,null,null,null,null,null,null,null,null,null,null,null,null,null,null,null,null,null,":",null,null,null,null,null,null,null,null,null,null,null,null,null,null,null,null,null,null,null,null,null,"0",":","0"]
[null,34,null,null,null,null,"C",null,null,"16:36:00",null,null,null,null,{"$f":"D20","v":"Sterkrade Nord"},null,null,null,null,null,null,null,null,null,null,null,null,null,null,null,"-",{"$f":"D22","v":"DJK Arminia Lirich"},null,null,null,null,null,null,null,null,null,null,null,null,null,null,null,null,null,null,":",null,null,null,null,null,null,null,null,null,null,null,null,null,null,null,null,null,null,null,null,null,"0",":","0"]
[null,35,null,null,null,null,"C",null,null,"16:48:00",null,null,null,null,{"$f":"D21","v":"Sterkrade 06/07"},null,null,null,null,null,null,null,null,null,null,null,null,null,null,null,"-",{"$f":"D24","v":"Post SV Oberhausen"},null,null,null,null,null,null,null,null,null,null,null,null,null,null,null,null,null,null,":",null,null,null,null,null,null,null,null,null,null,null,null,null,null,null,null,null,null,null,null,null,"0",":","0"]
[null,36,null,null,null,null,"D",null,null,"17:00:00",null,null,null,null,{"$f":"AG20","v":"VFB Bottrop"},null,null,null,null,null,null,null,null,null,null,null,null,null,null,null,"-",{"$f":"AG22","v":"SC Buschhausen 1912"},null,null,null,null,null,null,null,null,null,null,null,null,null,null,null,null,null,null,":",null,null,null,null,null,null,null,null,null,null,null,null,null,null,null,null,null,null,null,null,null,"0",":","0"]
[null,null,null,null,null,null,null,null,null,null,null,null,null,null,null,null,null,null,null,null,null,null,null,null,null,null,null,null,null,null,null,null,null,null,null,null,null,null,null,null,null,null,null,null,null,null,null,null,null,null,":",null,null,null,null,null,null,null,null,null,null,null,null,null,null,null,null,null,null,null,null,null,"0",":","0"]
[]
[null,"III. Abschlußtabellen Vorrunde"]
[]
[null,"Gruppe A",null,null,null,null,null,null,null,null,null,null,null,null,null,"Pkt.",null,null,"Tore",null,null,null,null,"Diff.",null,null,null,null,null,null,"Gruppe B",null,null,null,null,null,null,null,null,null,null,null,null,null,"Pkt.",null,null,"Tore",null,null,null,null,"Diff."]
[null,"1.",null,{"$f":"IF(ISBLANK($AZ$29),\"\",$CA$30)","v":""},null,null,null,null,null,null,null,null,null,null,null,{"$f":"IF(ISBLANK($AZ$29),\"\",$CB$30)","v":""},null,null,{"$f":"IF(ISBLANK($AZ$29),\"\",$CC$30)","v":""},null,":",{"$f":"IF(ISBLANK($AZ$29),\"\",$CE$30)","v":""},null,{"$f":"IF(ISBLANK($AZ$29),\"\",$CF$30)","v":""},null,null,null,null,null,null,"1.",null,{"$f":"IF(ISBLANK($AZ$31),\"\",$CH$30)","v":""},null,null,null,null,null,null,null,null,null,null,null,{"$f":"IF(ISBLANK($AZ$31),\"\",$CI$30)","v":""},null,null,{"$f":"IF(ISBLANK($AZ$31),\"\",$CJ$30)","v":""},null,":",{"$f":"IF(ISBLANK($AZ$31),\"\",$CL$30)","v":""},null,{"$f":"IF(ISBLANK($AZ$31),\"\",$CM$30)","v":""}]
[null,"2.",null,{"$f":"IF(ISBLANK($AZ$29),\"\",$CA$31)","v":""},null,null,null,null,null,null,null,null,null,null,null,{"$f":"IF(ISBLANK($AZ$29),\"\",$CB$31)","v":""},null,null,{"$f":"IF(ISBLANK($AZ$29),\"\",$CC$31)","v":""},null,":",{"$f":"IF(ISBLANK($AZ$29),\"\",$CE$31)","v":""},null,{"$f":"IF(ISBLANK($AZ$29),\"\",$CF$31)","v":""},null,null,null,null,null,null,"2.",null,{"$f":"IF(ISBLANK($AZ$31),\"\",$CH$31)","v":""},null,null,null,null,null,null,null,null,null,null,null,{"$f":"IF(ISBLANK($AZ$31),\"\",$CI$31)","v":""},null,null,{"$f":"IF(ISBLANK($AZ$31),\"\",$CJ$31)","v":""},null,":",{"$f":"IF(ISBLANK($AZ$31),\"\",$CL$31)","v":""},null,{"$f":"IF(ISBLANK($AZ$31),\"\",$CM$31)","v":""}]
[null,"3.",null,{"$f":"IF(ISBLANK($AZ$29),\"\",$CA$32)","v":""},null,null,null,null,null,null,null,null,null,null,null,{"$f":"IF(ISBLANK($AZ$29),\"\",$CB$32)","v":""},null,null,{"$f":"IF(ISBLANK($AZ$29),\"\",$CC$32)","v":""},null,":",{"$f":"IF(ISBLANK($AZ$29),\"\",$CE$32)","v":""},null,{"$f":"IF(ISBLANK($AZ$29),\"\",$CF$32)","v":""},null,null,null,null,null,null,"3.",null,{"$f":"IF(ISBLANK($AZ$31),\"\",$CH$32)","v":""},null,null,null,null,null,null,null,null,null,null,null,{"$f":"IF(ISBLANK($AZ$31),\"\",$CI$32)","v":""},null,null,{"$f":"IF(ISBLANK($AZ$31),\"\",$CJ$32)","v":""},null,":",{"$f":"IF(ISBLANK($AZ$31),\"\",$CL$32)","v":""},null,{"$f":"IF(ISBLANK($AZ$31),\"\",$CM$32)","v":""}]
[null,"4.",null,{"$f":"IF(ISBLANK($AZ$29),\"\",$CA$33)","v":""},null,null,null,null,null,null,null,null,null,null,null,{"$f":"IF(ISBLANK($AZ$29),\"\",$CB$33)","v":""},null,null,{"$f":"IF(ISBLANK($AZ$29),\"\",$CC$33)","v":""},null,":",{"$f":"IF(ISBLANK($AZ$29),\"\",$CE$33)","v":""},null,{"$f":"IF(ISBLANK($AZ$29),\"\",$CF$33)","v":""},null,null,null,null,null,null,"4.",null,{"$f":"IF(ISBLANK($AZ$31),\"\",$CH$33)","v":""},null,null,null,null,null,null,null,null,null,null,null,{"$f":"IF(ISBLANK($AZ$31),\"\",$CI$33)","v":""},null,null,{"$f":"IF(ISBLANK($AZ$31),\"\",$CJ$33)","v":""},null,":",{"$f":"IF(ISBLANK($AZ$31),\"\",$CL$33)","v":""},null,{"$f":"IF(ISBLANK($AZ$31),\"\",$CM$33)","v":""}]
[null,"5.",null,{"$f":"IF(ISBLANK($AZ$29),\"\",$CA$34)","v":""},null,null,null,null,null,null,null,null,null,null,null,{"$f":"IF(ISBLANK($AZ$29),\"\",$CB$34)","v":""},null,null,{"$f":"IF(ISBLANK($AZ$29),\"\",$CC$34)","v":""},null,":",{"$f":"IF(ISBLANK($AZ$29),\"\",$CE$34)","v":""},null,{"$f":"IF(ISBLANK($AZ$29),\"\",$CF$34)","v":""},null,null,null,null,null,null,"5.",null,{"$f":"IF(ISBLANK($AZ$31),\"\",$CH$34)","v":""},null,null,null,null,null,null,null,null,null,null,null,{"$f":"IF(ISBLANK($AZ$31),\"\",$CI$34)","v":""},null,null,{"$f":"IF(ISBLANK($AZ$31),\"\",$CJ$34)","v":""},null,":",{"$f":"IF(ISBLANK($AZ$31),\"\",$CL$34)","v":""},null,{"$f":"IF(ISBLANK($AZ$31),\"\",$CM$34)","v":""}]
[]
[null,"Gruppe C",null,null,null,null,null,null,null,null,null,null,null,null,null,"Pkt.",null,null,"Tore",null,null,null,null,"Diff.",null,null,null,null,null,null,"Gruppe D",null,null,null,null,null,null,null,null,null,null,null,null,null,"Pkt.",null,null,"Tore",null,null,null,null,"Diff."]
[null,"1.",null,{"$f":"IF(ISBLANK($AZ$33),\"\",$CA$38)","v":""},null,null,null,null,null,null,null,null,null,null,null,{"$f":"IF(ISBLANK($AZ$33),\"\",$CB$38)","v":""},null,null,{"$f":"IF(ISBLANK($AZ$33),\"\",$CC$38)","v":""},null,":",{"$f":"IF(ISBLANK($AZ$33),\"\",$CE$38)","v":""},null,{"$f":"IF(ISBLANK($AZ$33),\"\",$CF$38)","v":""},null,null,null,null,null,null,"1.",null,{"$f":"IF(ISBLANK($AZ$35),\"\",$CH$38)","v":""},null,null,null,null,null,null,null,null,null,null,null,{"$f":"IF(ISBLANK($AZ$35),\"\",$CI$38)","v":""},null,null,{"$f":"IF(ISBLANK($AZ$35),\"\",$CJ$38)","v":""},null,":",{"$f":"IF(ISBLANK($AZ$35),\"\",$CL$38)","v":""},null,{"$f":"IF(ISBLANK($AZ$35),\"\",$CM$38)","v":""}]
[null,"2.",null,{"$f":"IF(ISBLANK($AZ$33),\"\",$CA$39)","v":""},null,null,null,null,null,null,null,null,null,null,null,{"$f":"IF(ISBLANK($AZ$33),\"\",$CB$39)","v":""},null,null,{"$f":"IF(ISBLANK($AZ$33),\"\",$CC$39)","v":""},null,":",{"$f":"IF(ISBLANK($AZ$33),\"\",$CE$39)","v":""},null,{"$f":"IF(ISBLANK($AZ$33),\"\",$CF$39)","v":""},null,null,null,null,null,null,"2.",null,{"$f":"IF(ISBLANK($AZ$35),\"\",$CH$39)","v":""},null,null,null,null,null,null,null,null,null,null,null,{"$f":"IF(ISBLANK($AZ$35),\"\",$CI$39)","v":""},null,null,{"$f":"IF(ISBLANK($AZ$35),\"\",$CJ$39)","v":""},null,":",{"$f":"IF(ISBLANK($AZ$35),\"\",$CL$39)","v":""},null,{"$f":"IF(ISBLANK($AZ$35),\"\",$CM$39)","v":""}]
[null,"3.",null,{"$f":"IF(ISBLANK($AZ$33),\"\",$CA$40)","v":""},null,null,null,null,null,null,null,null,null,null,null,{"$f":"IF(ISBLANK($AZ$33),\"\",$CB$40)","v":""},null,null,{"$f":"IF(ISBLANK($AZ$33),\"\",$CC$40)","v":""},null,":",{"$f":"IF(ISBLANK($AZ$33),\"\",$CE$40)","v":""},null,{"$f":"IF(ISBLANK($AZ$33),\"\",$CF$40)","v":""},null,null,null,null,null,null,"3.",null,{"$f":"IF(ISBLANK($AZ$35),\"\",$CH$40)","v":""},null,null,null,null,null,null,null,null,null,null,null,{"$f":"IF(ISBLANK($AZ$35),\"\",$CI$40)","v":""},null,null,{"$f":"IF(ISBLANK($AZ$35),\"\",$CJ$40)","v":""},null,":",{"$f":"IF(ISBLANK($AZ$35),\"\",$CL$40)","v":""},null,{"$f":"IF(ISBLANK($AZ$35),\"\",$CM$40)","v":""}]
[null,"4.",null,{"$f":"IF(ISBLANK($AZ$33),\"\",$CA$41)","v":""},null,null,null,null,null,null,null,null,null,null,null,{"$f":"IF(ISBLANK($AZ$33),\"\",$CB$41)","v":""},null,null,{"$f":"IF(ISBLANK($AZ$33),\"\",$CC$41)","v":""},null,":",{"$f":"IF(ISBLANK($AZ$33),\"\",$CE$41)","v":""},null,{"$f":"IF(ISBLANK($AZ$33),\"\",$CF$41)","v":""},null,null,null,null,null,null,"4.",null,{"$f":"IF(ISBLANK($AZ$35),\"\",$CH$41)","v":""},null,null,null,null,null,null,null,null,null,null,null,{"$f":"IF(ISBLANK($AZ$35),\"\",$CI$41)","v":""},null,null,{"$f":"IF(ISBLANK($AZ$35),\"\",$CJ$41)","v":""},null,":",{"$f":"IF(ISBLANK($AZ$35),\"\",$CL$41)","v":""},null,{"$f":"IF(ISBLANK($AZ$35),\"\",$CM$41)","v":""}]
[null,"5.",null,{"$f":"IF(ISBLANK($AZ$33),\"\",$CA$42)","v":""},null,null,null,null,null,null,null,null,null,null,null,{"$f":"IF(ISBLANK($AZ$33),\"\",$CB$42)","v":""},null,null,{"$f":"IF(ISBLANK($AZ$33),\"\",$CC$42)","v":""},null,":",{"$f":"IF(ISBLANK($AZ$33),\"\",$CE$42)","v":""},null,{"$f":"IF(ISBLANK($AZ$33),\"\",$CF$42)","v":""}]
[]
[]
[]
[null,{"$f":"$A$1","v":"   2. Schumacher Finanzen & Consulting Cup"}]
[null,null,null,null,null,null,"Beginn:","17:24:00",null,null,null,null,"Uhr",null,null,null,null,null,null,"Spielzeit:",1,null,"x","00:10:00",null,null,null,null,"min",null,null,null,null,null,null,null,"Pause:","00:02:00",null,null,null,null,"min"]
[]
[null,"IV. Endrunde"]
[null,"Nr.",null,null,null,null,null,null,null,"Beginn",null,null,null,null,"1. Halbfinale",null,null,null,null,null,null,null,null,null,null,null,null,null,null,null,null,null,null,null,null,null,null,null,null,null,null,null,null,null,null,null,null,null,"Ergebnis"]
[null,37,null,null,null,null,null,null,null,{"$f":"J74+2*$X$7+2*$AL$7","v":"17:24:00"},null,null,null,null,{"$f":"D80","v":""},{"$f":"IF(ISBLANK(#REF!),\" \",IF(#REF!<#REF!,#REF!,IF(#REF!<#REF!,#REF!)))","v":{"$error":"#REF!"}},{"$f":"IF(ISBLANK(#REF!),\" \",IF(#REF!<#REF!,#REF!,IF(#REF!<#REF!,#REF!)))","v":{"$error":"#REF!"}},{"$f":"IF(ISBLANK(#REF!),\" \",IF(#REF!<#REF!,#REF!,IF(#REF!<#REF!,#REF!)))","v":{"$error":"#REF!"}},{"$f":"IF(ISBLANK(#REF!),\" \",IF(#REF!<#REF!,#REF!,IF(#REF!<#REF!,#REF!)))","v":{"$error":"#REF!"}},{"$f":"IF(ISBLANK(#REF!),\" \",IF(#REF!<#REF!,#REF!,IF(#REF!<#REF!,#REF!)))","v":{"$error":"#REF!"}},{"$f":"IF(ISBLANK(#REF!),\" \",IF(#REF!<#REF!,#REF!,IF(#REF!<#REF!,#REF!)))","v":{"$error":"#REF!"}},{"$f":"IF(ISBLANK(#REF!),\" \",IF(#REF!<#REF!,#REF!,IF(#REF!<#REF!,#REF!)))","v":{"$error":"#REF!"}},{"$f":"IF(ISBLANK(#REF!),\" \",IF(#REF!<#REF!,#REF!,IF(#REF!<#REF!,#REF!)))","v":{"$error":"#REF!"}},{"$f":"IF(ISBLANK(#REF!),\" \",IF(#REF!<#REF!,#REF!,IF(#REF!<#REF!,#REF!)))","v":{"$error":"#REF!"}},{"$f":"IF(ISBLANK(#REF!),\" \",IF(#REF!<#REF!,#REF!,IF(#REF!<#REF!,#REF!)))","v":{"$error":"#REF!"}},{"$f":"IF(ISBLANK(#REF!),\" \",IF(#REF!<#REF!,#REF!,IF(#REF!<#REF!,#REF!)))","v":{"$error":"#REF!"}},{"$f":"IF(ISBLANK(#REF!),\" \",IF(#REF!<#REF!,#REF!,IF(#REF!<#REF!,#REF!)))","v":{"$error":"#REF!"}},{"$f":"IF(ISBLANK(#REF!),\" \",IF(#REF!<#REF!,#REF!,IF(#REF!<#REF!,#REF!)))","v":{"$error":"#REF!"}},{"$f":"IF(ISBLANK(#REF!),\" \",IF(#REF!<#REF!,#REF!,IF(#REF!<#REF!,#REF!)))","v":{"$error":"#REF!"}},{"$f":"IF(ISBLANK(#REF!),\" \",IF(#REF!<#REF!,#REF!,IF(#REF!<#REF!,#REF!)))","v":{"$error":"#REF!"}},"-",{"$f":"AG80","v":""},null,null,null,null,null,null,null,null,null,null,null,null,null,null,null,null,null,null,":"]
[null,null,null,null,null,null,null,null,null,null,null,null,null,null,"Sieger Gruppe A",null,null,null,null,null,null,null,null,null,null,null,null,null,null,null,null,"Sieger Gruppe B"]
[]
[null,"Nr.",null,null,null,null,null,null,null,"Beginn",null,null,null,null,"2. Halbfinale",null,null,null,null,null,null,null,null,null,null,null,null,null,null,null,null,null,null,null,null,null,null,null,null,null,null,null,null,null,null,null,null,null,"Ergebnis"]
[null,38,null,null,null,null,null,null,null,{"$f":"J100+1*$X$7+1*$AL$7","v":"17:36:00"},null,null,null,null,{"$f":"D87","v":""},{"$f":"IF(ISBLANK(#REF!),\" \",IF(#REF!<#REF!,#REF!,IF(#REF!<#REF!,#REF!)))","v":{"$error":"#REF!"}},{"$f":"IF(ISBLANK(#REF!),\" \",IF(#REF!<#REF!,#REF!,IF(#REF!<#REF!,#REF!)))","v":{"$error":"#REF!"}},{"$f":"IF(ISBLANK(#REF!),\" \",IF(#REF!<#REF!,#REF!,IF(#REF!<#REF!,#REF!)))","v":{"$error":"#REF!"}},{"$f":"IF(ISBLANK(#REF!),\" \",IF(#REF!<#REF!,#REF!,IF(#REF!<#REF!,#REF!)))","v":{"$error":"#REF!"}},{"$f":"IF(ISBLANK(#REF!),\" \",IF(#REF!<#REF!,#REF!,IF(#REF!<#REF!,#REF!)))","v":{"$error":"#REF!"}},{"$f":"IF(ISBLANK(#REF!),\" \",IF(#REF!<#REF!,#REF!,IF(#REF!<#REF!,#REF!)))","v":{"$error":"#REF!"}},{"$f":"IF(ISBLANK(#REF!),\" \",IF(#REF!<#REF!,#REF!,IF(#REF!<#REF!,#REF!)))","v":{"$error":"#REF!"}},{"$f":"IF(ISBLANK(#REF!),\" \",IF(#REF!<#REF!,#REF!,IF(#REF!<#REF!,#REF!)))","v":{"$error":"#REF!"}},{"$f":"IF(ISBLANK(#REF!),\" \",IF(#REF!<#REF!,#REF!,IF(#REF!<#REF!,#REF!)))","v":{"$error":"#REF!"}},{"$f":"IF(ISBLANK(#REF!),\" \",IF(#REF!<#REF!,#REF!,IF(#REF!<#REF!,#REF!)))","v":{"$error":"#REF!"}},{"$f":"IF(ISBLANK(#REF!),\" \",IF(#REF!<#REF!,#REF!,IF(#REF!<#REF!,#REF!)))","v":{"$error":"#REF!"}},{"$f":"IF(ISBLANK(#REF!),\" \",IF(#REF!<#REF!,#REF!,IF(#REF!<#REF!,#REF!)))","v":{"$error":"#REF!"}},{"$f":"IF(ISBLANK(#REF!),\" \",IF(#REF!<#REF!,#REF!,IF(#REF!<#REF!,#REF!)))","v":{"$error":"#REF!"}},{"$f":"IF(ISBLANK(#REF!),\" \",IF(#REF!<#REF!,#REF!,IF(#REF!<#REF!,#REF!)))","v":{"$error":"#REF!"}},{"$f":"IF(ISBLANK(#REF!),\" \",IF(#REF!<#REF!,#REF!,IF(#REF!<#REF!,#REF!)))","v":{"$error":"#REF!"}},"-",{"$f":"AG87","v":""},{"$f":"IF(ISBLANK(#REF!),\" \",IF(#REF!<#REF!,#REF!,IF(#REF!<#REF!,#REF!)))","v":{"$error":"#REF!"}},{"$f":"IF(ISBLANK(#REF!),\" \",IF(#REF!<#REF!,#REF!,IF(#REF!<#REF!,#REF!)))","v":{"$error":"#REF!"}},{"$f":"IF(ISBLANK(#REF!),\" \",IF(#REF!<#REF!,#REF!,IF(#REF!<#REF!,#REF!)))","v":{"$error":"#REF!"}},{"$f":"IF(ISBLANK(#REF!),\" \",IF(#REF!<#REF!,#REF!,IF(#REF!<#REF!,#REF!)))","v":{"$error":"#REF!"}},{"$f":"IF(ISBLANK(#REF!),\" \",IF(#REF!<#REF!,#REF!,IF(#REF!<#REF!,#REF!)))","v":{"$error":"#REF!"}},{"$f":"IF(ISBLANK(#REF!),\" \",IF(#REF!<#REF!,#REF!,IF(#REF!<#REF!,#REF!)))","v":{"$error":"#REF!"}},{"$f":"IF(ISBLANK(#REF!),\" \",IF(#REF!<#REF!,#REF!,IF(#REF!<#REF!,#REF!)))","v":{"$error":"#REF!"}},{"$f":"IF(ISBLANK(#REF!),\" \",IF(#REF!<#REF!,#REF!,IF(#REF!<#REF!,#REF!)))","v":{"$error":"#REF!"}},{"$f":"IF(ISBLANK(#REF!),\" \",IF(#REF!<#REF!,#REF!,IF(#REF!<#REF!,#REF!)))","v":{"$error":"#REF!"}},{"$f":"IF(ISBLANK(#REF!),\" \",IF(#REF!<#REF!,#REF!,IF(#REF!<#REF!,#REF!)))","v":{"$error":"#REF!"}},{"$f":"IF(ISBLANK(#REF!),\" \",IF(#REF!<#REF!,#REF!,IF(#REF!<#REF!,#REF!)))","v":{"$error":"#REF!"}},{"$f":"IF(ISBLANK(#REF!),\" \",IF(#REF!<#REF!,#REF!,IF(#REF!<#REF!,#REF!)))","v":{"$error":"#REF!"}},{"$f":"IF(ISBLANK(#REF!),\" \",IF(#REF!<#REF!,#REF!,IF(#REF!<#REF!,#REF!)))","v":{"$error":"#REF!"}},{"$f":"IF(ISBLANK(#REF!),\" \",IF(#REF!<#REF!,#REF!,IF(#REF!<#REF!,#REF!)))","v":{"$error":"#REF!"}},{"$f":"IF(ISBLANK(#REF!),\" \",IF(#REF!<#REF!,#REF!,IF(#REF!<#REF!,#REF!)))","v":{"$error":"#REF!"}},{"$f":"IF(ISBLANK(#REF!),\" \",IF(#REF!<#REF!,#REF!,IF(#REF!<#REF!,#REF!)))","v":{"$error":"#REF!"}},null,null,":"]
[null,null,null,null,null,null,null,null,null,null,null,null,null,null,"Sieger Gruppe C",null,null,null,null,null,null,null,null,null,null,null,null,null,null,null,null,"Sieger Gruppe D"]
[]
[null,"Nr.",null,null,null,null,null,null,null,"Beginn",null,null,null,null,"Spiel um Platz 3 und 4",null,null,null,null,null,null,null,null,null,null,null,null,null,null,null,null,null,null,null,null,null,null,null,null,null,null,null,null,null,null,null,null,null,"Ergebnis"]
[null,39,null,null,null,null,null,null,null,{"$f":"J104+2*$X$7+2*$AL$7","v":"18:00:00"},null,null,null,null,{"$f":"IF(ISBLANK($AZ$100),\" \",IF($AW$100<$AZ$100,$O$100,IF($AZ$100<$AW$100,$AF$100)))","v":" "},{"$f":"IF(ISBLANK(#REF!),\" \",IF(#REF!<#REF!,#REF!,IF(#REF!<#REF!,#REF!)))","v":{"$error":"#REF!"}},{"$f":"IF(ISBLANK(#REF!),\" \",IF(#REF!<#REF!,#REF!,IF(#REF!<#REF!,#REF!)))","v":{"$error":"#REF!"}},{"$f":"IF(ISBLANK(#REF!),\" \",IF(#REF!<#REF!,#REF!,IF(#REF!<#REF!,#REF!)))","v":{"$error":"#REF!"}},{"$f":"IF(ISBLANK(#REF!),\" \",IF(#REF!<#REF!,#REF!,IF(#REF!<#REF!,#REF!)))","v":{"$error":"#REF!"}},{"$f":"IF(ISBLANK(#REF!),\" \",IF(#REF!<#REF!,#REF!,IF(#REF!<#REF!,#REF!)))","v":{"$error":"#REF!"}},{"$f":"IF(ISBLANK(#REF!),\" \",IF(#REF!<#REF!,#REF!,IF(#REF!<#REF!,#REF!)))","v":{"$error":"#REF!"}},{"$f":"IF(ISBLANK(#REF!),\" \",IF(#REF!<#REF!,#REF!,IF(#REF!<#REF!,#REF!)))","v":{"$error":"#REF!"}},{"$f":"IF(ISBLANK(#REF!),\" \",IF(#REF!<#REF!,#REF!,IF(#REF!<#REF!,#REF!)))","v":{"$error":"#REF!"}},{"$f":"IF(ISBLANK(#REF!),\" \",IF(#REF!<#REF!,#REF!,IF(#REF!<#REF!,#REF!)))","v":{"$error":"#REF!"}},{"$f":"IF(ISBLANK(#REF!),\" \",IF(#REF!<#REF!,#REF!,IF(#REF!<#REF!,#REF!)))","v":{"$error":"#REF!"}},{"$f":"IF(ISBLANK(#REF!),\" \",IF(#REF!<#REF!,#REF!,IF(#REF!<#REF!,#REF!)))","v":{"$error":"#REF!"}},{"$f":"IF(ISBLANK(#REF!),\" \",IF(#REF!<#REF!,#REF!,IF(#REF!<#REF!,#REF!)))","v":{"$error":"#REF!"}},{"$f":"IF(ISBLANK(#REF!),\" \",IF(#REF!<#REF!,#REF!,IF(#REF!<#REF!,#REF!)))","v":{"$error":"#REF!"}},{"$f":"IF(ISBLANK(#REF!),\" \",IF(#REF!<#REF!,#REF!,IF(#REF!<#REF!,#REF!)))","v":{"$error":"#REF!"}},{"$f":"IF(ISBLANK(#REF!),\" \",IF(#REF!<#REF!,#REF!,IF(#REF!<#REF!,#REF!)))","v":{"$error":"#REF!"}},"-",{"$f":"IF(ISBLANK($AZ$104),\" \",IF($AW$104<$AZ$104,$O$104,IF($AZ$104<$AW$104,$AF$104)))","v":" "},{"$f":"IF(ISBLANK(#REF!),\" \",IF(#REF!<#REF!,#REF!,IF(#REF!<#REF!,#REF!)))","v":{"$error":"#REF!"}},{"$f":"IF(ISBLANK(#REF!),\" \",IF(#REF!<#REF!,#REF!,IF(#REF!<#REF!,#REF!)))","v":{"$error":"#REF!"}},{"$f":"IF(ISBLANK(#REF!),\" \",IF(#REF!<#REF!,#REF!,IF(#REF!<#REF!,#REF!)))","v":{"$error":"#REF!"}},{"$f":"IF(ISBLANK(#REF!),\" \",IF(#REF!<#REF!,#REF!,IF(#REF!<#REF!,#REF!)))","v":{"$error":"#REF!"}},{"$f":"IF(ISBLANK(#REF!),\" \",IF(#REF!<#REF!,#REF!,IF(#REF!<#REF!,#REF!)))","v":{"$error":"#REF!"}},{"$f":"IF(ISBLANK(#REF!),\" \",IF(#REF!<#REF!,#REF!,IF(#REF!<#REF!,#REF!)))","v":{"$error":"#REF!"}},{"$f":"IF(ISBLANK(#REF!),\" \",IF(#REF!<#REF!,#REF!,IF(#REF!<#REF!,#REF!)))","v":{"$error":"#REF!"}},{"$f":"IF(ISBLANK(#REF!),\" \",IF(#REF!<#REF!,#REF!,IF(#REF!<#REF!,#REF!)))","v":{"$error":"#REF!"}},{"$f":"IF(ISBLANK(#REF!),\" \",IF(#REF!<#REF!,#REF!,IF(#REF!<#REF!,#REF!)))","v":{"$error":"#REF!"}},{"$f":"IF(ISBLANK(#REF!),\" \",IF(#REF!<#REF!,#REF!,IF(#REF!<#REF!,#REF!)))","v":{"$error":"#REF!"}},{"$f":"IF(ISBLANK(#REF!),\" \",IF(#REF!<#REF!,#REF!,IF(#REF!<#REF!,#REF!)))","v":{"$error":"#REF!"}},{"$f":"IF(ISBLANK(#REF!),\" \",IF(#REF!<#REF!,#REF!,IF(#REF!<#REF!,#REF!)))","v":{"$error":"#REF!"}},{"$f":"IF(ISBLANK(#REF!),\" \",IF(#REF!<#REF!,#REF!,IF(#REF!<#REF!,#REF!)))","v":{"$error":"#REF!"}},{"$f":"IF(ISBLANK(#REF!),\" \",IF(#REF!<#REF!,#REF!,IF(#REF!<#REF!,#REF!)))","v":{"$error":"#REF!"}},{"$f":"IF(ISBLANK(#REF!),\" \",IF(#REF!<#REF!,#REF!,IF(#REF!<#REF!,#REF!)))","v":{"$error":"#REF!"}},{"$f":"IF(ISBLANK(#REF!),\" \",IF(#REF!<#REF!,#REF!,IF(#REF!<#REF!,#REF!)))","v":{"$error":"#REF!"}},null,null,":"]
[null,null,null,null,null,null,null,null,null,null,null,null,null,null,"Verlierer Spiel 37",null,null,null,null,null,null,null,null,null,null,null,null,null,null,null,null,"Verlierer Spiel 38"]
[]
[null,"Nr.",null,null,null,null,null,null,null,"Beginn",null,null,null,null,"Endspiel",null,null,null,null,null,null,null,null,null,null,null,null,null,null,null,null,null,null,null,null,null,null,null,null,null,null,null,null,null,null,null,null,null,"Ergebnis"]
[null,40,null,null,null,null,null,null,null,{"$f":"J108+1*$X$7+1*$AL$7","v":"18:12:00"},null,null,null,null,{"$f":"IF(ISBLANK($AZ$100),\" \",IF($AW$100<$AZ$100,$AF$100,IF($AZ$100<$AW$100,$O$100)))","v":" "},{"$f":"IF(ISBLANK(#REF!),\" \",IF(#REF!<#REF!,#REF!,IF(#REF!<#REF!,#REF!)))","v":{"$error":"#REF!"}},{"$f":"IF(ISBLANK(#REF!),\" \",IF(#REF!<#REF!,#REF!,IF(#REF!<#REF!,#REF!)))","v":{"$error":"#REF!"}},{"$f":"IF(ISBLANK(#REF!),\" \",IF(#REF!<#REF!,#REF!,IF(#REF!<#REF!,#REF!)))","v":{"$error":"#REF!"}},{"$f":"IF(ISBLANK(#REF!),\" \",IF(#REF!<#REF!,#REF!,IF(#REF!<#REF!,#REF!)))","v":{"$error":"#REF!"}},{"$f":"IF(ISBLANK(#REF!),\" \",IF(#REF!<#REF!,#REF!,IF(#REF!<#REF!,#REF!)))","v":{"$error":"#REF!"}},{"$f":"IF(ISBLANK(#REF!),\" \",IF(#REF!<#REF!,#REF!,IF(#REF!<#REF!,#REF!)))","v":{"$error":"#REF!"}},{"$f":"IF(ISBLANK(#REF!),\" \",IF(#REF!<#REF!,#REF!,IF(#REF!<#REF!,#REF!)))","v":{"$error":"#REF!"}},{"$f":"IF(ISBLANK(#REF!),\" \",IF(#REF!<#REF!,#REF!,IF(#REF!<#REF!,#REF!)))","v":{"$error":"#REF!"}},{"$f":"IF(ISBLANK(#REF!),\" \",IF(#REF!<#REF!,#REF!,IF(#REF!<#REF!,#REF!)))","v":{"$error":"#REF!"}},{"$f":"IF(ISBLANK(#REF!),\" \",IF(#REF!<#REF!,#REF!,IF(#REF!<#REF!,#REF!)))","v":{"$error":"#REF!"}},{"$f":"IF(ISBLANK(#REF!),\" \",IF(#REF!<#REF!,#REF!,IF(#REF!<#REF!,#REF!)))","v":{"$error":"#REF!"}},{"$f":"IF(ISBLANK(#REF!),\" \",IF(#REF!<#REF!,#REF!,IF(#REF!<#REF!,#REF!)))","v":{"$error":"#REF!"}},{"$f":"IF(ISBLANK(#REF!),\" \",IF(#REF!<#REF!,#REF!,IF(#REF!<#REF!,#REF!)))","v":{"$error":"#REF!"}},{"$f":"IF(ISBLANK(#REF!),\" \",IF(#REF!<#REF!,#REF!,IF(#REF!<#REF!,#REF!)))","v":{"$error":"#REF!"}},{"$f":"IF(ISBLANK(#REF!),\" \",IF(#REF!<#REF!,#REF!,IF(#REF!<#REF!,#REF!)))","v":{"$error":"#REF!"}},"-",{"$f":"IF(ISBLANK($AZ$104),\" \",IF($AW$104<$AZ$104,$AF$104,IF($AZ$104<$AW$104,$O$104)))","v":" "},{"$f":"IF(ISBLANK(#REF!),\" \",IF(#REF!<#REF!,#REF!,IF(#REF!<#REF!,#REF!)))","v":{"$error":"#REF!"}},{"$f":"IF(ISBLANK(#REF!),\" \",IF(#REF!<#REF!,#REF!,IF(#REF!<#REF!,#REF!)))","v":{"$error":"#REF!"}},{"$f":"IF(ISBLANK(#REF!),\" \",IF(#REF!<#REF!,#REF!,IF(#REF!<#REF!,#REF!)))","v":{"$error":"#REF!"}},{"$f":"IF(ISBLANK(#REF!),\" \",IF(#REF!<#REF!,#REF!,IF(#REF!<#REF!,#REF!)))","v":{"$error":"#REF!"}},{"$f":"IF(ISBLANK(#REF!),\" \",IF(#REF!<#REF!,#REF!,IF(#REF!<#REF!,#REF!)))","v":{"$error":"#REF!"}},{"$f":"IF(ISBLANK(#REF!),\" \",IF(#REF!<#REF!,#REF!,IF(#REF!<#REF!,#REF!)))","v":{"$error":"#REF!"}},{"$f":"IF(ISBLANK(#REF!),\" \",IF(#REF!<#REF!,#REF!,IF(#REF!<#REF!,#REF!)))","v":{"$error":"#REF!"}},{"$f":"IF(ISBLANK(#REF!),\" \",IF(#REF!<#REF!,#REF!,IF(#REF!<#REF!,#REF!)))","v":{"$error":"#REF!"}},{"$f":"IF(ISBLANK(#REF!),\" \",IF(#REF!<#REF!,#REF!,IF(#REF!<#REF!,#REF!)))","v":{"$error":"#REF!"}},{"$f":"IF(ISBLANK(#REF!),\" \",IF(#REF!<#REF!,#REF!,IF(#REF!<#REF!,#REF!)))","v":{"$error":"#REF!"}},{"$f":"IF(ISBLANK(#REF!),\" \",IF(#REF!<#REF!,#REF!,IF(#REF!<#REF!,#REF!)))","v":{"$error":"#REF!"}},{"$f":"IF(ISBLANK(#REF!),\" \",IF(#REF!<#REF!,#REF!,IF(#REF!<#REF!,#REF!)))","v":{"$error":"#REF!"}},{"$f":"IF(ISBLANK(#REF!),\" \",IF(#REF!<#REF!,#REF!,IF(#REF!<#REF!,#REF!)))","v":{"$error":"#REF!"}},{"$f":"IF(ISBLANK(#REF!),\" \",IF(#REF!<#REF!,#REF!,IF(#REF!<#REF!,#REF!)))","v":{"$error":"#REF!"}},{"$f":"IF(ISBLANK(#REF!),\" \",IF(#REF!<#REF!,#REF!,IF(#REF!<#REF!,#REF!)))","v":{"$error":"#REF!"}},{"$f":"IF(ISBLANK(#REF!),\" \",IF(#REF!<#REF!,#REF!,IF(#REF!<#REF!,#REF!)))","v":{"$error":"#REF!"}},null,null,":"]
[null,null,null,null,null,null,null,null,null,null,null,null,null,null,"Sieger Spiel 37",null,null,null,null,null,null,null,null,null,null,null,null,null,null,null,null,"Sieger Spiel 38"]
[]
[null,"VIII. Platzierungen"]
[]
[null,null,null,null,null,null,null,null,"1.",null,null,null,{"$f":"IF(ISBLANK($AZ$112),\" \",IF($AW$112>$AZ$112,$O$112,IF($AZ$112>$AW$112,$AF$112)))","v":" "}]
[null,null,null,null,null,null,null,null,"2.",null,null,null,{"$f":"IF(ISBLANK($AZ$112),\" \",IF($AW$112<$AZ$112,$O$112,IF($AZ$112<$AW$112,$AF$112)))","v":" "}]
[null,null,null,null,null,null,null,null,"3.",null,null,null,{"$f":"IF(ISBLANK($AZ$108),\" \",IF($AW$108>$AZ$108,$O$108,IF($AZ$108>$AW$108,$AF$108)))","v":" "}]
[null,null,null,null,null,null,null,null,"4.",null,null,null,{"$f":"IF(ISBLANK($AZ$108),\" \",IF($AW$108<$AZ$108,$O$108,IF($AZ$108<$AW$108,$AF$108)))","v":" "}]