{"text_format":"1","workbook":"xlsx","n_sheets":3,"sheets":["Gr.1+2","Gr.3+4","Endrunde"],"not_rendered":{"charts":0,"images":6,"macros":1,"external_links":0,"defined_names":3,"comments":0,"pivot_tables":0},"unopened":[],"bounds":{"document_bytes":16777216,"sheet_cells":100000,"rows_first":2000,"rows_last":500,"rows_between":2000,"halvings":0,"cell_chars":16384,"cell_head_chars":4096},"cells_cut":0,"cells_raw":0,"read":"whole","date_system":"1900"}

{"sheet":"Gr.1+2","index":0,"n_rows":53,"n_cols":70,"rows_kept":53,"cut":false,"hidden":false,"merged":[[51,50,51,51],[51,52,51,54],[3,0,3,41],[55,1,55,54],[52,21,52,22],[52,23,52,25],[50,21,50,22],[50,23,50,25],[48,15,48,17],[50,1,50,2],[48,30,48,31],[48,32,48,43],[49,30,49,31],[49,32,49,43],[43,51,43,52],[43,53,43,54],[47,1,47,14],[47,15,47,17],[47,18,47,22],[47,23,47,25],[43,3,43,5],[43,6,43,8],[43,9,43,13],[43,14,43,29],[50,3,50,14],[50,15,50,17],[50,18,50,19],[51,23,51,25],[51,1,51,2],[51,3,51,14],[51,44,51,46],[51,47,51,48],[50,30,50,31],[50,32,50,43],[51,30,51,31],[51,32,51,43],[50,44,50,46],[50,47,50,48],[60,20,60,21],[48,23,48,25],[49,1,49,2],[49,3,49,14],[49,15,49,17],[49,18,49,19],[49,21,49,22],[49,23,49,25],[48,1,48,2],[48,3,48,14],[48,18,48,19],[60,7,60,11],[48,21,48,22],[51,15,51,17],[51,18,51,19],[51,21,51,22],[56,1,56,54],[52,1,52,2],[52,3,52,14],[52,15,52,17],[52,18,52,19],[52,50,52,51],[52,52,52,54],[52,32,52,43],[43,31,43,47],[43,48,43,49],[41,51,41,52],[41,53,41,54],[42,3,42,5],[42,6,42,8],[42,9,42,13],[42,14,42,29],[42,31,42,47],[42,48,42,49],[42,51,42,52],[42,53,42,54],[41,3,41,5],[41,6,41,8],[41,9,41,13],[41,14,41,29],[41,31,41,47],[41,48,41,49],[39,51,39,52],[39,53,39,54],[40,3,40,5],[40,6,40,8],[40,9,40,13],[40,14,40,29],[40,31,40,47],[40,48,40,49],[40,51,40,52],[40,53,40,54],[39,3,39,5],[39,6,39,8],[39,9,39,13],[39,14,39,29],[39,31,39,47],[39,48,39,49],[38,9,38,13],[38,14,38,29],[38,31,38,47],[38,48,38,49],[38,51,38,52],[38,53,38,54],[37,3,37,5],[37,6,37,8],[37,9,37,13],[37,14,37,29],[37,31,37,47],[37,48,37,49],[36,9,36,13],[36,14,36,29],[36,31,36,47],[36,48,36,49],[36,51,36,52],[36,53,36,54],[35,3,35,5],[35,6,35,8],[35,9,35,13],[35,14,35,29],[35,31,35,47],[35,48,35,49],[34,9,34,13],[34,14,34,29],[34,31,34,47],[34,48,34,49],[34,51,34,52],[34,53,34,54],[33,3,33,5],[33,6,33,8],[33,9,33,13],[33,14,33,29],[33,31,33,47],[33,48,33,49],[32,9,32,13],[32,14,32,29],[32,31,32,47],[32,48,32,49],[32,51,32,52],[32,53,32,54],[31,3,31,5],[31,6,31,8],[31,9,31,13],[31,14,31,29],[31,31,31,47],[31,48,31,49],[32,3,32,5],[32,6,32,8],[30,9,30,13],[30,14,30,29],[30,31,30,47],[30,48,30,49],[30,51,30,52],[30,53,30,54],[29,9,29,13],[29,14,29,29],[29,31,29,47],[29,48,29,49],[29,51,29,52],[29,53,29,54],[26,3,26,5],[26,6,26,8],[26,14,26,29],[26,31,26,47],[26,48,26,49],[26,51,26,52],[25,3,25,5],[25,6,25,8],[28,9,28,13],[28,14,28,29],[28,31,28,47],[28,48,28,49],[28,51,28,52],[26,9,26,13],[27,3,27,5],[27,6,27,8],[27,9,27,13],[27,14,27,29],[27,31,27,47],[27,48,27,49],[27,51,27,52],[28,3,28,5],[28,6,28,8],[30,3,30,5],[30,6,30,8],[29,3,29,5],[29,6,29,8],[38,1,38,2],[39,1,39,2],[40,1,40,2],[41,1,41,2],[42,1,42,2],[34,3,34,5],[34,6,34,8],[36,3,36,5],[36,6,36,8],[38,3,38,5],[38,6,38,8],[43,1,43,2],[32,1,32,2],[33,1,33,2],[34,1,34,2],[35,1,35,2],[36,1,36,2],[37,1,37,2],[26,1,26,2],[27,1,27,2],[28,1,28,2],[29,1,29,2],[30,1,30,2],[31,1,31,2],[25,1,25,2],[25,14,25,29],[25,31,25,47],[25,9,25,13],[16,3,16,23],[17,3,17,23],[19,30,19,31],[16,30,16,31],[17,30,17,31],[24,14,24,29],[23,9,23,13],[23,3,23,5],[23,6,23,8],[23,14,23,47],[24,31,24,47],[24,1,24,2],[24,3,24,5],[24,6,24,8],[24,9,24,13],[23,1,23,2],[19,1,19,2],[19,3,19,23],[18,30,18,31],[15,1,15,2],[15,30,15,31],[15,24,15,25],[19,24,19,25],[16,1,16,2],[17,1,17,2],[18,1,18,2],[18,3,18,23],[16,24,16,25],[17,24,17,25],[18,24,18,25],[15,3,15,23],[5,12,5,19],[5,24,5,31],[14,30,14,52],[14,53,14,54],[7,1,7,38],[14,1,14,23],[14,24,14,25],[9,23,9,27],[9,7,9,11],[9,37,9,41],[9,20,9,21],[15,53,15,54],[17,53,17,54],[18,32,18,52],[18,53,18,54],[16,53,16,54],[17,32,17,52],[16,32,16,52],[15,32,15,52],[19,53,19,54],[47,30,47,43],[47,44,47,46],[47,47,47,51],[47,52,47,54],[19,32,19,52],[24,53,24,54],[24,48,24,49],[24,51,24,52],[25,48,25,49],[23,53,23,54],[23,48,23,52],[25,51,25,52],[25,53,25,54],[28,53,28,54],[26,53,26,54],[27,53,27,54],[31,51,31,52],[31,53,31,54],[33,51,33,52],[33,53,33,54],[35,51,35,52],[35,53,35,54],[37,51,37,52],[37,53,37,54],[63,53,63,54],[67,53,67,54],[64,51,65,52],[64,53,65,54],[64,48,65,49],[63,3,63,13],[67,3,67,13],[64,3,65,13],[67,1,67,2],[64,1,65,2],[63,1,63,2],[63,14,63,47],[64,31,64,47],[65,14,65,29],[65,31,65,47],[1,0,2,41],[77,8,77,10],[68,48,69,49],[67,14,67,47],[64,14,64,29],[67,48,67,52],[68,1,69,2],[68,50,69,50],[63,48,63,52],[52,47,52,48],[60,23,60,27],[60,37,60,41],[52,44,52,46],[52,30,52,31],[48,44,48,46],[48,47,48,48],[50,50,50,51],[50,52,50,54],[49,44,49,46],[49,47,49,48],[48,50,48,51],[48,52,48,54],[49,50,49,51],[49,52,49,54],[78,8,78,10],[64,50,65,50],[68,51,69,52],[68,53,69,54],[77,12,77,47],[78,12,78,47],[68,3,69,13],[68,31,68,47],[75,12,75,47],[76,12,76,47],[75,8,75,10],[69,14,69,29],[69,31,69,47],[68,14,68,29],[76,8,76,10]]}
[]
["Stadtsportbund Oberhausen e.V.\nFachschaft Fußball"]
[]
["Alte Herren Ü 35 Hallenfußball Stadtmeisterschaft 2018"]
[]
[null,null,null,null,null,null,null,null,null,null,null,"Am","Samstag",null,null,null,null,null,null,null,", den",null,null,null,"2018-01-20"]
[]
[null,"Sporthalle Willy-Jürissen, Goebenstr., 46045 OB"]
[]
[null,null,null,null,null,null,"Beginn:","10:00:00",null,null,null,null,"Uhr",null,null,null,null,null,null,"Spielzeit:",1,null,"x","00:10:00",null,null,null,null,"min",null,null,null,null,null,null,null,"Pause:","00:02:00",null,null,null,null,"min"]
[]
[]
[null,"I. Teilnehmende Mannschaften"]
[]
[null,"Gruppe 1",null,null,null,null,null,null,null,null,null,null,null,null,null,null,null,null,null,null,null,null,null,null,null,null,null,null,null,null,"Gruppe 2"]
[null,"1.",null,"SpVgg. Sterkrade 06/07",null,null,null,null,null,null,null,null,null,null,null,null,null,null,null,null,null,null,null,null,null,null,null,null,null,null,"1.",null,"DJK Arminia Klosterhardt"]
[null,"2.",null,"SC Glück-Auf Sterkrade",null,null,null,null,null,null,null,null,null,null,null,null,null,null,null,null,null,null,null,null,null,null,null,null,null,null,"2.",null,"SF Sterkrade-Heide 06"]
[null,"3.",null,"TuS Buschhausen 1900",null,null,null,null,null,null,null,null,null,null,null,null,null,null,null,null,null,null,null,null,null,null,null,null,null,null,"3.",null,"Sportgemeinschaft Osterfeld"]
[null,"4.",null,"Sportfreunde Königshardt",null,null,null,null,null,null,null,null,null,null,null,null,null,null,null,null,null,null,null,null,null,null,null,null,null,null,"4.",null,"Ballspielverein Osterfeld"]
[null,"5.",null,"Turnerbund Oberhausen",null,null,null,null,null,null,null,null,null,null,null,null,null,null,null,null,null,null,null,null,null,null,null,null,null,null,"5.",null,"VFR 08 Oberhausen"]
[]
[null,"II. Spielplan Vorrunde"]
[]
[null,"Nr.",null,"Platz",null,null,"Grp.",null,null,"Beginn",null,null,null,null,"Spielpaarung",null,null,null,null,null,null,null,null,null,null,null,null,null,null,null,null,null,null,null,null,null,null,null,null,null,null,null,null,null,null,null,null,null,"Ergebnis",null,null,null,null,null,null,null,null,"Punkte"]
[null,1,null,null,null,null,1,null,null,{"$f":"$H$10","v":"10:00:00"},null,null,null,null,{"$f":"D16","v":"SpVgg. Sterkrade 06/07"},null,null,null,null,null,null,null,null,null,null,null,null,null,null,null,"-",{"$f":"D17","v":"SC Glück-Auf Sterkrade"},null,null,null,null,null,null,null,null,null,null,null,null,null,null,null,null,null,null,":",null,null,null,null,null,null,{"$f":"IF(ISBLANK(AW25),\"0\",IF(AW25>AZ25,3,IF(AW25=AZ25,1,0)))","v":"0"},":",{"$f":"IF(ISBLANK(AZ25),\"0\",IF(AZ25>AW25,3,IF(AZ25=AW25,1,0)))","v":"0"}]
[null,2,null,null,null,null,1,null,null,{"$f":"J25+$U$10*$X$10+$AL$10","v":"10:12:00"},null,null,null,null,{"$f":"D19","v":"Sportfreunde Königshardt"},null,null,null,null,null,null,null,null,null,null,null,null,null,null,null,"-",{"$f":"D18","v":"TuS Buschhausen 1900"},null,null,null,null,null,null,null,null,null,null,null,null,null,null,null,null,null,null,":",null,null,null,null,null,null,"0",":","0"]
[null,3,null,null,null,null,2,null,null,"10:24:00",null,null,null,null,{"$f":"AG16","v":"DJK Arminia Klosterhardt"},null,null,null,null,null,null,null,null,null,null,null,null,null,null,null,"-",{"$f":"AG17","v":"SF Sterkrade-Heide 06"},null,null,null,null,null,null,null,null,null,null,null,null,null,null,null,null,null,null,":",null,null,null,null,null,null,"0",":","0"]
[null,4,null,null,null,null,2,null,null,"10:36:00",null,null,null,null,{"$f":"AG19","v":"Ballspielverein Osterfeld"},null,null,null,null,null,null,null,null,null,null,null,null,null,null,null,"-",{"$f":"AG18","v":"Sportgemeinschaft Osterfeld"},null,null,null,null,null,null,null,null,null,null,null,null,null,null,null,null,null,null,":",null,null,null,null,null,null,"0",":","0"]
[null,5,null,null,null,null,1,null,null,"10:48:00",null,null,null,null,{"$f":"D20","v":"Turnerbund Oberhausen"},null,null,null,null,null,null,null,null,null,null,null,null,null,null,null,"-",{"$f":"D16","v":"SpVgg. Sterkrade 06/07"},null,null,null,null,null,null,null,null,null,null,null,null,null,null,null,null,null,null,":",null,null,null,null,null,null,"0",":","0"]
[null,6,null,null,null,null,1,null,null,"11:00:00",null,null,null,null,{"$f":"D17","v":"SC Glück-Auf Sterkrade"},null,null,null,null,null,null,null,null,null,null,null,null,null,null,null,"-",{"$f":"D19","v":"Sportfreunde Königshardt"},null,null,null,null,null,null,null,null,null,null,null,null,null,null,null,null,null,null,":",null,null,null,null,null,null,"0",":","0"]
[null,7,null,null,null,null,2,null,null,"11:12:00",null,null,null,null,{"$f":"AG20","v":"VFR 08 Oberhausen"},null,null,null,null,null,null,null,null,null,null,null,null,null,null,null,"-",{"$f":"AG16","v":"DJK Arminia Klosterhardt"},null,null,null,null,null,null,null,null,null,null,null,null,null,null,null,null,null,null,":",null,null,null,null,null,null,"0",":","0",null,null,null,null,{"$f":"$D$19","v":"Sportfreunde Königshardt"},{"$f":"SUM($BF$26+$BH$30+$BF$34+$BH$38)","v":0},{"$f":"SUM($AW$26+$AZ$30+$AW$34+$AZ$38)","v":0},":",{"$f":"SUM($AZ$26+$AW$30+$AZ$34+$AW$38)","v":0},{"$f":"SUM(BO31-BQ31)","v":0}]
[null,8,null,null,null,null,2,null,null,"11:24:00",null,null,null,null,{"$f":"AG17","v":"SF Sterkrade-Heide 06"},null,null,null,null,null,null,null,null,null,null,null,null,null,null,null,"-",{"$f":"AG19","v":"Ballspielverein Osterfeld"},null,null,null,null,null,null,null,null,null,null,null,null,null,null,null,null,null,null,":",null,null,null,null,null,null,"0",":","0",null,null,null,null,{"$f":"$D$18","v":"TuS Buschhausen 1900"},{"$f":"SUM($BH$26+$BF$33+$BF$37+$BH$41)","v":0},{"$f":"SUM($AZ$26+$AW$33+$AW$37+$AZ$41)","v":0},":",{"$f":"SUM($AW$26+$AZ$33+$AZ$37+$AW$41)","v":0},{"$f":"SUM(BO32-BQ32)","v":0}]
[null,9,null,null,null,null,1,null,null,"11:36:00",null,null,null,null,{"$f":"D18","v":"TuS Buschhausen 1900"},null,null,null,null,null,null,null,null,null,null,null,null,null,null,null,"-",{"$f":"D20","v":"Turnerbund Oberhausen"},null,null,null,null,null,null,null,null,null,null,null,null,null,null,null,null,null,null,":",null,null,null,null,null,null,"0",":","0",null,null,null,null,{"$f":"$D$20","v":"Turnerbund Oberhausen"},{"$f":"SUM($BF$29+$BH$33+$BF$38+$BH$42)","v":0},{"$f":"SUM($AW$29+$AZ$33+$AW$38+$AZ$42)","v":0},":",{"$f":"SUM($AZ$29+$AW$33+$AZ$38+$AW$42)","v":0},{"$f":"SUM(BO33-BQ33)","v":0}]
[null,10,null,null,null,null,1,null,null,"11:48:00",null,null,null,null,{"$f":"D19","v":"Sportfreunde Königshardt"},null,null,null,null,null,null,null,null,null,null,null,null,null,null,null,"-",{"$f":"D16","v":"SpVgg. Sterkrade 06/07"},null,null,null,null,null,null,null,null,null,null,null,null,null,null,null,null,null,null,":",null,null,null,null,null,null,"0",":","0",null,null,null,null,{"$f":"$D$17","v":"SC Glück-Auf Sterkrade"},{"$f":"SUM($BH$25+$BF$30+$BH$37+$BF$42)","v":0},{"$f":"SUM($AZ$25+$AW$30+$AZ$37+$AW$42)","v":0},":",{"$f":"SUM($AW$25+$AZ$30+$AW$37+$AZ$42)","v":0},{"$f":"SUM(BO34-BQ34)","v":0}]
[null,11,null,null,null,null,2,null,null,"12:00:00",null,null,null,null,{"$f":"AG18","v":"Sportgemeinschaft Osterfeld"},null,null,null,null,null,null,null,null,null,null,null,null,null,null,null,"-",{"$f":"AG20","v":"VFR 08 Oberhausen"},null,null,null,null,null,null,null,null,null,null,null,null,null,null,null,null,null,null,":",null,null,null,null,null,null,"0",":","0",null,null,null,null,{"$f":"$D$16","v":"SpVgg. Sterkrade 06/07"},{"$f":"SUM($BF$25+$BH$29+$BH$34+$BF$41)","v":0},{"$f":"SUM($AW$25+$AZ$29+$AZ$34+$AW$41)","v":0},":",{"$f":"SUM($AZ$25+$AW$29+$AW$34+$AZ$41)","v":0},{"$f":"SUM(BO35-BQ35)","v":0}]
[null,12,null,null,null,null,2,null,null,"12:12:00",null,null,null,null,{"$f":"AG19","v":"Ballspielverein Osterfeld"},null,null,null,null,null,null,null,null,null,null,null,null,null,null,null,"-",{"$f":"AG16","v":"DJK Arminia Klosterhardt"},null,null,null,null,null,null,null,null,null,null,null,null,null,null,null,null,null,null,":",null,null,null,null,null,null,"0",":","0"]
[null,13,null,null,null,null,1,null,null,"12:24:00",null,null,null,null,{"$f":"D18","v":"TuS Buschhausen 1900"},null,null,null,null,null,null,null,null,null,null,null,null,null,null,null,"-",{"$f":"D17","v":"SC Glück-Auf Sterkrade"},null,null,null,null,null,null,null,null,null,null,null,null,null,null,null,null,null,null,":",null,null,null,null,null,null,"0",":","0"]
[null,14,null,null,null,null,1,null,null,"12:36:00",null,null,null,null,{"$f":"D20","v":"Turnerbund Oberhausen"},null,null,null,null,null,null,null,null,null,null,null,null,null,null,null,"-",{"$f":"D19","v":"Sportfreunde Königshardt"},null,null,null,null,null,null,null,null,null,null,null,null,null,null,null,null,null,null,":",null,null,null,null,null,null,"0",":","0",null,null,null,null,{"$f":"$AG$18","v":"Sportgemeinschaft Osterfeld"},{"$f":"SUM($BH$28+$BF$35+$BF$39+$BH$43)","v":0},{"$f":"SUM($AZ$28+$AW$35+$AW$39+$AZ$43)","v":0},":",{"$f":"SUM($AW$28+$AZ$35+$AZ$39+$AW$43)","v":0},{"$f":"SUM(BO38-BQ38)","v":0}]
[null,15,null,null,null,null,2,null,null,"12:48:00",null,null,null,null,{"$f":"AG18","v":"Sportgemeinschaft Osterfeld"},null,null,null,null,null,null,null,null,null,null,null,null,null,null,null,"-",{"$f":"AG17","v":"SF Sterkrade-Heide 06"},null,null,null,null,null,null,null,null,null,null,null,null,null,null,null,null,null,null,":",null,null,null,null,null,null,"0",":","0",null,null,null,null,{"$f":"$AG$17","v":"SF Sterkrade-Heide 06"},{"$f":"SUM($BH$27+$BF$32+$BH$39+$BF$44)","v":0},{"$f":"SUM($AZ$27+$AW$32+$AZ$39+$AW$44)","v":0},":",{"$f":"SUM($AW$27+$AZ$32+$AW$39+$AZ$44)","v":0},{"$f":"SUM(BO39-BQ39)","v":0}]
[null,16,null,null,null,null,2,null,null,"13:00:00",null,null,null,null,{"$f":"AG20","v":"VFR 08 Oberhausen"},null,null,null,null,null,null,null,null,null,null,null,null,null,null,null,"-",{"$f":"AG19","v":"Ballspielverein Osterfeld"},null,null,null,null,null,null,null,null,null,null,null,null,null,null,null,null,null,null,":",null,null,null,null,null,null,"0",":","0",null,null,null,null,{"$f":"$AG$20","v":"VFR 08 Oberhausen"},{"$f":"SUM($BF$31+$BH$35+$BF$40+$BH$44)","v":0},{"$f":"SUM($AW$31+$AZ$35+$AW$40+$AZ$44)","v":0},":",{"$f":"SUM($AZ$31+$AW$35+$AZ$40+$AW$44)","v":0},{"$f":"SUM(BO40-BQ40)","v":0}]
[null,17,null,null,null,null,1,null,null,"13:12:00",null,null,null,null,{"$f":"D16","v":"SpVgg. Sterkrade 06/07"},null,null,null,null,null,null,null,null,null,null,null,null,null,null,null,"-",{"$f":"D18","v":"TuS Buschhausen 1900"},null,null,null,null,null,null,null,null,null,null,null,null,null,null,null,null,null,null,":",null,null,null,null,null,null,"0",":","0",null,null,null,null,{"$f":"$AG$16","v":"DJK Arminia Klosterhardt"},{"$f":"SUM($BF$27+$BH$31+$BH$36+$BF$43)","v":0},{"$f":"SUM($AW$27+$AZ$31+$AZ$36+$AW$43)","v":0},":",{"$f":"SUM($AZ$27+$AW$31+$AW$36+$AZ$43)","v":0},{"$f":"SUM(BO41-BQ41)","v":0}]
[null,18,null,null,null,null,1,null,null,"13:24:00",null,null,null,null,{"$f":"D17","v":"SC Glück-Auf Sterkrade"},null,null,null,null,null,null,null,null,null,null,null,null,null,null,null,"-",{"$f":"D20","v":"Turnerbund Oberhausen"},null,null,null,null,null,null,null,null,null,null,null,null,null,null,null,null,null,null,":",null,null,null,null,null,null,"0",":","0",null,null,null,null,{"$f":"$AG$19","v":"Ballspielverein Osterfeld"},{"$f":"SUM($BF$28+$BH$32+$BF$36+$BH$40)","v":0},{"$f":"SUM($AW$28+$AZ$32+$AW$36+$AZ$40)","v":0},":",{"$f":"SUM($AZ$28+$AW$32+$AZ$36+$AW$40)","v":0},{"$f":"SUM(BO42-BQ42)","v":0}]
[null,19,null,null,null,null,2,null,null,"13:36:00",null,null,null,null,{"$f":"AG16","v":"DJK Arminia Klosterhardt"},null,null,null,null,null,null,null,null,null,null,null,null,null,null,null,"-",{"$f":"AG18","v":"Sportgemeinschaft Osterfeld"},null,null,null,null,null,null,null,null,null,null,null,null,null,null,null,null,null,null,":",null,null,null,null,null,null,"0",":","0"]
[null,20,null,null,null,null,2,null,null,"13:48:00",null,null,null,null,{"$f":"AG17","v":"SF Sterkrade-Heide 06"},null,null,null,null,null,null,null,null,null,null,null,null,null,null,null,"-",{"$f":"AG20","v":"VFR 08 Oberhausen"},null,null,null,null,null,null,null,null,null,null,null,null,null,null,null,null,null,null,":",null,null,null,null,null,null,"0",":","0"]
[]
[null,"III. Abschlußtabellen Vorrunde"]
[]
[null,"Gruppe 1",null,null,null,null,null,null,null,null,null,null,null,null,null,"Pkt.",null,null,"Tore",null,null,null,null,"Diff.",null,null,null,null,null,null,"Gruppe 2",null,null,null,null,null,null,null,null,null,null,null,null,null,"Pkt.",null,null,"Tore",null,null,null,null,"Diff."]
[null,"1.",null,{"$f":"BM31","v":"Sportfreunde Königshardt"},null,null,null,null,null,null,null,null,null,null,null,{"$f":"BN31","v":0},null,null,{"$f":"BO31","v":0},null,":",{"$f":"BQ31","v":0},null,{"$f":"BR31","v":0},null,null,null,null,null,null,"1.",null,{"$f":"BM38","v":"Sportgemeinschaft Osterfeld"},null,null,null,null,null,null,null,null,null,null,null,{"$f":"BN38","v":0},null,null,{"$f":"BO38","v":0},null,":",{"$f":"BQ38","v":0},null,{"$f":"BR38","v":0}]
[null,"2.",null,{"$f":"BM32","v":"TuS Buschhausen 1900"},null,null,null,null,null,null,null,null,null,null,null,{"$f":"BN32","v":0},null,null,{"$f":"BO32","v":0},null,":",{"$f":"BQ32","v":0},null,{"$f":"BR32","v":0},null,null,null,null,null,null,"2.",null,{"$f":"BM39","v":"SF Sterkrade-Heide 06"},null,null,null,null,null,null,null,null,null,null,null,{"$f":"BN39","v":0},null,null,{"$f":"BO39","v":0},null,":",{"$f":"BQ39","v":0},null,{"$f":"BR39","v":0}]
[null,"3.",null,{"$f":"BM33","v":"Turnerbund Oberhausen"},null,null,null,null,null,null,null,null,null,null,null,{"$f":"BN33","v":0},null,null,{"$f":"BO33","v":0},null,":",{"$f":"BQ33","v":0},null,{"$f":"BR33","v":0},null,null,null,null,null,null,"3.",null,{"$f":"BM40","v":"VFR 08 Oberhausen"},null,null,null,null,null,null,null,null,null,null,null,{"$f":"BN40","v":0},null,null,{"$f":"BO40","v":0},null,":",{"$f":"BQ40","v":0},null,{"$f":"BR40","v":0}]
[null,"4.",null,{"$f":"BM34","v":"SC Glück-Auf Sterkrade"},null,null,null,null,null,null,null,null,null,null,null,{"$f":"BN34","v":0},null,null,{"$f":"BO34","v":0},null,":",{"$f":"BQ34","v":0},null,{"$f":"BR34","v":0},null,null,null,null,null,null,"4.",null,{"$f":"BM41","v":"DJK Arminia Klosterhardt"},null,null,null,null,null,null,null,null,null,null,null,{"$f":"BN41","v":0},null,null,{"$f":"BO41","v":0},null,":",{"$f":"BQ41","v":0},null,{"$f":"BR41","v":0}]
[null,"5.",null,{"$f":"BM35","v":"SpVgg. Sterkrade 06/07"},null,null,null,null,null,null,null,null,null,null,null,{"$f":"BN35","v":0},null,null,{"$f":"BO35","v":0},null,":",{"$f":"BQ35","v":0},null,{"$f":"BR35","v":0},null,null,null,null,null,null,"5.",null,{"$f":"BM42","v":"Ballspielverein Osterfeld"},null,null,null,null,null,null,null,null,null,null,null,{"$f":"BN42","v":0},null,null,{"$f":"BO42","v":0},null,":",{"$f":"BQ42","v":0},null,{"$f":"BR42","v":0}]

{"sheet":"Gr.3+4","index":1,"n_rows":53,"n_cols":70,"rows_kept":53,"cut":false,"hidden":false,"merged":[[1,2,2,43],[3,2,3,43],[5,14,5,21],[5,26,5,33],[7,3,7,40],[9,9,9,13],[9,22,9,23],[9,25,9,29],[9,39,9,43],[14,1,14,23],[14,24,14,25],[14,30,14,52],[14,53,14,54],[15,1,15,2],[15,3,15,23],[15,24,15,25],[15,30,15,31],[15,32,15,52],[15,53,15,54],[16,1,16,2],[16,3,16,23],[16,24,16,25],[16,30,16,31],[16,32,16,52],[16,53,16,54],[17,1,17,2],[17,3,17,23],[17,24,17,25],[17,30,17,31],[17,32,17,52],[17,53,17,54],[18,1,18,2],[18,3,18,23],[18,24,18,25],[18,30,18,31],[18,32,18,52],[18,53,18,54],[19,1,19,2],[19,3,19,23],[19,24,19,25],[19,30,19,31],[19,32,19,52],[19,53,19,54],[23,1,23,2],[23,3,23,5],[23,6,23,8],[23,9,23,13],[23,14,23,47],[23,48,23,52],[23,53,23,54],[24,1,24,2],[24,3,24,5],[24,6,24,8],[24,9,24,13],[24,14,24,29],[24,31,24,47],[24,48,24,49],[24,51,24,52],[24,53,24,54],[25,1,25,2],[25,3,25,5],[25,6,25,8],[25,9,25,13],[25,14,25,29],[25,31,25,47],[25,48,25,49],[25,51,25,52],[25,53,25,54],[26,1,26,2],[26,3,26,5],[26,6,26,8],[26,9,26,13],[26,14,26,29],[26,31,26,47],[26,48,26,49],[26,51,26,52],[26,53,26,54],[27,1,27,2],[27,3,27,5],[27,6,27,8],[27,9,27,13],[27,14,27,29],[27,31,27,47],[27,48,27,49],[27,51,27,52],[27,53,27,54],[28,1,28,2],[28,3,28,5],[28,6,28,8],[28,9,28,13],[28,14,28,29],[28,31,28,47],[28,48,28,49],[28,51,28,52],[28,53,28,54],[29,1,29,2],[29,3,29,5],[29,6,29,8],[29,9,29,13],[29,14,29,29],[29,31,29,47],[29,48,29,49],[29,51,29,52],[29,53,29,54],[30,1,30,2],[30,3,30,5],[30,6,30,8],[30,9,30,13],[30,14,30,29],[30,31,30,47],[30,48,30,49],[30,51,30,52],[30,53,30,54],[31,1,31,2],[31,3,31,5],[31,6,31,8],[31,9,31,13],[31,14,31,29],[31,31,31,47],[31,48,31,49],[31,51,31,52],[31,53,31,54],[32,1,32,2],[32,3,32,5],[32,6,32,8],[32,9,32,13],[32,14,32,29],[32,31,32,47],[32,48,32,49],[32,51,32,52],[32,53,32,54],[33,1,33,2],[33,3,33,5],[33,6,33,8],[33,9,33,13],[33,14,33,29],[33,31,33,47],[33,48,33,49],[33,51,33,52],[33,53,33,54],[34,1,34,2],[34,3,34,5],[34,6,34,8],[34,9,34,13],[34,14,34,29],[34,31,34,47],[34,48,34,49],[34,51,34,52],[34,53,34,54],[35,1,35,2],[35,3,35,5],[35,6,35,8],[35,9,35,13],[35,14,35,29],[35,31,35,47],[35,48,35,49],[35,51,35,52],[35,53,35,54],[36,1,36,2],[36,3,36,5],[36,6,36,8],[36,9,36,13],[36,14,36,29],[36,31,36,47],[36,48,36,49],[36,51,36,52],[36,53,36,54],[37,1,37,2],[37,3,37,5],[37,6,37,8],[37,9,37,13],[37,14,37,29],[37,31,37,47],[37,48,37,49],[37,51,37,52],[37,53,37,54],[38,1,38,2],[38,3,38,5],[38,6,38,8],[38,9,38,13],[38,14,38,29],[38,31,38,47],[38,48,38,49],[38,51,38,52],[38,53,38,54],[39,1,39,2],[39,3,39,5],[39,6,39,8],[39,9,39,13],[39,14,39,29],[39,31,39,47],[39,48,39,49],[39,51,39,52],[39,53,39,54],[40,1,40,2],[40,3,40,5],[40,6,40,8],[40,9,40,13],[40,14,40,29],[40,31,40,47],[40,48,40,49],[40,51,40,52],[40,53,40,54],[41,1,41,2],[41,3,41,5],[41,6,41,8],[41,9,41,13],[41,14,41,29],[41,31,41,47],[41,48,41,49],[41,51,41,52],[41,53,41,54],[42,1,42,2],[42,3,42,5],[42,6,42,8],[42,9,42,13],[42,14,42,29],[42,31,42,47],[42,48,42,49],[42,51,42,52],[42,53,42,54],[43,1,43,2],[43,3,43,5],[43,6,43,8],[43,9,43,13],[43,14,43,29],[43,31,43,47],[43,48,43,49],[43,51,43,52],[43,53,43,54],[47,1,47,14],[47,15,47,17],[47,18,47,22],[47,23,47,25],[47,30,47,43],[47,44,47,46],[47,47,47,51],[47,52,47,54],[48,1,48,2],[48,3,48,14],[48,15,48,17],[48,18,48,19],[48,21,48,22],[48,23,48,25],[48,30,48,31],[48,32,48,43],[48,44,48,46],[48,47,48,48],[48,50,48,51],[48,52,48,54],[49,47,49,48],[49,50,49,51],[49,52,49,54],[50,1,50,2],[50,3,50,14],[50,15,50,17],[50,18,50,19],[50,21,50,22],[50,23,50,25],[50,30,50,31],[50,32,50,43],[50,44,50,46],[50,47,50,48],[50,50,50,51],[50,52,50,54],[49,1,49,2],[49,3,49,14],[49,15,49,17],[49,18,49,19],[49,21,49,22],[49,23,49,25],[49,30,49,31],[49,32,49,43],[49,44,49,46],[51,47,51,48],[51,50,51,51],[51,52,51,54],[52,1,52,2],[52,3,52,14],[52,15,52,17],[52,18,52,19],[52,21,52,22],[52,23,52,25],[52,30,52,31],[52,32,52,43],[52,44,52,46],[52,47,52,48],[52,50,52,51],[52,52,52,54],[51,1,51,2],[51,3,51,14],[51,15,51,17],[51,18,51,19],[51,21,51,22],[51,23,51,25],[51,30,51,31],[51,32,51,43],[51,44,51,46],[55,1,55,54],[56,1,56,54],[60,7,60,11],[60,20,60,21],[60,23,60,27],[60,37,60,41],[63,1,63,2],[63,3,63,13],[63,14,63,47],[63,48,63,52],[63,53,63,54],[64,1,65,2],[64,3,65,13],[64,14,64,29],[64,31,64,47],[64,48,65,49],[64,50,65,50],[64,51,65,52],[64,53,65,54],[65,14,65,29],[65,31,65,47],[67,48,67,52],[67,53,67,54],[68,1,69,2],[68,3,69,13],[68,14,68,29],[68,31,68,47],[68,48,69,49],[68,50,69,50],[68,51,69,52],[68,53,69,54],[69,14,69,29],[69,31,69,47],[75,8,75,10],[75,12,75,47],[76,8,76,10],[76,12,76,47],[77,8,77,10],[77,12,77,47],[78,8,78,10],[78,12,78,47],[67,1,67,2],[67,3,67,13],[67,14,67,47]]}
[]
[null,null,"Stadtsportbund Oberhausen e.V.\nFachschaft Fußball"]
[]
[null,null,"Alte Herren Ü 35 Hallenfußball Stadtmeisterschaft 2018"]
[]
[null,null,null,null,null,null,null,null,null,null,null,null,null,"Am","Samstag",null,null,null,null,null,null,null,", den",null,null,null,"2018-01-20"]
[]
[null,null,null,"Sporthalle Willy-Jürissen, Goebenstr., 46045 OB"]
[]
[null,null,null,null,null,null,null,null,"Beginn:","14:15:00",null,null,null,null,"Uhr",null,null,null,null,null,null,"Spielzeit:",1,null,"x","00:10:00",null,null,null,null,"min",null,null,null,null,null,null,null,"Pause:","00:02:00",null,null,null,null,"min"]
[]
[]
[null,"I. Teilnehmende Mannschaften"]
[]
[null,"Gruppe 3",null,null,null,null,null,null,null,null,null,null,null,null,null,null,null,null,null,null,null,null,null,null,null,null,null,null,null,null,"Gruppe 4"]
[null,"1.",null,"DJK Arminia Lirich 1920",null,null,null,null,null,null,null,null,null,null,null,null,null,null,null,null,null,null,null,null,null,null,null,null,null,null,"1.",null,"SpVgg. Sterkrade-Nord 1920/25"]
[null,"2.",null,"Blau-Weiß Oberhausen",null,null,null,null,null,null,null,null,null,null,null,null,null,null,null,null,null,null,null,null,null,null,null,null,null,null,"2.",null,"Grün-Weiß Holten"]
[null,"3.",null,"BKV Oberhausen",null,null,null,null,null,null,null,null,null,null,null,null,null,null,null,null,null,null,null,null,null,null,null,null,null,null,"3.",null,"PSV Oberhausen"]
[null,"4.",null,"Schwarz-Weiß Alstaden",null,null,null,null,null,null,null,null,null,null,null,null,null,null,null,null,null,null,null,null,null,null,null,null,null,null,"4.",null,"SR.Kreis Oberh/Bott."]
[null,"5.",null,"SC 1920 Oberhausen",null,null,null,null,null,null,null,null,null,null,null,null,null,null,null,null,null,null,null,null,null,null,null,null,null,null,"5.",null,"SV Sarajevo OB"]
[]
[null,"II. Spielplan Vorrunde"]
[]
[null,"Nr.",null,null,null,null,"Grp.",null,null,"Beginn",null,null,null,null,"Spielpaarung",null,null,null,null,null,null,null,null,null,null,null,null,null,null,null,null,null,null,null,null,null,null,null,null,null,null,null,null,null,null,null,null,null,"Ergebnis",null,null,null,null,null,null,null,null,"Punkte"]
[null,21,null,null,null,null,"A",null,null,{"$f":"$J$10","v":"14:15:00"},null,null,null,null,{"$f":"D16","v":"DJK Arminia Lirich 1920"},null,null,null,null,null,null,null,null,null,null,null,null,null,null,null,"-",{"$f":"D17","v":"Blau-Weiß Oberhausen"},null,null,null,null,null,null,null,null,null,null,null,null,null,null,null,null,null,null,":",null,null,null,null,null,null,{"$f":"IF(ISBLANK(AW25),\"0\",IF(AW25>AZ25,3,IF(AW25=AZ25,1,0)))","v":"0"},":",{"$f":"IF(ISBLANK(AZ25),\"0\",IF(AZ25>AW25,3,IF(AZ25=AW25,1,0)))","v":"0"}]
[null,22,null,null,null,null,3,null,null,{"$f":"J25+$W$10*$Z$10+$AN$10","v":"14:27:00"},null,null,null,null,{"$f":"D19","v":"Schwarz-Weiß Alstaden"},null,null,null,null,null,null,null,null,null,null,null,null,null,null,null,"-",{"$f":"D18","v":"BKV Oberhausen"},null,null,null,null,null,null,null,null,null,null,null,null,null,null,null,null,null,null,":",null,null,null,null,null,null,"0",":","0"]
[null,23,null,null,null,null,4,null,null,"14:39:00",null,null,null,null,{"$f":"AG16","v":"SpVgg. Sterkrade-Nord 1920/25"},null,null,null,null,null,null,null,null,null,null,null,null,null,null,null,"-",{"$f":"AG17","v":"Grün-Weiß Holten"},null,null,null,null,null,null,null,null,null,null,null,null,null,null,null,null,null,null,":",null,null,null,null,null,null,"0",":","0"]
[null,24,null,null,null,null,4,null,null,"14:51:00",null,null,null,null,{"$f":"AG19","v":"SR.Kreis Oberh/Bott."},null,null,null,null,null,null,null,null,null,null,null,null,null,null,null,"-",{"$f":"AG18","v":"PSV Oberhausen"},null,null,null,null,null,null,null,null,null,null,null,null,null,null,null,null,null,null,":",null,null,null,null,null,null,"0",":","0"]
[null,25,null,null,null,null,3,null,null,"15:03:00",null,null,null,null,{"$f":"D20","v":"SC 1920 Oberhausen"},null,null,null,null,null,null,null,null,null,null,null,null,null,null,null,"-",{"$f":"D16","v":"DJK Arminia Lirich 1920"},null,null,null,null,null,null,null,null,null,null,null,null,null,null,null,null,null,null,":",null,null,null,null,null,null,"0",":","0"]
[null,26,null,null,null,null,3,null,null,"15:15:00",null,null,null,null,{"$f":"D17","v":"Blau-Weiß Oberhausen"},null,null,null,null,null,null,null,null,null,null,null,null,null,null,null,"-",{"$f":"D19","v":"Schwarz-Weiß Alstaden"},null,null,null,null,null,null,null,null,null,null,null,null,null,null,null,null,null,null,":",null,null,null,null,null,null,"0",":","0"]
[null,27,null,null,null,null,4,null,null,"15:27:00",null,null,null,null,{"$f":"AG20","v":"SV Sarajevo OB"},null,null,null,null,null,null,null,null,null,null,null,null,null,null,null,"-",{"$f":"AG16","v":"SpVgg. Sterkrade-Nord 1920/25"},null,null,null,null,null,null,null,null,null,null,null,null,null,null,null,null,null,null,":",null,null,null,null,null,null,"0",":","0",null,null,null,null,{"$f":"$D$16","v":"DJK Arminia Lirich 1920"},{"$f":"SUM($BF$25+$BH$29+$BH$34+$BF$41)","v":0},{"$f":"SUM($AW$25+$AZ$29+$AZ$34+$AW$41)","v":0},":",{"$f":"SUM($AZ$25+$AW$29+$AW$34+$AZ$41)","v":0},{"$f":"SUM(BO31-BQ31)","v":0}]
[null,28,null,null,null,null,4,null,null,"15:39:00",null,null,null,null,{"$f":"AG17","v":"Grün-Weiß Holten"},null,null,null,null,null,null,null,null,null,null,null,null,null,null,null,"-",{"$f":"AG19","v":"SR.Kreis Oberh/Bott."},null,null,null,null,null,null,null,null,null,null,null,null,null,null,null,null,null,null,":",null,null,null,null,null,null,"0",":","0",null,null,null,null,{"$f":"$D$19","v":"Schwarz-Weiß Alstaden"},{"$f":"SUM($BF$26+$BH$30+$BF$34+$BH$38)","v":0},{"$f":"SUM($AW$26+$AZ$30+$AW$34+$AZ$38)","v":0},":",{"$f":"SUM($AZ$26+$AW$30+$AZ$34+$AW$38)","v":0},{"$f":"SUM(BO32-BQ32)","v":0}]
[null,29,null,null,null,null,3,null,null,"15:51:00",null,null,null,null,{"$f":"D18","v":"BKV Oberhausen"},null,null,null,null,null,null,null,null,null,null,null,null,null,null,null,"-",{"$f":"D20","v":"SC 1920 Oberhausen"},null,null,null,null,null,null,null,null,null,null,null,null,null,null,null,null,null,null,":",null,null,null,null,null,null,"0",":","0",null,null,null,null,{"$f":"$D$18","v":"BKV Oberhausen"},{"$f":"SUM($BH$26+$BF$33+$BF$37+$BH$41)","v":0},{"$f":"SUM($AZ$26+$AW$33+$AW$37+$AZ$41)","v":0},":",{"$f":"SUM($AW$26+$AZ$33+$AZ$37+$AW$41)","v":0},{"$f":"SUM(BO33-BQ33)","v":0}]
[null,30,null,null,null,null,3,null,null,"16:03:00",null,null,null,null,{"$f":"D19","v":"Schwarz-Weiß Alstaden"},null,null,null,null,null,null,null,null,null,null,null,null,null,null,null,"-",{"$f":"D16","v":"DJK Arminia Lirich 1920"},null,null,null,null,null,null,null,null,null,null,null,null,null,null,null,null,null,null,":",null,null,null,null,null,null,"0",":","0",null,null,null,null,{"$f":"$D$17","v":"Blau-Weiß Oberhausen"},{"$f":"SUM($BH$25+$BF$30+$BH$37+$BF$42)","v":0},{"$f":"SUM($AZ$25+$AW$30+$AZ$37+$AW$42)","v":0},":",{"$f":"SUM($AW$25+$AZ$30+$AW$37+$AZ$42)","v":0},{"$f":"SUM(BO34-BQ34)","v":0}]
[null,31,null,null,null,null,4,null,null,"16:15:00",null,null,null,null,{"$f":"AG18","v":"PSV Oberhausen"},null,null,null,null,null,null,null,null,null,null,null,null,null,null,null,"-",{"$f":"AG20","v":"SV Sarajevo OB"},null,null,null,null,null,null,null,null,null,null,null,null,null,null,null,null,null,null,":",null,null,null,null,null,null,"0",":","0",null,null,null,null,{"$f":"$D$20","v":"SC 1920 Oberhausen"},{"$f":"SUM($BF$29+$BH$33+$BF$38+$BH$42)","v":0},{"$f":"SUM($AW$29+$AZ$33+$AW$38+$AZ$42)","v":0},":",{"$f":"SUM($AZ$29+$AW$33+$AZ$38+$AW$42)","v":0},{"$f":"SUM(BO35-BQ35)","v":0}]
[null,32,null,null,null,null,4,null,null,"16:27:00",null,null,null,null,{"$f":"AG19","v":"SR.Kreis Oberh/Bott."},null,null,null,null,null,null,null,null,null,null,null,null,null,null,null,"-",{"$f":"AG16","v":"SpVgg. Sterkrade-Nord 1920/25"},null,null,null,null,null,null,null,null,null,null,null,null,null,null,null,null,null,null,":",null,null,null,null,null,null,"0",":","0"]
[null,33,null,null,null,null,3,null,null,"16:39:00",null,null,null,null,{"$f":"D18","v":"BKV Oberhausen"},null,null,null,null,null,null,null,null,null,null,null,null,null,null,null,"-",{"$f":"D17","v":"Blau-Weiß Oberhausen"},null,null,null,null,null,null,null,null,null,null,null,null,null,null,null,null,null,null,":",null,null,null,null,null,null,"0",":","0"]
[null,34,null,null,null,null,3,null,null,"16:51:00",null,null,null,null,{"$f":"D20","v":"SC 1920 Oberhausen"},null,null,null,null,null,null,null,null,null,null,null,null,null,null,null,"-",{"$f":"D19","v":"Schwarz-Weiß Alstaden"},null,null,null,null,null,null,null,null,null,null,null,null,null,null,null,null,null,null,":",null,null,null,null,null,null,"0",":","0",null,null,null,null,{"$f":"$AG$18","v":"PSV Oberhausen"},{"$f":"SUM($BH$28+$BF$35+$BF$39+$BH$43)","v":0},{"$f":"SUM($AZ$28+$AW$35+$AW$39+$AZ$43)","v":0},":",{"$f":"SUM($AW$28+$AZ$35+$AZ$39+$AW$43)","v":0},{"$f":"SUM(BO38-BQ38)","v":0}]
[null,35,null,null,null,null,4,null,null,"17:03:00",null,null,null,null,{"$f":"AG18","v":"PSV Oberhausen"},null,null,null,null,null,null,null,null,null,null,null,null,null,null,null,"-",{"$f":"AG17","v":"Grün-Weiß Holten"},null,null,null,null,null,null,null,null,null,null,null,null,null,null,null,null,null,null,":",null,null,null,null,null,null,"0",":","0",null,null,null,null,{"$f":"$AG$19","v":"SR.Kreis Oberh/Bott."},{"$f":"SUM($BF$28+$BH$32+$BF$36+$BH$40)","v":0},{"$f":"SUM($AW$28+$AZ$32+$AW$36+$AZ$40)","v":0},":",{"$f":"SUM($AZ$28+$AW$32+$AZ$36+$AW$40)","v":0},{"$f":"SUM(BO39-BQ39)","v":0}]
[null,36,null,null,null,null,4,null,null,"17:15:00",null,null,null,null,{"$f":"AG20","v":"SV Sarajevo OB"},null,null,null,null,null,null,null,null,null,null,null,null,null,null,null,"-",{"$f":"AG19","v":"SR.Kreis Oberh/Bott."},null,null,null,null,null,null,null,null,null,null,null,null,null,null,null,null,null,null,":",null,null,null,null,null,null,"0",":","0",null,null,null,null,{"$f":"$AG$17","v":"Grün-Weiß Holten"},{"$f":"SUM($BH$27+$BF$32+$BH$39+$BF$44)","v":0},{"$f":"SUM($AZ$27+$AW$32+$AZ$39+$AW$44)","v":0},":",{"$f":"SUM($AW$27+$AZ$32+$AW$39+$AZ$44)","v":0},{"$f":"SUM(BO40-BQ40)","v":0}]
[null,37,null,null,null,null,3,null,null,"17:27:00",null,null,null,null,{"$f":"D16","v":"DJK Arminia Lirich 1920"},null,null,null,null,null,null,null,null,null,null,null,null,null,null,null,"-",{"$f":"D18","v":"BKV Oberhausen"},null,null,null,null,null,null,null,null,null,null,null,null,null,null,null,null,null,null,":",null,null,null,null,null,null,"0",":","0",null,null,null,null,{"$f":"$AG$16","v":"SpVgg. Sterkrade-Nord 1920/25"},{"$f":"SUM($BF$27+$BH$31+$BH$36+$BF$43)","v":0},{"$f":"SUM($AW$27+$AZ$31+$AZ$36+$AW$43)","v":0},":",{"$f":"SUM($AZ$27+$AW$31+$AW$36+$AZ$43)","v":0},{"$f":"SUM(BO41-BQ41)","v":0}]
[null,38,null,null,null,null,3,null,null,"17:39:00",null,null,null,null,{"$f":"D17","v":"Blau-Weiß Oberhausen"},null,null,null,null,null,null,null,null,null,null,null,null,null,null,null,"-",{"$f":"D20","v":"SC 1920 Oberhausen"},null,null,null,null,null,null,null,null,null,null,null,null,null,null,null,null,null,null,":",null,null,null,null,null,null,"0",":","0",null,null,null,null,{"$f":"$AG$20","v":"SV Sarajevo OB"},{"$f":"SUM($BF$31+$BH$35+$BF$40+$BH$44)","v":0},{"$f":"SUM($AW$31+$AZ$35+$AW$40+$AZ$44)","v":0},":",{"$f":"SUM($AZ$31+$AW$35+$AZ$40+$AW$44)","v":0},{"$f":"SUM(BO42-BQ42)","v":0}]
[null,39,null,null,null,null,4,null,null,"17:51:00",null,null,null,null,{"$f":"AG16","v":"SpVgg. Sterkrade-Nord 1920/25"},null,null,null,null,null,null,null,null,null,null,null,null,null,null,null,"-",{"$f":"AG18","v":"PSV Oberhausen"},null,null,null,null,null,null,null,null,null,null,null,null,null,null,null,null,null,null,":",null,null,null,null,null,null,"0",":","0"]
[null,40,null,null,null,null,4,null,null,"18:03:00",null,null,null,null,{"$f":"AG17","v":"Grün-Weiß Holten"},null,null,null,null,null,null,null,null,null,null,null,null,null,null,null,"-",{"$f":"AG20","v":"SV Sarajevo OB"},null,null,null,null,null,null,null,null,null,null,null,null,null,null,null,null,null,null,":",null,null,null,null,null,null,"0",":","0"]
[]
[null,"III. Abschlußtabellen Vorrunde"]
[]
[null,"Gruppe 3",null,null,null,null,null,null,null,null,null,null,null,null,null,"Pkt.",null,null,"Tore",null,null,null,null,"Diff.",null,null,null,null,null,null,"Gruppe 4",null,null,null,null,null,null,null,null,null,null,null,null,null,"Pkt.",null,null,"Tore",null,null,null,null,"Diff."]
[null,"1.",null,{"$f":"BM31","v":"DJK Arminia Lirich 1920"},null,null,null,null,null,null,null,null,null,null,null,{"$f":"BN31","v":0},null,null,{"$f":"BO31","v":0},null,":",{"$f":"BQ31","v":0},null,{"$f":"BR31","v":0},null,null,null,null,null,null,"1.",null,{"$f":"BM38","v":"PSV Oberhausen"},null,null,null,null,null,null,null,null,null,null,null,{"$f":"BN38","v":0},null,null,{"$f":"BO38","v":0},null,":",{"$f":"BQ38","v":0},null,{"$f":"BR38","v":0}]
[null,"2.",null,{"$f":"BM32","v":"Schwarz-Weiß Alstaden"},null,null,null,null,null,null,null,null,null,null,null,{"$f":"BN32","v":0},null,null,{"$f":"BO32","v":0},null,":",{"$f":"BQ32","v":0},null,{"$f":"BR32","v":0},null,null,null,null,null,null,"2.",null,{"$f":"BM39","v":"SR.Kreis Oberh/Bott."},null,null,null,null,null,null,null,null,null,null,null,{"$f":"BN39","v":0},null,null,{"$f":"BO39","v":0},null,":",{"$f":"BQ39","v":0},null,{"$f":"BR39","v":0}]
[null,"3.",null,{"$f":"BM33","v":"BKV Oberhausen"},null,null,null,null,null,null,null,null,null,null,null,{"$f":"BN33","v":0},null,null,{"$f":"BO33","v":0},null,":",{"$f":"BQ33","v":0},null,{"$f":"BR33","v":0},null,null,null,null,null,null,"3.",null,{"$f":"BM40","v":"Grün-Weiß Holten"},null,null,null,null,null,null,null,null,null,null,null,{"$f":"BN40","v":0},null,null,{"$f":"BO40","v":0},null,":",{"$f":"BQ40","v":0},null,{"$f":"BR40","v":0}]
[null,"4.",null,{"$f":"BM34","v":"Blau-Weiß Oberhausen"},null,null,null,null,null,null,null,null,null,null,null,{"$f":"BN34","v":0},null,null,{"$f":"BO34","v":0},null,":",{"$f":"BQ34","v":0},null,{"$f":"BR34","v":0},null,null,null,null,null,null,"4.",null,{"$f":"BM41","v":"SpVgg. Sterkrade-Nord 1920/25"},null,null,null,null,null,null,null,null,null,null,null,{"$f":"BN41","v":0},null,null,{"$f":"BO41","v":0},null,":",{"$f":"BQ41","v":0},null,{"$f":"BR41","v":0}]
[null,"5.",null,{"$f":"BM35","v":"SC 1920 Oberhausen"},null,null,null,null,null,null,null,null,null,null,null,{"$f":"BN35","v":0},null,null,{"$f":"BO35","v":0},null,":",{"$f":"BQ35","v":0},null,{"$f":"BR35","v":0},null,null,null,null,null,null,"5.",null,{"$f":"BM42","v":"SV Sarajevo OB"},null,null,null,null,null,null,null,null,null,null,null,{"$f":"BN42","v":0},null,null,{"$f":"BO42","v":0},null,":",{"$f":"BQ42","v":0},null,{"$f":"BR42","v":0}]

{"sheet":"Endrunde","index":2,"n_rows":106,"n_cols":88,"rows_kept":106,"cut":false,"hidden":false,"merged":[[88,1,88,2],[88,3,88,8],[88,9,88,13],[88,14,88,47],[88,48,88,52],[88,53,88,54],[89,48,90,49],[89,50,90,50],[89,51,90,52],[85,31,85,47],[85,53,86,54],[86,14,86,29],[86,31,86,47],[89,31,89,47],[97,53,98,54],[64,9,64,54],[85,48,86,49],[89,1,90,2],[89,3,90,8],[89,14,89,29],[90,14,90,29],[89,53,90,54],[89,9,90,13],[84,53,84,54],[81,1,82,2],[85,50,86,50],[85,51,86,52],[85,1,86,2],[85,3,86,8],[85,9,86,13],[85,14,85,29],[81,50,82,50],[81,51,82,52],[81,9,82,13],[81,14,81,29],[81,31,81,47],[81,53,82,54],[78,31,78,47],[76,1,76,2],[76,3,76,8],[76,9,76,13],[77,53,78,54],[80,48,80,52],[80,53,80,54],[82,14,82,29],[82,31,82,47],[76,48,76,52],[76,53,76,54],[77,1,78,2],[77,3,78,8],[77,14,77,29],[77,31,77,47],[77,48,78,49],[77,50,78,50],[54,50,54,51],[54,52,54,54],[53,44,53,46],[80,1,80,2],[80,3,80,8],[80,9,80,13],[77,9,78,13],[77,51,78,52],[78,14,78,29],[59,29,59,31],[53,30,53,31],[53,32,53,43],[54,30,54,31],[59,35,59,36],[58,37,58,39],[59,32,59,33],[53,50,53,51],[53,52,53,54],[55,1,55,2],[56,1,56,2],[73,48,74,49],[73,50,74,50],[70,31,70,47],[55,3,55,14],[55,15,55,17],[56,3,56,14],[56,15,56,17],[55,18,55,19],[59,17,59,28],[56,21,56,22],[56,23,56,25],[55,23,55,25],[55,21,55,22],[58,15,58,28],[56,18,56,19],[45,3,45,5],[45,6,45,8],[45,9,45,13],[46,3,46,5],[46,6,46,8],[46,9,46,13],[39,3,39,5],[39,6,39,8],[39,9,39,13],[44,3,44,5],[44,6,44,8],[43,3,43,5],[43,6,43,8],[42,3,42,5],[42,6,42,8],[41,3,41,5],[41,6,41,8],[54,1,54,2],[54,3,54,14],[54,15,54,17],[52,1,52,14],[52,15,52,17],[52,18,52,22],[52,23,52,25],[53,1,53,2],[53,3,53,14],[22,38,22,39],[54,18,54,19],[53,18,53,19],[53,21,53,22],[53,23,53,25],[54,21,54,22],[54,23,54,25],[53,15,53,17],[45,14,45,29],[45,31,45,47],[46,14,46,29],[46,31,46,47],[38,31,38,47],[39,14,39,29],[39,31,39,47],[34,14,34,29],[24,38,24,39],[42,14,42,29],[42,31,42,47],[38,14,38,29],[46,48,46,49],[46,51,46,52],[46,53,46,54],[44,48,44,49],[44,51,44,52],[44,53,44,54],[43,9,43,13],[43,14,43,29],[43,31,43,47],[43,48,43,49],[43,51,43,52],[43,53,43,54],[44,9,44,13],[44,14,44,29],[44,31,44,47],[45,48,45,49],[45,51,45,52],[45,53,45,54],[42,48,42,49],[42,51,42,52],[42,53,42,54],[41,9,41,13],[41,14,41,29],[41,31,41,47],[41,48,41,49],[41,51,41,52],[41,53,41,54],[42,9,42,13],[40,48,40,49],[40,51,40,52],[40,53,40,54],[37,9,37,13],[37,14,37,29],[37,31,37,47],[38,48,38,49],[36,31,36,47],[36,9,36,13],[36,14,36,29],[38,9,38,13],[38,51,38,52],[38,53,38,54],[39,53,39,54],[40,9,40,13],[40,14,40,29],[40,31,40,47],[36,53,36,54],[39,48,39,49],[39,51,39,52],[35,51,35,52],[35,53,35,54],[34,3,34,5],[32,9,32,13],[32,14,32,29],[35,3,35,5],[35,6,35,8],[34,53,34,54],[35,9,35,13],[35,14,35,29],[35,31,35,47],[35,48,35,49],[34,6,34,8],[34,9,34,13],[37,3,37,5],[37,6,37,8],[38,3,38,5],[38,6,38,8],[36,3,36,5],[31,53,31,54],[31,3,31,5],[31,1,31,2],[31,14,31,29],[31,31,31,47],[33,51,33,52],[33,53,33,54],[37,51,37,52],[37,53,37,54],[37,48,37,49],[33,9,33,13],[33,14,33,29],[32,53,32,54],[31,48,31,49],[31,51,31,52],[34,31,34,47],[33,31,33,47],[33,48,33,49],[32,31,32,47],[32,48,32,49],[32,51,32,52],[34,48,34,49],[34,51,34,52],[36,51,36,52],[37,1,37,2],[38,1,38,2],[31,6,31,8],[35,1,35,2],[36,1,36,2],[36,6,36,8],[31,9,31,13],[40,3,40,5],[40,6,40,8],[32,3,32,5],[29,31,29,47],[29,1,29,2],[29,3,29,5],[29,6,29,8],[29,9,29,13],[23,38,23,39],[29,53,29,54],[30,1,30,2],[30,14,30,29],[30,53,30,54],[29,51,29,52],[30,48,30,49],[30,51,30,52],[30,31,30,47],[29,48,29,49],[46,1,46,2],[39,1,39,2],[40,1,40,2],[41,1,41,2],[42,1,42,2],[43,1,43,2],[44,1,44,2],[45,1,45,2],[24,15,24,16],[29,14,29,29],[28,1,28,2],[28,6,28,8],[28,3,28,5],[28,9,28,13],[28,14,28,47],[32,6,32,8],[30,9,30,13],[32,1,32,2],[33,1,33,2],[34,1,34,2],[33,3,33,5],[33,6,33,8],[30,3,30,5],[30,6,30,8],[16,1,16,2],[15,3,15,23],[18,24,18,25],[16,3,16,23],[17,3,17,23],[15,1,15,2],[16,24,16,25],[17,24,17,25],[17,1,17,2],[18,1,18,2],[18,3,18,23],[16,32,16,52],[15,32,15,52],[18,30,18,31],[15,30,15,31],[16,30,16,31],[17,30,17,31],[28,53,28,54],[28,48,28,52],[20,15,20,39],[15,53,15,54],[17,53,17,54],[18,32,18,52],[18,53,18,54],[16,53,16,54],[17,32,17,52],[24,17,24,37],[15,24,15,25],[23,15,23,16],[21,15,21,16],[23,17,23,37],[21,17,21,37],[21,38,21,39],[22,15,22,16],[22,17,22,37],[9,20,9,21],[14,1,14,25],[14,30,14,54],[9,23,9,27],[9,7,9,11],[9,37,9,41],[1,2,2,43],[3,2,3,43],[5,14,5,21],[5,26,5,33],[7,3,7,40],[96,1,96,2],[96,3,96,8],[96,9,96,13],[96,14,96,47],[97,1,98,2],[97,3,98,8],[97,14,97,29],[98,14,98,29],[97,31,97,47],[93,1,94,2],[93,3,94,8],[93,14,93,29],[94,14,94,29],[84,1,84,2],[84,3,84,8],[84,9,84,13],[73,53,74,54],[92,1,92,2],[92,3,92,8],[92,9,92,13],[92,14,92,47],[92,48,92,52],[92,53,92,54],[73,1,74,2],[73,3,74,8],[73,9,74,13],[80,14,80,47],[74,31,74,47],[81,48,82,49],[84,14,84,47],[84,48,84,52],[90,31,90,47],[73,14,73,29],[52,78,52,80],[69,53,70,54],[68,9,68,13],[68,14,68,47],[61,17,61,28],[68,53,68,54],[59,37,59,39],[56,44,56,46],[60,29,60,31],[60,32,60,33],[60,35,60,36],[68,48,68,52],[56,47,56,48],[68,76,68,92],[69,48,70,49],[69,50,70,50],[52,30,52,43],[52,44,52,46],[52,47,52,51],[52,52,52,54],[54,32,54,43],[56,78,56,80],[62,37,62,39],[60,37,60,39],[66,7,66,11],[66,21,66,22],[66,24,66,28],[66,37,66,41],[61,37,61,39],[69,31,69,47],[61,15,61,16],[68,1,68,2],[68,3,68,8],[69,1,70,2],[69,3,70,8],[69,9,70,13],[69,14,69,29],[70,14,70,29],[61,32,61,33],[61,35,61,36],[61,29,61,31],[62,15,62,16],[62,17,62,28],[62,29,62,31],[62,32,62,33],[62,35,62,36],[56,50,56,51],[56,52,56,54],[56,30,56,31],[56,32,56,43],[60,15,60,16],[60,17,60,28],[59,15,59,16],[58,29,58,31],[58,32,58,36],[93,53,94,54],[96,48,96,52],[96,53,96,54],[93,48,94,49],[93,50,94,50],[29,78,29,80],[35,78,35,80],[41,78,41,80],[55,44,55,46],[55,47,55,48],[53,47,53,48],[55,50,55,51],[55,52,55,54],[54,44,54,46],[36,48,36,49],[54,47,54,48],[48,1,48,54],[55,30,55,31],[72,1,72,2],[72,3,72,8],[72,9,72,13],[72,48,72,52],[72,53,72,54],[55,32,55,43],[69,51,70,52],[73,51,74,52],[104,8,104,10],[105,8,105,10],[103,8,103,10],[103,12,103,47],[93,9,94,13],[93,51,94,52],[105,12,105,47],[102,8,102,10],[102,12,102,47],[97,9,98,13],[104,12,104,47],[94,31,94,47],[93,31,93,47],[72,14,72,47],[76,14,76,47],[97,48,98,49],[97,50,98,50],[97,51,98,52],[98,31,98,47],[74,14,74,29],[73,31,73,47],[81,3,82,8]]}
[]
[null,null,"Stadtsportbund Oberhausen e.V.\nFachschaft Fußball"]
[]
[null,null,"Alte Herren Ü 35 Hallenfußball Stadtmeisterschaft 2018"]
[]
[null,null,null,null,null,null,null,null,null,null,null,null,null,"Am","Samstag",null,null,null,null,null,null,null,", den",null,null,null,"2018-01-27"]
[]
[null,null,null,"Sporthalle Willy-Jürissen, Goebenstr., 46045 OB"]
[]
[null,null,null,null,null,null,"Beginn:","11:00:00",null,null,null,null,"Uhr",null,null,null,null,null,null,"Spielzeit:",1,null,"x","00:10:00",null,null,null,null,"min",null,null,null,null,null,null,null,"Pause:","00:02:00",null,null,null,null,"min"]
[]
[]
[null,"I. Teilnehmende Mannschaften"]
[]
[null,"Gruppe A",null,null,null,null,null,null,null,null,null,null,null,null,null,null,null,null,null,null,null,null,null,null,null,null,null,null,null,null,"Gruppe B"]
[null,"1.",null,"1.Gruppe 1",null,null,null,null,null,null,null,null,null,null,null,null,null,null,null,null,null,null,null,null,null,null,null,null,null,null,"1.",null," 1.Gruppe 2"]
[null,"2.",null,"2.Gruppe 4",null,null,null,null,null,null,null,null,null,null,null,null,null,null,null,null,null,null,null,null,null,null,null,null,null,null,"2.",null,"2.Gruppe 3"]
[null,"3.",null,"3.Gruppe 2",null,null,null,null,null,null,null,null,null,null,null,null,null,null,null,null,null,null,null,null,null,null,null,null,null,null,"3.",null,"2.Gruppe 1"]
[null,"4.",null,"3.Gruppe 3",null,null,null,null,null,null,null,null,null,null,null,null,null,null,null,null,null,null,null,null,null,null,null,null,null,null,"4.",null,"3.Gruppe 4"]
[]
[null,null,null,null,null,null,null,null,null,null,null,null,null,null,null,"Gruppe C"]
[null,null,null,null,null,null,null,null,null,null,null,null,null,null,null,"1.",null,"1.Gruppe 3"]
[null,null,null,null,null,null,null,null,null,null,null,null,null,null,null,"2.",null,"2.Gruppe 2"]
[null,null,null,null,null,null,null,null,null,null,null,null,null,null,null,"3.",null,"3.Gruppe 1"]
[null,null,null,null,null,null,null,null,null,null,null,null,null,null,null,"4.",null,"1.Gruppe 4"]
[]
[null,"II. Spielplan Vorrunde"]
[]
[null,"Nr.",null,null,null,null,"Grp.",null,null,"Beginn",null,null,null,null,"Spielpaarung",null,null,null,null,null,null,null,null,null,null,null,null,null,null,null,null,null,null,null,null,null,null,null,null,null,null,null,null,null,null,null,null,null,"Ergebnis",null,null,null,null,null,null,null,null,"Punkte"]
[null,41,null,null,null,null,"A",null,null,{"$f":"$H$10","v":"11:00:00"},null,null,null,null,{"$f":"D16","v":"1.Gruppe 1"},null,null,null,null,null,null,null,null,null,null,null,null,null,null,null,"-",{"$f":"D17","v":"2.Gruppe 4"},null,null,null,null,null,null,null,null,null,null,null,null,null,null,null,null,null,null,":",null,null,null,null,null,{"$f":"IF(ISBLANK(AZ30),\"0\",IF(AW30>AZ30,3,IF(AW30=AZ30,1,0)))","v":"0"},":",{"$f":"IF(ISBLANK(AJ30),\"0\",IF(AJ30>AG30,3,IF(AJ30=AG30,1,0)))","v":"0"},{"$f":"IF(ISBLANK(AZ30),\"0\",IF(AZ30>AW30,3,IF(AZ30=AW30,1,0)))","v":"0"},null,null,null,null,null,null,null,null,null,null,null,null,":",{"$f":"IF(ISBLANK(AZ30),\"0\",IF(AZ30>AW30,3,IF(AZ30=AW30,1,0)))","v":"0"},null,null,"Gruppe A","Pkt.","Tore",null,null,"Diff."]
[null,42,null,null,null,null,"A",null,null,{"$f":"J30+$U$10*$X$10+$AL$10","v":"11:12:00"},null,null,null,null,{"$f":"D18","v":"3.Gruppe 2"},null,null,null,null,null,null,null,null,null,null,null,null,null,null,null,"-",{"$f":"D19","v":"3.Gruppe 3"},null,null,null,null,null,null,null,null,null,null,null,null,null,null,null,null,null,null,":",null,null,null,null,null,"0",":",{"$f":"IF(ISBLANK(AJ31),\"0\",IF(AJ31>AG31,3,IF(AJ31=AG31,1,0)))","v":"0"},"0",null,null,null,null,null,null,null,null,null,null,null,null,":","0",null,null,{"$f":"$D$16","v":"1.Gruppe 1"},{"$f":"SUM($BE$30+$BV$36+$BE$42)","v":0},{"$f":"SUM($AW$30+$AZ$36+$AW$42)","v":0},":",{"$f":"SUM($AZ$30+$AW$36+$AZ$42)","v":0},{"$f":"SUM(CA31-CC31)","v":0},null,null,null,{"$f":"IF(ISBLANK($AZ$47),\"\",IF(AND($BZ$31=$BZ$32,$CD$31=$CD$32,$CA$32=$CA$31),1,0))","v":""},null,{"$f":"SUM(CH31:CI31)","v":0}]
[null,43,null,null,null,null,"B",null,null,"11:24:00",null,null,null,null,{"$f":"AG16","v":" 1.Gruppe 2"},null,null,null,null,null,null,null,null,null,null,null,null,null,null,null,"-",{"$f":"AG17","v":"2.Gruppe 3"},null,null,null,null,null,null,null,null,null,null,null,null,null,null,null,null,null,null,":",null,null,null,null,null,"0",{"$f":"IF(ISBLANK(AW32),\"0\",IF(AW32>AZ32,3,IF(AW32=AZ32,1,0)))","v":"0"},":","0",null,null,null,null,null,null,null,null,null,null,null,null,":","0",null,null,{"$f":"$D$17","v":"2.Gruppe 4"},{"$f":"SUM($BV$30+$BE$37+$BE$43)","v":0},{"$f":"SUM($AZ$30+$AW$37+$AW$43)","v":0},":",{"$f":"SUM($AW$30+$AZ$37++$AZ$43)","v":0},{"$f":"SUM(CA32-CC32)","v":0},null,null,null,{"$f":"IF(ISBLANK($AZ$47),\"\",IF(AND($BZ$31=$BZ$32,$CD$31=$CD$32,$CA$32=$CA$31),1,0))","v":""},{"$f":"IF(ISBLANK($AZ$47),\"\",IF(AND($BZ$33=$BZ$32,$CD$33=$CD$32,$CA$32=$CA$33),1,0))","v":""},{"$f":"SUM(CH32:CI32)","v":0}]
[null,44,null,null,null,null,"B",null,null,"11:36:00",null,null,null,null,{"$f":"AG18","v":"2.Gruppe 1"},null,null,null,null,null,null,null,null,null,null,null,null,null,null,null,"-",{"$f":"AG19","v":"3.Gruppe 4"},null,null,null,null,null,null,null,null,null,null,null,null,null,null,null,null,null,null,":",null,null,null,null,null,"0","0",":","0",null,null,null,null,null,null,null,null,null,null,null,null,":","0",null,null,{"$f":"$D$18","v":"3.Gruppe 2"},{"$f":"SUM($BE$31+$BV$37+$BV$42)","v":0},{"$f":"SUM($AW$31+$AZ$37+$AZ$42)","v":0},":",{"$f":"SUM($AZ$31+$AW$37+$AW$42)","v":0},{"$f":"SUM(CA33-CC33)","v":0},null,null,null,{"$f":"IF(ISBLANK($AZ$47),\"\",IF(AND($BZ$32=$BZ$33,$CD$32=$CD$33,$CA$33=$CA$32),1,0))","v":""},{"$f":"IF(ISBLANK($AZ$47),\"\",IF(AND($BZ$33=$BZ$34,$CD$33=$CD$34,$CA$34=$CA$33),1,0))","v":""},{"$f":"SUM(CH32:CI32)","v":0}]
[null,45,null,null,null,null,"C",null,null,"11:48:00",null,null,null,null,{"$f":"R22","v":"1.Gruppe 3"},null,null,null,null,null,null,null,null,null,null,null,null,null,null,null,"-",{"$f":"R23","v":"2.Gruppe 2"},null,null,null,null,null,null,null,null,null,null,null,null,null,null,null,null,null,null,":",null,null,null,null,null,"0","0",":","0",null,null,null,null,null,null,null,null,null,null,null,null,":","0",null,null,{"$f":"$D$19","v":"3.Gruppe 3"},{"$f":"SUM($BV$31+$BE$36+$BV$43)","v":0},{"$f":"SUM($AZ$31+$AW$36+$AZ$43)","v":0},":",{"$f":"SUM($AW$31+$AZ$36+$AW$43)","v":0},{"$f":"SUM(CA34-CC34)","v":0},null,null,null,{"$f":"IF(ISBLANK($AZ$47),\"\",IF(AND($BZ$33=$BZ$34,$CD$33=$CD$34,$CA$34=$CA$33),1,0))","v":""},null,{"$f":"SUM(CH34:CI34)","v":0}]
[null,46,null,null,null,null,"C",null,null,"12:00:00",null,null,null,null,{"$f":"R24","v":"3.Gruppe 1"},null,null,null,null,null,null,null,null,null,null,null,null,null,null,null,"-",{"$f":"R25","v":"1.Gruppe 4"},null,null,null,null,null,null,null,null,null,null,null,null,null,null,null,null,null,null,":",null,null,null,null,null,"0","0",":","0",null,null,null,null,null,null,null,null,null,null,null,null,":","0"]
[null,47,null,null,null,null,"A",null,null,"12:12:00",null,null,null,null,{"$f":"D19","v":"3.Gruppe 3"},null,null,null,null,null,null,null,null,null,null,null,null,null,null,null,"-",{"$f":"D16","v":"1.Gruppe 1"},null,null,null,null,null,null,null,null,null,null,null,null,null,null,null,null,null,null,":",null,null,null,null,null,"0","0",":","0",null,null,null,null,{"$f":"$D$17","v":"2.Gruppe 4"},{"$f":"SUM($BH$30+$BF$35+$BH$42+$BF$47)","v":0},{"$f":"SUM($AZ$30+$AW$35+$AZ$42+$AW$47)","v":0},":",{"$f":"SUM($AW$30+$AZ$35+$AW$42+$AZ$47)","v":0},{"$f":"SUM(BO36-BQ36)","v":0},null,null,":","0",null,null,"Gruppe B","Pkt.","Tore",null,null,"Diff."]
[null,48,null,null,null,null,"A",null,null,"12:24:00",null,null,null,null,{"$f":"D17","v":"2.Gruppe 4"},null,null,null,null,null,null,null,null,null,null,null,null,null,null,null,"-",{"$f":"D18","v":"3.Gruppe 2"},null,null,null,null,null,null,null,null,null,null,null,null,null,null,null,null,null,null,":",null,null,null,null,null,"0","0",":","0",null,null,null,null,{"$f":"$D$20","v":0},{"$f":"SUM($BF$34+$BH$38+$BF$43+$BH$47)","v":0},{"$f":"SUM($AW$34+$AZ$38+$AW$43+$AZ$47)","v":0},":",{"$f":"SUM($AZ$34+$AW$38+$AZ$43+$AW$47)","v":0},{"$f":"SUM(BO37-BQ37)","v":0},null,null,":","0",null,null,{"$f":"$AG$16","v":" 1.Gruppe 2"},{"$f":"SUM($BE$32+$BV$38+$BE$44)","v":0},{"$f":"SUM($AW$32+$AZ$38+$AW$44)","v":0},":",{"$f":"SUM($AZ$32+$AW$38+$AZ$44)","v":0},{"$f":"SUM(CA37-CC37)","v":0},null,null,null,{"$f":"IF(ISBLANK($AZ$47),\"\",IF(AND($BZ$37=$BZ$38,$CD$37=$CD$38,$CA$38=$CA$37),1,0))","v":""},null,{"$f":"SUM(CH37:CI37)","v":0}]
[null,49,null,null,null,null,"B",null,null,"12:36:00",null,null,null,null,{"$f":"AG19","v":"3.Gruppe 4"},null,null,null,null,null,null,null,null,null,null,null,null,null,null,null,"-",{"$f":"AG16","v":" 1.Gruppe 2"},null,null,null,null,null,null,null,null,null,null,null,null,null,null,null,null,null,null,":",null,null,null,null,null,"0","0",":","0",null,null,null,null,{"$f":"$D$19","v":"3.Gruppe 3"},{"$f":"SUM($BF$31+$BH$35+$BF$39+$BH$43)","v":{"$error":"#VALUE!"}},{"$f":"SUM($AW$31+$AZ$35+$AW$39+$AZ$43)","v":0},":",{"$f":"SUM($AZ$31+$AW$35+$AZ$39+$AW$43)","v":0},{"$f":"SUM(BO38-BQ38)","v":0},null,null,":","0",null,null,{"$f":"$AG$17","v":"2.Gruppe 3"},{"$f":"SUM($BV$32+$BE$39+$BE$45)","v":0},{"$f":"SUM($AZ$32+$AW$39+$AW$45)","v":0},":",{"$f":"SUM($AW$32+$AZ$39+$AZ$45)","v":0},{"$f":"SUM(CA38-CC38)","v":0},null,null,null,{"$f":"IF(ISBLANK($AZ$47),\"\",IF(AND($BZ$37=$BZ$38,$CD$37=$CD$38,$CA$38=$CA$37),1,0))","v":""},{"$f":"IF(ISBLANK($AZ$47),\"\",IF(AND($BZ$39=$BZ$38,$CD$39=$CD$38,$CA$38=$CA$39),1,0))","v":""},{"$f":"SUM(CH38:CI38)","v":0}]
[null,50,null,null,null,null,"B",null,null,"12:48:00",null,null,null,null,{"$f":"AG17","v":"2.Gruppe 3"},null,null,null,null,null,null,null,null,null,null,null,null,null,null,null,"-",{"$f":"AG18","v":"2.Gruppe 1"},null,null,null,null,null,null,null,null,null,null,null,null,null,null,null,null,null,null,":",null,null,null,null,null,"0","0",":","0",null,null,null,null,{"$f":"$D$18","v":"3.Gruppe 2"},{"$f":"SUM($BH$31+$BF$38+$BF$42+$BH$46)","v":0},{"$f":"SUM($AZ$31+$AW$38+$AW$42+$AZ$46)","v":0},":",{"$f":"SUM($AW$31+$AZ$38+$AZ$42+$AW$46)","v":0},{"$f":"SUM(BO39-BQ39)","v":0},null,null,":","0",null,null,{"$f":"$AG$18","v":"2.Gruppe 1"},{"$f":"SUM($BE$33+$BV$39+$BV$44)","v":0},{"$f":"SUM($AW$33+$AZ$39+$AZ$44)","v":0},":",{"$f":"SUM($AZ$33+$AW$39+$AW$44)","v":0},{"$f":"SUM(CA39-CC39)","v":0},null,null,null,{"$f":"IF(ISBLANK($AZ$47),\"\",IF(AND($BZ$39=$BZ$38,$CD$39=$CD$38,$CA$38=$CA$39),1,0))","v":""},{"$f":"IF(ISBLANK($AZ$47),\"\",IF(AND($BZ$39=$BZ$40,$CD$39=$CD$40,$CA$40=$CA$39),1,0))","v":""},{"$f":"SUM(CH38:CI38)","v":0}]
[null,51,null,null,null,null,"C",null,null,"13:00:00",null,null,null,null,{"$f":"R25","v":"1.Gruppe 4"},null,null,null,null,null,null,null,null,null,null,null,null,null,null,null,"-",{"$f":"R22","v":"1.Gruppe 3"},null,null,null,null,null,null,null,null,null,null,null,null,null,null,null,null,null,null,":",null,null,null,null,null,"0","0",":","0",null,null,null,null,{"$f":"$D$16","v":"1.Gruppe 1"},{"$f":"SUM($BF$30+$BH$34+$BH$39+$BF$46)","v":{"$error":"#VALUE!"}},{"$f":"SUM($AW$30+$AZ$34+$AZ$39+$AW$46)","v":0},":",{"$f":"SUM($AZ$30+$AW$34+$AW$39+$AZ$46)","v":0},{"$f":"SUM(BO40-BQ40)","v":0},null,null,":","0",null,null,{"$f":"$AG$19","v":"3.Gruppe 4"},{"$f":"SUM($BV$33+$BE$38+$BV$45)","v":0},{"$f":"SUM($AZ$33+$AW$38+$AZ$45)","v":0},":",{"$f":"SUM($AW$33+$AZ$38+$AW$45)","v":0},{"$f":"SUM(CA40-CC40)","v":0},null,null,null,{"$f":"IF(ISBLANK($AZ$47),\"\",IF(AND($BZ$39=$BZ$40,$CD$39=$CD$40,$CA$40=$CA$39),1,0))","v":""},null,{"$f":"SUM(CH40:CI40)","v":0}]
[null,52,null,null,null,null,"C",null,null,"13:12:00",null,null,null,null,{"$f":"R23","v":"2.Gruppe 2"},null,null,null,null,null,null,null,null,null,null,null,null,null,null,null,"-",{"$f":"R24","v":"3.Gruppe 1"},null,null,null,null,null,null,null,null,null,null,null,null,null,null,null,null,null,null,":",null,null,null,null,null,"0","0",":","0",null,null,null,null,null,null,null,null,null,null,null,null,":","0"]
[null,53,null,null,null,null,"A",null,null,"13:24:00",null,null,null,null,{"$f":"D16","v":"1.Gruppe 1"},null,null,null,null,null,null,null,null,null,null,null,null,null,null,null,"-",{"$f":"D18","v":"3.Gruppe 2"},null,null,null,null,null,null,null,null,null,null,null,null,null,null,null,null,null,null,":",null,null,null,null,null,"0","0",":","0",null,null,null,null,null,null,null,null,null,null,null,null,":","0",null,null,"Gruppe C","Pkt.","Tore",null,null,"Diff."]
[null,54,null,null,null,null,"A",null,null,"13:36:00",null,null,null,null,{"$f":"D17","v":"2.Gruppe 4"},null,null,null,null,null,null,null,null,null,null,null,null,null,null,null,"-",{"$f":"D19","v":"3.Gruppe 3"},null,null,null,null,null,null,null,null,null,null,null,null,null,null,null,null,null,null,":",null,null,null,null,null,"0","0",":","0",null,null,null,null,{"$f":"AG16","v":" 1.Gruppe 2"},{"$f":"SUM($BH$33+$BF$40+$BF$44+#REF!)","v":{"$error":"#REF!"}},{"$f":"SUM($AZ$33+$AW$40+$AW$44+#REF!)","v":{"$error":"#REF!"}},":",{"$f":"SUM($AW$33+$AZ$40+$AZ$44+#REF!)","v":{"$error":"#REF!"}},{"$f":"SUM(BO43-BQ43)","v":{"$error":"#REF!"}},null,null,":","0",null,null,{"$f":"$R$22","v":"1.Gruppe 3"},{"$f":"SUM($BE$34+$BV$40+$BE$46)","v":0},{"$f":"SUM($AW$34+$AZ$40+$AW$46)","v":0},":",{"$f":"SUM($AZ$34+$AW$40+$AZ$46)","v":0},{"$f":"SUM(CA43-CC43)","v":0},null,null,null,{"$f":"IF(ISBLANK($AZ$47),\"\",IF(AND($BZ$43=$BZ$44,$CD$43=$CD$44,$CA$44=$CA$43),1,0))","v":""},null,{"$f":"SUM(CH43:CI43)","v":0}]
[null,55,null,null,null,null,"B",null,null,"13:48:00",null,null,null,null,{"$f":"AG16","v":" 1.Gruppe 2"},null,null,null,null,null,null,null,null,null,null,null,null,null,null,null,"-",{"$f":"AG18","v":"2.Gruppe 1"},null,null,null,null,null,null,null,null,null,null,null,null,null,null,null,null,null,null,":",null,null,null,null,null,"0","0",":","0",null,null,null,null,{"$f":"AG17","v":"2.Gruppe 3"},{"$f":"SUM($BF$36+$BH$40+$BF$45+#REF!)","v":{"$error":"#REF!"}},{"$f":"SUM($AW$36+$AZ$40+$AW$45+#REF!)","v":{"$error":"#REF!"}},":",{"$f":"SUM($AZ$36+$AW$40+$AZ$45+#REF!)","v":{"$error":"#REF!"}},{"$f":"SUM(BO44-BQ44)","v":{"$error":"#REF!"}},null,null,":","0",null,null,{"$f":"$R$23","v":"2.Gruppe 2"},{"$f":"SUM($BV$34+$BE$41+$BE$47)","v":0},{"$f":"SUM($AZ$34+$AW$41+$AW$47)","v":0},":",{"$f":"SUM($AW$34+$AZ$41+$AZ$47)","v":0},{"$f":"SUM(CA44-CC44)","v":0},null,null,null,{"$f":"IF(ISBLANK($AZ$47),\"\",IF(AND($BZ$43=$BZ$44,$CD$43=$CD$44,$CA$44=$CA$43),1,0))","v":""},{"$f":"IF(ISBLANK($AZ$47),\"\",IF(AND($BZ$45=$BZ$44,$CD$45=$CD$44,$CA$44=$CA$45),1,0))","v":""},{"$f":"SUM(CH44:CI44)","v":0}]
[null,56,null,null,null,null,"B",null,null,"14:00:00",null,null,null,null,{"$f":"AG17","v":"2.Gruppe 3"},null,null,null,null,null,null,null,null,null,null,null,null,null,null,null,"-",{"$f":"AG19","v":"3.Gruppe 4"},null,null,null,null,null,null,null,null,null,null,null,null,null,null,null,null,null,null,":",null,null,null,null,null,"0","0",":","0",null,null,null,null,{"$f":"AG18","v":"2.Gruppe 1"},{"$f":"SUM($BF$32+$BH$36+$BH$41+#REF!)","v":{"$error":"#REF!"}},{"$f":"SUM($AW$32+$AZ$36+$AZ$41+#REF!)","v":{"$error":"#REF!"}},":",{"$f":"SUM($AZ$32+$AW$36+$AW$41+#REF!)","v":{"$error":"#REF!"}},{"$f":"SUM(BO45-BQ45)","v":{"$error":"#REF!"}},null,null,":","0",null,null,{"$f":"$R$24","v":"3.Gruppe 1"},{"$f":"SUM($BE$35+$BV$41+$BV$46)","v":0},{"$f":"SUM($AW$35+$AZ$41+$AZ$46)","v":0},":",{"$f":"SUM($AZ$35+$AW$41+$AW$46)","v":0},{"$f":"SUM(CA45-CC45)","v":0},null,null,null,{"$f":"IF(ISBLANK($AZ$47),\"\",IF(AND($BZ$45=$BZ$44,$CD$45=$CD$44,$CA$44=$CA$45),1,0))","v":""},{"$f":"IF(ISBLANK($AZ$47),\"\",IF(AND($BZ$45=$BZ$46,$CD$45=$CD$46,$CA$46=$CA$45),1,0))","v":""},{"$f":"SUM(CH44:CI44)","v":0}]
[null,57,null,null,null,null,"C",null,null,"14:12:00",null,null,null,null,{"$f":"R22","v":"1.Gruppe 3"},null,null,null,null,null,null,null,null,null,null,null,null,null,null,null,"-",{"$f":"R24","v":"3.Gruppe 1"},null,null,null,null,null,null,null,null,null,null,null,null,null,null,null,null,null,null,":",null,null,null,null,null,"0","0",":","0",null,null,null,null,{"$f":"AG19","v":"3.Gruppe 4"},{"$f":"SUM($BF$33+$BH$37+$BF$41+$BH$45)","v":0},{"$f":"SUM($AW$33+$AZ$37+$AW$41+$AZ$45)","v":0},":",{"$f":"SUM($AZ$33+$AW$37+$AZ$41+$AW$45)","v":0},{"$f":"SUM(BO46-BQ46)","v":0},null,null,":","0",null,null,{"$f":"$R$25","v":"1.Gruppe 4"},{"$f":"SUM($BV$35+$BE$40+$BV$47)","v":0},{"$f":"SUM($AZ$35+$AW$40+$AZ$47)","v":0},":",{"$f":"SUM($AW$35+$AZ$40+$AW$47)","v":0},{"$f":"SUM(CA46-CC46)","v":0},null,null,null,{"$f":"IF(ISBLANK($AZ$47),\"\",IF(AND($BZ$45=$BZ$46,$CD$45=$CD$46,$CA$46=$CA$45),1,0))","v":""},null,{"$f":"SUM(CH46:CI46)","v":0}]
[null,58,null,null,null,null,"C",null,null,"14:24:00",null,null,null,null,{"$f":"R23","v":"2.Gruppe 2"},null,null,null,null,null,null,null,null,null,null,null,null,null,null,null,"-",{"$f":"R25","v":"1.Gruppe 4"},null,null,null,null,null,null,null,null,null,null,null,null,null,null,null,null,null,null,":",null,null,null,null,null,"0","0",":","0",null,null,null,null,{"$f":"AG20","v":0},{"$f":"SUM($BH$32+$BF$37+$BH$44+#REF!)","v":{"$error":"#REF!"}},{"$f":"SUM($AZ$32+$AW$37+$AZ$44+#REF!)","v":{"$error":"#REF!"}},":",{"$f":"SUM($AW$32+$AZ$37+$AW$44+#REF!)","v":{"$error":"#REF!"}},{"$f":"SUM(BO47-BQ47)","v":{"$error":"#REF!"}},null,null,":","0"]
[]
[null,{"$f":"$C$2","v":"Stadtsportbund Oberhausen e.V.\nFachschaft Fußball"}]
[]
[null,"III. Abschlußtabellen Vorrunde"]
[]
[null,"Gruppe A",null,null,null,null,null,null,null,null,null,null,null,null,null,"Pkt.",null,null,"Tore",null,null,null,null,"Diff.",null,null,null,null,null,null,"Gruppe B",null,null,null,null,null,null,null,null,null,null,null,null,null,"Pkt.",null,null,"Tore",null,null,null,null,"Diff.",null,null,null,null,null,null,null,null,null,null,null,null,null,null,null,null,null,null,null,null,null,null,null,"Grp. 3.","Pkt.","Tore",null,null,"Diff."]
[null,"1.",null,{"$f":"IF(ISBLANK($AZ$30),\"\",$BY$31)","v":""},null,null,null,null,null,null,null,null,null,null,null,{"$f":"IF(ISBLANK($AZ$30),\"\",$BZ$31)","v":""},null,null,{"$f":"IF(ISBLANK($AZ$30),\"\",$CA$31)","v":""},null,":",{"$f":"IF(ISBLANK($AZ$30),\"\",$CC$31)","v":""},null,{"$f":"IF(ISBLANK($AZ$30),\"\",$CD$31)","v":""},null,null,null,null,null,null,"1.",null,{"$f":"IF(ISBLANK($AZ$32),\"\",$BY$37)","v":""},null,null,null,null,null,null,null,null,null,null,null,{"$f":"IF(ISBLANK($AZ$32),\"\",$BZ$37)","v":""},null,null,{"$f":"IF(ISBLANK($AZ$32),\"\",$CA$37)","v":""},null,":",{"$f":"IF(ISBLANK($AZ$32),\"\",$CC$37)","v":""},null,{"$f":"IF(ISBLANK($AZ$32),\"\",$CD$37)","v":""},null,null,null,null,null,null,null,null,null,null,null,null,null,null,null,null,null,null,null,null,null,null,null,{"$f":"$R$62","v":""},{"$f":"$AD$62","v":""},{"$f":"$AG$62","v":""},":",{"$f":"$AJ$62","v":""},{"$f":"$AL$62","v":""},null,null,null,{"$f":"IF(ISBLANK($AZ$47),\"\",IF(AND($BZ$55=$BZ$54,$CD$54=$CD$55,$CA$55=$CA$54),1,0))","v":""},{"$f":"IF(ISBLANK($AZ$47),\"\",IF(AND($BZ$56=$BZ$55,$CD$56=$CD$55,$CA$55=$CA$56),1,0))","v":""},{"$f":"SUM(CH54:CI54)","v":0}]
[null,"2.",null,{"$f":"IF(ISBLANK($AZ$30),\"\",$BY$32)","v":""},null,null,null,null,null,null,null,null,null,null,null,{"$f":"IF(ISBLANK($AZ$30),\"\",$BZ$32)","v":""},null,null,{"$f":"IF(ISBLANK($AZ$30),\"\",$CA$32)","v":""},null,":",{"$f":"IF(ISBLANK($AZ$30),\"\",$CC$32)","v":""},null,{"$f":"IF(ISBLANK($AZ$30),\"\",$CD$32)","v":""},null,null,null,null,null,null,"2.",null,{"$f":"IF(ISBLANK($AZ$32),\"\",$BY$38)","v":""},null,null,null,null,null,null,null,null,null,null,null,{"$f":"IF(ISBLANK($AZ$32),\"\",$BZ$38)","v":""},null,null,{"$f":"IF(ISBLANK($AZ$32),\"\",$CA$38)","v":""},null,":",{"$f":"IF(ISBLANK($AZ$32),\"\",$CC$38)","v":""},null,{"$f":"IF(ISBLANK($AZ$32),\"\",$CD$38)","v":""},null,null,null,null,null,null,null,null,null,null,null,null,null,null,null,null,null,null,null,null,null,null,null,{"$f":"$D$56","v":""},{"$f":"$P$56","v":""},{"$f":"$S$56","v":""},":",{"$f":"$V$56","v":""},{"$f":"$X$56","v":""}]
[null,"3.",null,{"$f":"IF(ISBLANK($AZ$30),\"\",$BY$33)","v":""},null,null,null,null,null,null,null,null,null,null,null,{"$f":"IF(ISBLANK($AZ$30),\"\",$BZ$33)","v":""},null,null,{"$f":"IF(ISBLANK($AZ$30),\"\",$CA$33)","v":""},null,":",{"$f":"IF(ISBLANK($AZ$30),\"\",$CC$33)","v":""},null,{"$f":"IF(ISBLANK($AZ$30),\"\",$CD$33)","v":""},null,null,null,null,null,null,"3.",null,{"$f":"IF(ISBLANK($AZ$32),\"\",$BY$39)","v":""},null,null,null,null,null,null,null,null,null,null,null,{"$f":"IF(ISBLANK($AZ$32),\"\",$BZ$39)","v":""},null,null,{"$f":"IF(ISBLANK($AZ$32),\"\",$CA$39)","v":""},null,":",{"$f":"IF(ISBLANK($AZ$32),\"\",$CC$39)","v":""},null,{"$f":"IF(ISBLANK($AZ$32),\"\",$CD$39)","v":""},null,null,null,null,null,null,null,null,null,null,null,null,null,null,null,null,null,null,null,null,null,null,null,{"$f":"$AG$56","v":""},{"$f":"$AS$56","v":""},{"$f":"$AV$56","v":""},":",{"$f":"$AY$56","v":""},{"$f":"$BA$56","v":""}]
[null,"4.",null,{"$f":"IF(ISBLANK($AZ$30),\"\",$BY$34)","v":""},null,null,null,null,null,null,null,null,null,null,null,{"$f":"IF(ISBLANK($AZ$30),\"\",$BZ$34)","v":""},null,null,{"$f":"IF(ISBLANK($AZ$30),\"\",$CA$34)","v":""},null,":",{"$f":"IF(ISBLANK($AZ$30),\"\",$CC$34)","v":""},null,{"$f":"IF(ISBLANK($AZ$30),\"\",$CD$34)","v":""},null,null,null,null,null,null,"4.",null,{"$f":"IF(ISBLANK($AZ$32),\"\",$BY$40)","v":""},null,null,null,null,null,null,null,null,null,null,null,{"$f":"IF(ISBLANK($AZ$32),\"\",$BZ$40)","v":""},null,null,{"$f":"IF(ISBLANK($AZ$32),\"\",$CA$40)","v":""},null,":",{"$f":"IF(ISBLANK($AZ$32),\"\",$CC$40)","v":""},null,{"$f":"IF(ISBLANK($AZ$32),\"\",$CD$40)","v":""}]
[]
[null,null,null,null,null,null,null,null,null,null,null,null,null,null,null,"Gruppe C",null,null,null,null,null,null,null,null,null,null,null,null,null,"Pkt.",null,null,"Tore",null,null,null,null,"Diff."]
[null,null,null,null,null,null,null,null,null,null,null,null,null,null,null,"1.",null,{"$f":"IF(ISBLANK($AZ$34),\"\",$BY$43)","v":""},null,null,null,null,null,null,null,null,null,null,null,{"$f":"IF(ISBLANK($AZ$34),\"\",$BZ$43)","v":""},null,null,{"$f":"IF(ISBLANK($AZ$34),\"\",$CA$43)","v":""},null,":",{"$f":"IF(ISBLANK($AZ$34),\"\",$CC$43)","v":""},null,{"$f":"IF(ISBLANK($AZ$34),\"\",$CD$43)","v":""}]
[null,null,null,null,null,null,null,null,null,null,null,null,null,null,null,"2.",null,{"$f":"IF(ISBLANK($AZ$34),\"\",$BY$44)","v":""},null,null,null,null,null,null,null,null,null,null,null,{"$f":"IF(ISBLANK($AZ$34),\"\",$BZ$44)","v":""},null,null,{"$f":"IF(ISBLANK($AZ$34),\"\",$CA$44)","v":""},null,":",{"$f":"IF(ISBLANK($AZ$34),\"\",$CC$44)","v":""},null,{"$f":"IF(ISBLANK($AZ$34),\"\",$CD$44)","v":""}]
[null,null,null,null,null,null,null,null,null,null,null,null,null,null,null,"3.",null,{"$f":"IF(ISBLANK($AZ$34),\"\",$BY$45)","v":""},null,null,null,null,null,null,null,null,null,null,null,{"$f":"IF(ISBLANK($AZ$34),\"\",$BZ$45)","v":""},null,null,{"$f":"IF(ISBLANK($AZ$34),\"\",$CA$45)","v":""},null,":",{"$f":"IF(ISBLANK($AZ$34),\"\",$CC$45)","v":""},null,{"$f":"IF(ISBLANK($AZ$34),\"\",$CD$45)","v":""}]
[null,null,null,null,null,null,null,null,null,null,null,null,null,null,null,"4.",null,{"$f":"IF(ISBLANK($AZ$34),\"\",$BY$46)","v":""},null,null,null,null,null,null,null,null,null,null,null,{"$f":"IF(ISBLANK($AZ$34),\"\",$BZ$46)","v":""},null,null,{"$f":"IF(ISBLANK($AZ$34),\"\",$CA$46)","v":""},null,":",{"$f":"IF(ISBLANK($AZ$34),\"\",$CC$46)","v":""},null,{"$f":"IF(ISBLANK($AZ$34),\"\",$CD$46)","v":""}]
[]
[null,"IV. Endrunde"]
[]
[null,null,null,null,null,null,"Beginn:","15:00:00",null,null,null,null,"Uhr",null,null,null,null,null,null,null,"Spielzeit:",1,null,"x","00:10:00",null,null,null,null,"min",null,null,null,null,null,null,"Pause:","00:02:00",null,null,null,null,"min"]
[]
[null,"Nr.",null,null,null,null,null,null,null,"Beginn",null,null,null,null,"1. Viertelfinale",null,null,null,null,null,null,null,null,null,null,null,null,null,null,null,null,null,null,null,null,null,null,null,null,null,null,null,null,null,null,null,null,null,"Ergebnis"]
[null,59,null,null,null,null,null,null,null,{"$f":"H$67","v":"15:00:00"},null,null,null,null,{"$f":"IF(ISBLANK($AZ$43),\"\",IF($CH$31>0,\"ACHTUNG! Mannschaften gleich!\",$BY$31))","v":""},null,null,null,null,null,null,null,null,null,null,null,null,null,null,null,"-",{"$f":"IF(ISBLANK($AZ$47),\"\",IF($CH$54>0,\"ACHTUNG! Mannschaften gleich!\",$BY$54))","v":""},null,null,null,null,null,null,null,null,null,null,null,null,null,null,null,null,null,null,":"]
[null,null,null,null,null,null,null,null,null,null,null,null,null,null,"1. Gruppe A",null,null,null,null,null,null,null,null,null,null,null,null,null,null,null,null,"Bester Gruppen Dritter"]
[]
[null,"Nr.",null,null,null,null,null,null,null,"Beginn",null,null,null,null,"2. Viertelfinale",null,null,null,null,null,null,null,null,null,null,null,null,null,null,null,null,null,null,null,null,null,null,null,null,null,null,null,null,null,null,null,null,null,"Ergebnis"]
[null,60,null,null,null,null,null,null,null,{"$f":"J70+$V$67*$Y$67+$AL$67","v":"15:12:00"},null,null,null,null,{"$f":"IF(ISBLANK($AZ$45),\"\",IF($CJ$37>0,\"ACHTUNG! Mannschaften gleich!\",$BY$37))","v":""},null,null,null,null,null,null,null,null,null,null,null,null,null,null,null,"-",{"$f":"IF(ISBLANK($AZ$47),\"\",IF($CJ$54>0,\"ACHTUNG! Mannschaften gleich!\",$BY$55))","v":""},null,null,null,null,null,null,null,null,null,null,null,null,null,null,null,null,null,null,":"]
[null,null,null,null,null,null,null,null,null,null,null,null,null,null,"1. Gruppe B",null,null,null,null,null,null,null,null,null,null,null,null,null,null,null,null,"Zweitbester Gruppen Dritter"]
[]
[null,"Nr.",null,null,null,null,null,null,null,"Beginn",null,null,null,null,"3. Viertelfinale",null,null,null,null,null,null,null,null,null,null,null,null,null,null,null,null,null,null,null,null,null,null,null,null,null,null,null,null,null,null,null,null,null,"Ergebnis"]
[null,61,null,null,null,null,null,null,null,{"$f":"J74+$V$67*$Y$67+$AL$67","v":"15:24:00"},null,null,null,null,{"$f":"IF(ISBLANK($AZ$43),\"\",IF($CI$32>0,\"ACHTUNG! Mannschaften gleich!\",$BY$32))","v":""},null,null,null,null,null,null,null,null,null,null,null,null,null,null,null,"-",{"$f":"IF(ISBLANK($AZ$47),\"\",IF($CJ$44>0,\"ACHTUNG! Mannschaften gleich!\",$BY$44))","v":""},null,null,null,null,null,null,null,null,null,null,null,null,null,null,null,null,null,null,":"]
[null,null,null,null,null,null,null,null,null,null,null,null,null,null,"2. Gruppe A",null,null,null,null,null,null,null,null,null,null,null,null,null,null,null,null,"2. Gruppe C"]
[]
[null,"Nr.",null,null,null,null,null,null,null,"Beginn",null,null,null,null,"4. Viertelfinale",null,null,null,null,null,null,null,null,null,null,null,null,null,null,null,null,null,null,null,null,null,null,null,null,null,null,null,null,null,null,null,null,null,"Ergebnis"]
[null,62,null,null,null,null,null,null,null,{"$f":"J78+$V$67*$Y$67+$AL$67","v":"15:36:00"},null,null,null,null,{"$f":"IF(ISBLANK($AZ$45),\"\",IF($CJ$38>0,\"ACHTUNG! Mannschaften gleich!\",$BY$38))","v":""},null,null,null,null,null,null,null,null,null,null,null,null,null,null,null,"-",{"$f":"IF(ISBLANK($AZ$47),\"\",IF($CJ$43>0,\"ACHTUNG! Mannschaften gleich!\",$BY$43))","v":""},null,null,null,null,null,null,null,null,null,null,null,null,null,null,null,null,null,null,":"]
[null,null,null,null,null,null,null,null,null,null,null,null,null,null,"2. Gruppe B",null,null,null,null,null,null,null,null,null,null,null,null,null,null,null,null,"1. Gruppe C"]
[]
[null,"Nr.",null,null,null,null,null,null,null,"Beginn",null,null,null,null,"1. Halbfinale",null,null,null,null,null,null,null,null,null,null,null,null,null,null,null,null,null,null,null,null,null,null,null,null,null,null,null,null,null,null,null,null,null,"Ergebnis"]
[null,63,null,null,null,null,null,null,null,{"$f":"J82+$V$67*$Y$67+$AL$67","v":"15:48:00"},null,null,null,null,{"$f":"IF(ISBLANK($AZ$70),\" \",IF($AW$70>$AZ$70,$O$70,IF($AZ$70>$AW$70,$AF$70)))","v":" "},null,null,null,null,null,null,null,null,null,null,null,null,null,null,null,"-",{"$f":"IF(ISBLANK($AZ$74),\" \",IF($AW$74>$AZ$74,$O$74,IF($AZ$74>$AW$74,$AF$74)))","v":" "},null,null,null,null,null,null,null,null,null,null,null,null,null,null,null,null,null,null,":"]
[null,null,null,null,null,null,null,null,null,null,null,null,null,null,"Sieger Spiel 59",null,null,null,null,null,null,null,null,null,null,null,null,null,null,null,null,"Sieger Spiel 60"]
[]
[null,"Nr.",null,null,null,null,null,null,null,"Beginn",null,null,null,null,"2. Halbfinale",null,null,null,null,null,null,null,null,null,null,null,null,null,null,null,null,null,null,null,null,null,null,null,null,null,null,null,null,null,null,null,null,null,"Ergebnis"]
[null,64,null,null,null,null,null,null,null,{"$f":"J86+$V$67*$Y$67+$AL$67","v":"16:00:00"},null,null,null,null,{"$f":"IF(ISBLANK($AZ$78),\" \",IF($AW$78>$AZ$78,$O$78,IF($AZ$78>$AW$78,$AF$78)))","v":" "},null,null,null,null,null,null,null,null,null,null,null,null,null,null,null,"-",{"$f":"IF(ISBLANK($AZ$82),\" \",IF($AW$82>$AZ$82,$O$82,IF($AZ$82>$AW$82,$AF$82)))","v":" "},null,null,null,null,null,null,null,null,null,null,null,null,null,null,null,null,null,null,":"]
[null,null,null,null,null,null,null,null,null,null,null,null,null,null,"Sieger Spiel 61",null,null,null,null,null,null,null,null,null,null,null,null,null,null,null,null,"Sieger Spiel 62"]
[]
[null,"Nr.",null,null,null,null,null,null,null,"Beginn",null,null,null,null,"Spiel um Platz 3",null,null,null,null,null,null,null,null,null,null,null,null,null,null,null,null,null,null,null,null,null,null,null,null,null,null,null,null,null,null,null,null,null,"Ergebnis"]
[null,65,null,null,null,null,null,null,null,{"$f":"J90+2*($V$67*$Y$67+$AL$67)","v":"16:24:00"},null,null,null,null,{"$f":"IF(ISBLANK($AZ$86),\" \",IF($AW$86<$AZ$86,$O$86,IF($AZ$86<$AW$86,$AF$86)))","v":" "},null,null,null,null,null,null,null,null,null,null,null,null,null,null,null,"-",{"$f":"IF(ISBLANK($AZ$90),\" \",IF($AW$90<$AZ$90,$O$90,IF($AZ$90<$AW$90,$AF$90)))","v":" "},null,null,null,null,null,null,null,null,null,null,null,null,null,null,null,null,null,null,":"]
[null,null,null,null,null,null,null,null,null,null,null,null,null,null,"Verlierer Spiel 63",null,null,null,null,null,null,null,null,null,null,null,null,null,null,null,null,"Verlierer Spiel 64"]
[]
[null,"Nr.",null,null,null,null,null,null,null,"Beginn",null,null,null,null,"Finale",null,null,null,null,null,null,null,null,null,null,null,null,null,null,null,null,null,null,null,null,null,null,null,null,null,null,null,null,null,null,null,null,null,"Ergebnis"]
[null,66,null,null,null,null,null,null,null,{"$f":"J94+$V$67*$Y$67+$AL$67","v":"16:36:00"},null,null,null,null,{"$f":"IF(ISBLANK($AZ$86),\" \",IF($AW$86>$AZ$86,$O$86,IF($AZ$86>$AW$86,$AF$86)))","v":" "},null,null,null,null,null,null,null,null,null,null,null,null,null,null,null,"-",{"$f":"IF(ISBLANK($AZ$90),\" \",IF($AW$90>$AZ$90,$O$90,IF($AZ$90>$AW$90,$AF$90)))","v":" "},null,null,null,null,null,null,null,null,null,null,null,null,null,null,null,null,null,null,":"]
[null,null,null,null,null,null,null,null,null,null,null,null,null,null,"Sieger Spiel 63",null,null,null,null,null,null,null,null,null,null,null,null,null,null,null,null,"Sieger Spiel 64"]
[]
[null,"V. Platzierungen"]
[]
[null,null,null,null,null,null,null,null,"1.",null,null,null,{"$f":"IF(ISBLANK($AZ$98),\" \",IF($AW$98>$AZ$98,$O$98,IF($AZ$98>$AW$98,$AF$98)))","v":" "}]
[null,null,null,null,null,null,null,null,"2.",null,null,null,{"$f":"IF(ISBLANK($AZ$98),\" \",IF($AW$98<$AZ$98,$O$98,IF($AZ$98<$AW$98,$AF$98)))","v":" "}]
[null,null,null,null,null,null,null,null,"3.",null,null,null,{"$f":"IF(ISBLANK($AZ$94),\" \",IF($AW$94>$AZ$94,$O$94,IF($AZ$94>$AW$94,$AF$94)))","v":" "}]
[null,null,null,null,null,null,null,null,"4.",null,null,null,{"$f":"IF(ISBLANK($AZ$94),\" \",IF($AW$94<$AZ$94,$O$94,IF($AZ$94<$AW$94,$AF$94)))","v":" "}]