{"text_format":"1","workbook":"xlsx","n_sheets":5,"sheets":["Gr.1+2","Gr.3+4","Gr.5+6","Gr.7+8","Endrunde"],"not_rendered":{"charts":0,"images":11,"macros":1,"external_links":0,"defined_names":8,"comments":0,"pivot_tables":0},"unopened":[],"bounds":{"document_bytes":16777216,"sheet_cells":100000,"rows_first":2000,"rows_last":500,"rows_between":2000,"halvings":0,"cell_chars":16384,"cell_head_chars":4096},"cells_cut":0,"cells_raw":0,"read":"whole","date_system":"1900"}

{"sheet":"Gr.1+2","index":0,"n_rows":53,"n_cols":70,"rows_kept":53,"cut":false,"hidden":false,"merged":[[3,0,3,41],[55,1,55,54],[52,21,52,22],[52,23,52,25],[50,21,50,22],[50,23,50,25],[52,15,52,17],[52,18,52,19],[52,50,52,51],[52,52,52,54],[52,32,52,43],[51,50,51,51],[51,52,51,54],[48,15,48,17],[50,1,50,2],[50,3,50,14],[50,15,50,17],[50,18,50,19],[51,23,51,25],[51,1,51,2],[51,3,51,14],[48,30,48,31],[48,32,48,43],[49,30,49,31],[48,23,48,25],[49,1,49,2],[49,3,49,14],[49,15,49,17],[49,18,49,19],[49,21,49,22],[49,23,49,25],[48,1,48,2],[48,3,48,14],[49,32,49,43],[48,18,48,19],[60,7,60,11],[48,21,48,22],[51,15,51,17],[51,18,51,19],[51,21,51,22],[43,51,43,52],[43,48,43,49],[48,44,48,46],[48,47,48,48],[50,50,50,51],[50,52,50,54],[49,44,49,46],[49,47,49,48],[48,50,48,51],[48,52,48,54],[49,50,49,51],[49,52,49,54],[50,44,50,46],[50,47,50,48],[50,30,50,31],[50,32,50,43],[51,30,51,31],[43,53,43,54],[47,1,47,14],[47,15,47,17],[47,18,47,22],[47,23,47,25],[43,3,43,5],[43,6,43,8],[43,9,43,13],[43,14,43,29],[43,31,43,47],[43,1,43,2],[47,30,47,43],[47,44,47,46],[47,47,47,51],[47,52,47,54],[41,51,41,52],[41,53,41,54],[42,3,42,5],[42,6,42,8],[42,9,42,13],[42,14,42,29],[42,31,42,47],[42,48,42,49],[42,51,42,52],[42,53,42,54],[41,3,41,5],[41,6,41,8],[41,9,41,13],[41,14,41,29],[41,31,41,47],[41,48,41,49],[39,51,39,52],[39,53,39,54],[40,3,40,5],[40,6,40,8],[40,9,40,13],[40,14,40,29],[40,31,40,47],[40,48,40,49],[40,51,40,52],[40,53,40,54],[39,3,39,5],[39,6,39,8],[39,9,39,13],[39,14,39,29],[39,31,39,47],[39,48,39,49],[37,51,37,52],[37,53,37,54],[38,3,38,5],[38,6,38,8],[38,9,38,13],[38,14,38,29],[38,31,38,47],[38,48,38,49],[38,51,38,52],[38,53,38,54],[37,3,37,5],[37,6,37,8],[37,9,37,13],[37,14,37,29],[37,31,37,47],[37,48,37,49],[35,51,35,52],[35,53,35,54],[36,3,36,5],[36,6,36,8],[36,9,36,13],[36,14,36,29],[36,31,36,47],[36,48,36,49],[36,51,36,52],[36,53,36,54],[35,3,35,5],[35,6,35,8],[35,9,35,13],[35,14,35,29],[35,31,35,47],[35,48,35,49],[33,51,33,52],[33,53,33,54],[34,3,34,5],[34,6,34,8],[34,9,34,13],[34,14,34,29],[34,31,34,47],[34,48,34,49],[34,51,34,52],[34,53,34,54],[33,3,33,5],[33,6,33,8],[33,9,33,13],[33,14,33,29],[33,31,33,47],[33,48,33,49],[31,51,31,52],[31,53,31,54],[32,9,32,13],[32,14,32,29],[32,31,32,47],[32,48,32,49],[32,51,32,52],[32,53,32,54],[31,3,31,5],[31,6,31,8],[31,9,31,13],[31,14,31,29],[31,31,31,47],[31,48,31,49],[32,3,32,5],[32,6,32,8],[30,9,30,13],[30,14,30,29],[30,31,30,47],[30,48,30,49],[30,51,30,52],[30,53,30,54],[29,9,29,13],[29,14,29,29],[29,31,29,47],[29,48,29,49],[29,51,29,52],[29,53,29,54],[28,9,28,13],[28,14,28,29],[28,31,28,47],[28,48,28,49],[28,51,28,52],[28,53,28,54],[26,9,26,13],[26,53,26,54],[27,3,27,5],[27,6,27,8],[27,9,27,13],[27,14,27,29],[27,31,27,47],[27,48,27,49],[27,51,27,52],[27,53,27,54],[28,3,28,5],[28,6,28,8],[25,51,25,52],[25,53,25,54],[26,3,26,5],[26,6,26,8],[26,14,26,29],[26,31,26,47],[26,48,26,49],[26,51,26,52],[25,3,25,5],[25,6,25,8],[29,3,29,5],[29,6,29,8],[38,1,38,2],[39,1,39,2],[40,1,40,2],[41,1,41,2],[42,1,42,2],[32,1,32,2],[33,1,33,2],[34,1,34,2],[35,1,35,2],[36,1,36,2],[37,1,37,2],[26,1,26,2],[27,1,27,2],[28,1,28,2],[29,1,29,2],[30,1,30,2],[31,1,31,2],[23,53,23,54],[23,48,23,52],[23,9,23,13],[23,3,23,5],[23,6,23,8],[23,14,23,47],[24,31,24,47],[24,1,24,2],[24,3,24,5],[24,6,24,8],[24,9,24,13],[23,1,23,2],[24,53,24,54],[24,48,24,49],[24,51,24,52],[25,48,25,49],[30,3,30,5],[30,6,30,8],[25,1,25,2],[25,14,25,29],[25,31,25,47],[25,9,25,13],[16,3,16,23],[17,3,17,23],[19,30,19,31],[16,30,16,31],[17,30,17,31],[24,14,24,29],[19,1,19,2],[19,3,19,23],[18,30,18,31],[15,1,15,2],[15,30,15,31],[15,24,15,25],[19,24,19,25],[16,1,16,2],[17,1,17,2],[18,1,18,2],[18,3,18,23],[16,24,16,25],[17,24,17,25],[18,24,18,25],[15,3,15,23],[5,12,5,19],[5,24,5,31],[14,30,14,52],[14,53,14,54],[7,1,7,38],[14,1,14,23],[14,24,14,25],[9,23,9,27],[9,7,9,11],[9,37,9,41],[9,20,9,21],[15,53,15,54],[17,53,17,54],[18,32,18,52],[18,53,18,54],[16,53,16,54],[17,32,17,52],[16,32,16,52],[15,32,15,52],[19,53,19,54],[19,32,19,52],[60,23,60,27],[60,37,60,41],[52,44,52,46],[52,30,52,31],[51,44,51,46],[51,47,51,48],[56,1,56,54],[52,1,52,2],[52,3,52,14],[60,20,60,21],[63,53,63,54],[67,53,67,54],[64,51,65,52],[68,1,69,2],[63,3,63,13],[67,3,67,13],[64,3,65,13],[67,1,67,2],[64,1,65,2],[64,53,65,54],[64,48,65,49],[63,1,63,2],[63,14,63,47],[64,31,64,47],[65,14,65,29],[65,31,65,47],[68,53,69,54],[1,0,2,41],[64,50,65,50],[68,51,69,52],[68,14,68,29],[68,50,69,50],[63,48,63,52],[68,48,69,49],[77,12,77,47],[78,12,78,47],[68,3,69,13],[68,31,68,47],[75,12,75,47],[76,12,76,47],[75,8,75,10],[69,14,69,29],[69,31,69,47],[76,8,76,10],[77,8,77,10],[78,8,78,10],[67,14,67,47],[64,14,64,29],[67,48,67,52],[51,32,51,43],[52,47,52,48]]}
[]
["Stadtsportbund Oberhausen e.V.\nFachschaft Fußball"]
[]
["Senioren Hallenfußball Stadtmeisterschaft 2018"]
[]
[null,null,null,null,null,null,null,null,null,null,null,"Am","Samstag",null,null,null,null,null,null,null,", den",null,null,null,"2018-01-13"]
[]
[null,"Sporthalle Willy-Jürissen, Goebenstr., 46045 OB"]
[]
[null,null,null,null,null,null,"Beginn:","10:30:00",null,null,null,null,"Uhr",null,null,null,null,null,null,"Spielzeit:",1,null,"x","00:10:00",null,null,null,null,"min",null,null,null,null,null,null,null,"Pause:","00:02:00",null,null,null,null,"min"]
[]
[]
[null,"I. Teilnehmende Mannschaften"]
[]
[null,"Gruppe 1",null,null,null,null,null,null,null,null,null,null,null,null,null,null,null,null,null,null,null,null,null,null,null,null,null,null,null,null,"Gruppe 2"]
[null,"1.",null,"Sportfreunde Königshardt",null,null,null,null,null,null,null,null,null,null,null,null,null,null,null,null,null,null,null,null,null,null,null,null,null,null,"1.",null,"Spvgg. Sterkrade 06/07"]
[null,"2.",null,"Post SV Oberhausen",null,null,null,null,null,null,null,null,null,null,null,null,null,null,null,null,null,null,null,null,null,null,null,null,null,null,"2.",null,"SV Concordia Oberhausen"]
[null,"3.",null,"Grün-Weiß Holten",null,null,null,null,null,null,null,null,null,null,null,null,null,null,null,null,null,null,null,null,null,null,null,null,null,null,"3.",null,"PSV Oberhausen"]
[null,"4.",null,"U.D. Espanol 82 OB",null,null,null,null,null,null,null,null,null,null,null,null,null,null,null,null,null,null,null,null,null,null,null,null,null,null,"4.",null,"SG Hibernia Alstaden"]
[null,null,null,null,null,null,null,null,null,null,null,null,null,null,null,null,null,null,null,null,null,null,null,null,null,null,null,null,null,null,"5.",null,"Hobby-Liga Oberhausen"]
[]
[null,"II. Spielplan Vorrunde"]
[]
[null,"Nr.",null,null,null,null,"Grp.",null,null,"Beginn",null,null,null,null,"Spielpaarung",null,null,null,null,null,null,null,null,null,null,null,null,null,null,null,null,null,null,null,null,null,null,null,null,null,null,null,null,null,null,null,null,null,"Ergebnis",null,null,null,null,null,null,null,null,"Punkte"]
[null,1,null,null,null,null,1,null,null,{"$f":"$H$10","v":"10:30:00"},null,null,null,null,{"$f":"D16","v":"Sportfreunde Königshardt"},null,null,null,null,null,null,null,null,null,null,null,null,null,null,null,"-",{"$f":"D17","v":"Post SV Oberhausen"},null,null,null,null,null,null,null,null,null,null,null,null,null,null,null,null,null,null,":",null,null,null,null,null,null,{"$f":"IF(ISBLANK(AW25),\"0\",IF(AW25>AZ25,3,IF(AW25=AZ25,1,0)))","v":"0"},":",{"$f":"IF(ISBLANK(AZ25),\"0\",IF(AZ25>AW25,3,IF(AZ25=AW25,1,0)))","v":"0"}]
[null,2,null,null,null,null,1,null,null,{"$f":"J25+$U$10*$X$10+$AL$10","v":"10:42:00"},null,null,null,null,{"$f":"D19","v":"U.D. Espanol 82 OB"},null,null,null,null,null,null,null,null,null,null,null,null,null,null,null,"-",{"$f":"D18","v":"Grün-Weiß Holten"},null,null,null,null,null,null,null,null,null,null,null,null,null,null,null,null,null,null,":",null,null,null,null,null,null,"0",":","0"]
[null,3,null,null,null,null,2,null,null,{"$f":"J26+$U$10*$X$10+$AL$10","v":"10:54:00"},null,null,null,null,{"$f":"AG16","v":"Spvgg. Sterkrade 06/07"},null,null,null,null,null,null,null,null,null,null,null,null,null,null,null,"-",{"$f":"AG17","v":"SV Concordia Oberhausen"},null,null,null,null,null,null,null,null,null,null,null,null,null,null,null,null,null,null,":",null,null,null,null,null,null,"0",":","0"]
[null,4,null,null,null,null,2,null,null,{"$f":"J27+$U$10*$X$10+$AL$10","v":"11:06:00"},null,null,null,null,{"$f":"AG19","v":"SG Hibernia Alstaden"},null,null,null,null,null,null,null,null,null,null,null,null,null,null,null,"-",{"$f":"AG18","v":"PSV Oberhausen"},null,null,null,null,null,null,null,null,null,null,null,null,null,null,null,null,null,null,":",null,null,null,null,null,null,"0",":","0"]
[null,null,null,null,null,null,null,null,null,null,null,null,null,null,null,null,null,null,null,null,null,null,null,null,null,null,null,null,null,null,null,null,null,null,null,null,null,null,null,null,null,null,null,null,null,null,null,null,null,null,null,null,null,null,null,null,null,"0",":","0"]
[null,5,null,null,null,null,1,null,null,{"$f":"J28+$U$10*$X$10+$AL$10","v":"11:18:00"},null,null,null,null,{"$f":"D17","v":"Post SV Oberhausen"},null,null,null,null,null,null,null,null,null,null,null,null,null,null,null,"-",{"$f":"D19","v":"U.D. Espanol 82 OB"},null,null,null,null,null,null,null,null,null,null,null,null,null,null,null,null,null,null,":",null,null,null,null,null,null,"0",":","0"]
[null,6,null,null,null,null,2,null,null,{"$f":"J30+$U$10*$X$10+$AL$10","v":"11:30:00"},null,null,null,null,{"$f":"AG20","v":"Hobby-Liga Oberhausen"},null,null,null,null,null,null,null,null,null,null,null,null,null,null,null,"-",{"$f":"AG16","v":"Spvgg. Sterkrade 06/07"},null,null,null,null,null,null,null,null,null,null,null,null,null,null,null,null,null,null,":",null,null,null,null,null,null,"0",":","0",null,null,null,null,{"$f":"$D$19","v":"U.D. Espanol 82 OB"},{"$f":"SUM($BF$26+$BH$30+$BF$34+$BH$38)","v":0},{"$f":"SUM($AW$26+$AZ$30+$AW$34+$AZ$38)","v":0},":",{"$f":"SUM($AZ$26+$AW$30+$AZ$34+$AW$38)","v":0},{"$f":"SUM(BO31-BQ31)","v":0}]
[null,7,null,null,null,null,2,null,null,{"$f":"J31+$U$10*$X$10+$AL$10","v":"11:42:00"},null,null,null,null,{"$f":"AG17","v":"SV Concordia Oberhausen"},null,null,null,null,null,null,null,null,null,null,null,null,null,null,null,"-",{"$f":"AG19","v":"SG Hibernia Alstaden"},null,null,null,null,null,null,null,null,null,null,null,null,null,null,null,null,null,null,":",null,null,null,null,null,null,"0",":","0",null,null,null,null,{"$f":"$D$16","v":"Sportfreunde Königshardt"},{"$f":"SUM($BF$25+$BH$29+$BH$34+$BF$41)","v":0},{"$f":"SUM($AW$25+$AZ$29+$AZ$34+$AW$41)","v":0},":",{"$f":"SUM($AZ$25+$AW$29+$AW$34+$AZ$41)","v":0},{"$f":"SUM(BO32-BQ32)","v":0}]
[null,null,null,null,null,null,null,null,null,null,null,null,null,null,null,null,null,null,null,null,null,null,null,null,null,null,null,null,null,null,null,null,null,null,null,null,null,null,null,null,null,null,null,null,null,null,null,null,null,null,null,null,null,null,null,null,null,"0",":","0",null,null,null,null,{"$f":"$D$17","v":"Post SV Oberhausen"},{"$f":"SUM($BH$25+$BF$30+$BH$37+$BF$42)","v":0},{"$f":"SUM($AZ$25+$AW$30+$AZ$37+$AW$42)","v":0},":",{"$f":"SUM($AW$25+$AZ$30+$AW$37+$AZ$42)","v":0},{"$f":"SUM(BO33-BQ33)","v":0}]
[null,8,null,null,null,null,1,null,null,{"$f":"J32+$U$10*$X$10+$AL$10","v":"11:54:00"},null,null,null,null,{"$f":"D19","v":"U.D. Espanol 82 OB"},null,null,null,null,null,null,null,null,null,null,null,null,null,null,null,"-",{"$f":"D16","v":"Sportfreunde Königshardt"},null,null,null,null,null,null,null,null,null,null,null,null,null,null,null,null,null,null,":",null,null,null,null,null,null,"0",":","0",null,null,null,null,{"$f":"$D$18","v":"Grün-Weiß Holten"},{"$f":"SUM($BH$26+$BF$33+$BF$37+$BH$41)","v":0},{"$f":"SUM($AZ$26+$AW$33+$AW$37+$AZ$41)","v":0},":",{"$f":"SUM($AW$26+$AZ$33+$AZ$37+$AW$41)","v":0},{"$f":"SUM(BO34-BQ34)","v":0}]
[null,9,null,null,null,null,2,null,null,{"$f":"J34+$U$10*$X$10+$AL$10","v":"12:06:00"},null,null,null,null,{"$f":"AG18","v":"PSV Oberhausen"},null,null,null,null,null,null,null,null,null,null,null,null,null,null,null,"-",{"$f":"AG20","v":"Hobby-Liga Oberhausen"},null,null,null,null,null,null,null,null,null,null,null,null,null,null,null,null,null,null,":",null,null,null,null,null,null,"0",":","0"]
[null,10,null,null,null,null,2,null,null,{"$f":"J35+$U$10*$X$10+$AL$10","v":"12:18:00"},null,null,null,null,{"$f":"AG19","v":"SG Hibernia Alstaden"},null,null,null,null,null,null,null,null,null,null,null,null,null,null,null,"-",{"$f":"AG16","v":"Spvgg. Sterkrade 06/07"},null,null,null,null,null,null,null,null,null,null,null,null,null,null,null,null,null,null,":",null,null,null,null,null,null,"0",":","0"]
[null,11,null,null,null,null,1,null,null,{"$f":"J36+$U$10*$X$10+$AL$10","v":"12:30:00"},null,null,null,null,{"$f":"D18","v":"Grün-Weiß Holten"},null,null,null,null,null,null,null,null,null,null,null,null,null,null,null,"-",{"$f":"D17","v":"Post SV Oberhausen"},null,null,null,null,null,null,null,null,null,null,null,null,null,null,null,null,null,null,":",null,null,null,null,null,null,"0",":","0"]
[null,null,null,null,null,null,null,null,null,null,null,null,null,null,null,null,null,null,null,null,null,null,null,null,null,null,null,null,null,null,null,null,null,null,null,null,null,null,null,null,null,null,null,null,null,null,null,null,null,null,null,null,null,null,null,null,null,"0",":","0",null,null,null,null,{"$f":"$AG$16","v":"Spvgg. Sterkrade 06/07"},{"$f":"SUM($BF$27+$BH$31+$BH$36+$BF$43)","v":0},{"$f":"SUM($AW$27+$AZ$31+$AZ$36+$AW$43)","v":0},":",{"$f":"SUM($AZ$27+$AW$31+$AW$36+$AZ$43)","v":0},{"$f":"SUM(BO38-BQ38)","v":0}]
[null,12,null,null,null,null,2,null,null,{"$f":"J37+$U$10*$X$10+$AL$10","v":"12:42:00"},null,null,null,null,{"$f":"AG18","v":"PSV Oberhausen"},null,null,null,null,null,null,null,null,null,null,null,null,null,null,null,"-",{"$f":"AG17","v":"SV Concordia Oberhausen"},null,null,null,null,null,null,null,null,null,null,null,null,null,null,null,null,null,null,":",null,null,null,null,null,null,"0",":","0",null,null,null,null,{"$f":"$AG$17","v":"SV Concordia Oberhausen"},{"$f":"SUM($BH$27+$BF$32+$BH$39+$BF$44)","v":0},{"$f":"SUM($AZ$27+$AW$32+$AZ$39+$AW$44)","v":0},":",{"$f":"SUM($AW$27+$AZ$32+$AW$39+$AZ$44)","v":0},{"$f":"SUM(BO39-BQ39)","v":0}]
[null,13,null,null,null,null,2,null,null,{"$f":"J39+$U$10*$X$10+$AL$10","v":"12:54:00"},null,null,null,null,{"$f":"AG20","v":"Hobby-Liga Oberhausen"},null,null,null,null,null,null,null,null,null,null,null,null,null,null,null,"-",{"$f":"AG19","v":"SG Hibernia Alstaden"},null,null,null,null,null,null,null,null,null,null,null,null,null,null,null,null,null,null,":",null,null,null,null,null,null,"0",":","0",null,null,null,null,{"$f":"$AG$20","v":"Hobby-Liga Oberhausen"},{"$f":"SUM($BF$31+$BH$35+$BF$40+$BH$44)","v":0},{"$f":"SUM($AW$31+$AZ$35+$AW$40+$AZ$44)","v":0},":",{"$f":"SUM($AZ$31+$AW$35+$AZ$40+$AW$44)","v":0},{"$f":"SUM(BO40-BQ40)","v":0}]
[null,14,null,null,null,null,1,null,null,{"$f":"J40+$U$10*$X$10+$AL$10","v":"13:06:00"},null,null,null,null,{"$f":"D16","v":"Sportfreunde Königshardt"},null,null,null,null,null,null,null,null,null,null,null,null,null,null,null,"-",{"$f":"D18","v":"Grün-Weiß Holten"},null,null,null,null,null,null,null,null,null,null,null,null,null,null,null,null,null,null,":",null,null,null,null,null,null,"0",":","0",null,null,null,null,{"$f":"$AG$19","v":"SG Hibernia Alstaden"},{"$f":"SUM($BF$28+$BH$32+$BF$36+$BH$40)","v":0},{"$f":"SUM($AW$28+$AZ$32+$AW$36+$AZ$40)","v":0},":",{"$f":"SUM($AZ$28+$AW$32+$AZ$36+$AW$40)","v":0},{"$f":"SUM(BO41-BQ41)","v":0}]
[null,null,null,null,null,null,null,null,null,null,null,null,null,null,null,null,null,null,null,null,null,null,null,null,null,null,null,null,null,null,null,null,null,null,null,null,null,null,null,null,null,null,null,null,null,null,null,null,null,null,null,null,null,null,null,null,null,"0",":","0",null,null,null,null,{"$f":"$AG$18","v":"PSV Oberhausen"},{"$f":"SUM($BH$28+$BF$35+$BF$39+$BH$43)","v":0},{"$f":"SUM($AZ$28+$AW$35+$AW$39+$AZ$43)","v":0},":",{"$f":"SUM($AW$28+$AZ$35+$AZ$39+$AW$43)","v":0},{"$f":"SUM(BO42-BQ42)","v":0}]
[null,15,null,null,null,null,2,null,null,{"$f":"J41+$U$10*$X$10+$AL$10","v":"13:18:00"},null,null,null,null,{"$f":"AG16","v":"Spvgg. Sterkrade 06/07"},null,null,null,null,null,null,null,null,null,null,null,null,null,null,null,"-",{"$f":"AG18","v":"PSV Oberhausen"},null,null,null,null,null,null,null,null,null,null,null,null,null,null,null,null,null,null,":",null,null,null,null,null,null,"0",":","0"]
[null,16,null,null,null,null,2,null,null,{"$f":"J43+$U$10*$X$10+$AL$10","v":"13:30:00"},null,null,null,null,{"$f":"AG17","v":"SV Concordia Oberhausen"},null,null,null,null,null,null,null,null,null,null,null,null,null,null,null,"-",{"$f":"AG20","v":"Hobby-Liga Oberhausen"},null,null,null,null,null,null,null,null,null,null,null,null,null,null,null,null,null,null,":",null,null,null,null,null,null,"0",":","0"]
[]
[null,"III. Abschlußtabellen Vorrunde"]
[]
[null,"Gruppe 1",null,null,null,null,null,null,null,null,null,null,null,null,null,"Pkt.",null,null,"Tore",null,null,null,null,"Diff.",null,null,null,null,null,null,"Gruppe 2",null,null,null,null,null,null,null,null,null,null,null,null,null,"Pkt.",null,null,"Tore",null,null,null,null,"Diff."]
[null,"1.",null,null,null,null,null,null,null,null,null,null,null,null,null,null,null,null,null,null,":",null,null,null,null,null,null,null,null,null,"1.",null,null,null,null,null,null,null,null,null,null,null,null,null,null,null,null,null,null,":"]
[null,"2.",null,null,null,null,null,null,null,null,null,null,null,null,null,null,null,null,null,null,":",null,null,null,null,null,null,null,null,null,"2.",null,null,null,null,null,null,null,null,null,null,null,null,null,null,null,null,null,null,":"]
[null,"3.",null,null,null,null,null,null,null,null,null,null,null,null,null,null,null,null,null,null,":",null,null,null,null,null,null,null,null,null,"3.",null,null,null,null,null,null,null,null,null,null,null,null,null,null,null,null,null,null,":"]
[null,"4.",null,null,null,null,null,null,null,null,null,null,null,null,null,null,null,null,null,null,":",null,null,null,null,null,null,null,null,null,"4.",null,null,null,null,null,null,null,null,null,null,null,null,null,null,null,null,null,null,":"]
[null,null,null,null,null,null,null,null,null,null,null,null,null,null,null,null,null,null,null,null,null,null,null,null,null,null,null,null,null,null,"5.",null,null,null,null,null,null,null,null,null,null,null,null,null,null,null,null,null,null,":"]

{"sheet":"Gr.3+4","index":1,"n_rows":49,"n_cols":71,"rows_kept":49,"cut":false,"hidden":false,"merged":[[1,0,2,41],[42,33,42,35],[41,6,41,29],[39,41,39,43],[40,6,40,29],[44,41,44,43],[45,6,45,29],[3,0,3,41],[34,31,34,47],[33,31,33,47],[34,9,34,13],[34,14,34,29],[38,30,38,32],[42,6,42,29],[39,4,39,5],[38,33,38,35],[38,4,38,29],[38,36,38,40],[38,41,38,43],[41,4,41,5],[40,4,40,5],[39,6,39,29],[39,30,39,32],[39,33,39,35],[41,41,41,43],[44,33,44,35],[44,36,44,40],[47,39,47,40],[45,30,45,32],[46,30,46,32],[41,39,41,40],[40,39,40,40],[40,41,40,43],[42,39,42,40],[42,36,42,37],[40,30,40,32],[40,33,40,35],[40,36,40,37],[41,30,41,32],[41,33,41,35],[46,33,46,35],[47,33,47,35],[45,41,45,43],[39,36,39,37],[39,39,39,40],[41,36,41,37],[46,36,46,37],[46,39,46,40],[45,36,45,37],[45,39,45,40],[47,30,47,32],[47,36,47,37],[44,4,44,29],[44,30,44,32],[48,4,48,5],[53,1,53,54],[42,4,42,5],[48,33,48,35],[48,6,48,29],[46,41,46,43],[48,41,48,43],[48,30,48,32],[48,39,48,40],[42,41,42,43],[47,6,47,29],[45,4,45,5],[45,33,45,35],[46,4,46,5],[46,6,46,29],[47,4,47,5],[48,36,48,37],[42,30,42,32],[52,1,52,54],[47,41,47,43],[33,48,33,49],[33,51,33,52],[33,53,33,54],[33,3,33,5],[33,6,33,8],[33,9,33,13],[33,14,33,29],[34,48,34,49],[34,51,34,52],[34,53,34,54],[34,3,34,5],[34,6,34,8],[32,31,32,47],[32,48,32,49],[32,51,32,52],[32,53,32,54],[31,9,31,13],[31,14,31,29],[31,31,31,47],[31,48,31,49],[32,3,32,5],[32,6,32,8],[32,9,32,13],[32,14,32,29],[31,51,31,52],[31,53,31,54],[29,51,29,52],[29,53,29,54],[30,51,30,52],[30,53,30,54],[26,51,26,52],[28,31,28,47],[28,48,28,49],[28,51,28,52],[28,53,28,54],[26,53,26,54],[28,3,28,5],[28,6,28,8],[28,9,28,13],[28,14,28,29],[31,3,31,5],[31,6,31,8],[30,3,30,5],[30,6,30,8],[26,48,26,49],[27,3,27,5],[27,6,27,8],[29,9,29,13],[29,14,29,29],[30,9,30,13],[30,14,30,29],[30,31,30,47],[30,48,30,49],[29,31,29,47],[29,48,29,49],[25,3,25,5],[25,6,25,8],[25,14,25,29],[27,31,27,47],[25,31,25,47],[27,48,27,49],[27,51,27,52],[27,53,27,54],[25,53,25,54],[26,3,26,5],[26,6,26,8],[26,9,26,13],[26,14,26,29],[26,31,26,47],[25,9,25,13],[27,9,27,13],[27,14,27,29],[23,1,23,2],[23,3,23,5],[23,6,23,8],[23,9,23,13],[23,53,23,54],[22,1,22,2],[22,6,22,8],[22,3,22,5],[24,51,24,52],[24,53,24,54],[5,12,5,19],[5,24,5,31],[14,30,14,52],[23,48,23,49],[23,51,23,52],[18,30,18,31],[22,14,22,47],[18,1,18,2],[18,3,18,23],[16,24,16,25],[17,24,17,25],[18,24,18,25],[16,3,16,23],[17,3,17,23],[15,1,15,2],[15,30,15,31],[15,24,15,25],[16,1,16,2],[15,3,15,23],[17,1,17,2],[16,30,16,31],[17,30,17,31],[7,1,7,38],[14,1,14,23],[14,24,14,25],[9,23,9,27],[9,7,9,11],[9,37,9,41],[24,9,24,13],[24,3,24,5],[24,6,24,8],[24,1,24,2],[15,53,15,54],[17,53,17,54],[18,32,18,52],[18,53,18,54],[16,53,16,54],[15,32,15,52],[16,32,16,52],[17,32,17,52],[14,53,14,54],[24,48,24,49],[9,20,9,21],[23,14,23,29],[22,53,22,54],[22,48,22,52],[22,9,22,13],[23,31,23,47],[57,23,57,27],[57,37,57,41],[61,1,62,2],[61,9,62,13],[60,14,60,47],[57,7,57,11],[60,48,60,52],[24,14,24,29],[24,31,24,47],[25,1,25,2],[26,1,26,2],[27,1,27,2],[28,1,28,2],[33,1,33,2],[34,1,34,2],[29,1,29,2],[30,1,30,2],[31,1,31,2],[32,1,32,2],[25,48,25,49],[25,51,25,52],[29,3,29,5],[29,6,29,8],[57,20,57,21],[65,53,66,54],[66,14,66,29],[66,31,66,47],[65,14,65,29],[65,31,65,47],[65,48,66,49],[65,50,66,50],[65,1,66,2],[65,9,66,13],[65,51,66,52],[60,53,60,54],[64,1,64,2],[64,9,64,13],[64,14,64,47],[64,48,64,52],[64,53,64,54],[60,1,60,2],[60,9,60,13],[61,53,62,54],[61,50,62,50],[61,51,62,52],[62,14,62,29],[62,31,62,47],[61,14,61,29],[61,31,61,47],[61,48,62,49],[74,8,74,10],[72,12,72,47],[60,3,60,8],[61,3,62,8],[64,3,64,8],[65,3,66,8],[73,12,73,47],[74,12,74,47],[71,12,71,47],[73,8,73,10],[72,8,72,10],[71,8,71,10]]}
[]
["Stadtsportbund Oberhausen e.V.\nFachschaft Fußball"]
[]
["Senioren Hallenfußball Stadtmeisterschaft 2018"]
[]
[null,null,null,null,null,null,null,null,null,null,null,"Am","Samstag",null,null,null,null,null,null,null,", den",null,null,null,"2018-01-13"]
[]
[null,"Sporthalle Willy-Jürissen, Goebenstr., 46045 OB"]
[]
[null,null,null,null,null,null,"Beginn:","14:30:00",null,null,null,null,"Uhr",null,null,null,null,null,null,"Spielzeit:",1,null,"x","00:10:00",null,null,null,null,"min",null,null,null,null,null,null,null,"Pause:","00:02:00",null,null,null,null,"min"]
[]
[]
[null,"I. Teilnehmende Mannschaften"]
[]
[null,"Gruppe 3",null,null,null,null,null,null,null,null,null,null,null,null,null,null,null,null,null,null,null,null,null,null,null,null,null,null,null,null,"Gruppe 4"]
[null,"1.",null,"Blau Weiß Oberhausen",null,null,null,null,null,null,null,null,null,null,null,null,null,null,null,null,null,null,null,null,null,null,null,null,null,null,"1.",null,"Spvgg. Sterkrade-Nord"]
[null,"2.",null,"DJK Adler Oberhausen",null,null,null,null,null,null,null,null,null,null,null,null,null,null,null,null,null,null,null,null,null,null,null,null,null,null,"2.",null,"FC Sterkrade 72"]
[null,"3.",null,"SuS 1921 Oberhausen",null,null,null,null,null,null,null,null,null,null,null,null,null,null,null,null,null,null,null,null,null,null,null,null,null,null,"3.",null,"TSV Safakspor"]
[null,"4.",null,"Turnerbund Oberhausen",null,null,null,null,null,null,null,null,null,null,null,null,null,null,null,null,null,null,null,null,null,null,null,null,null,null,"4.",null,"BKV Oberhausen"]
[]
[null,"II. Spielplan Vorrunde"]
[]
[null,"Nr.",null,null,null,null,"Grp.",null,null,"Beginn",null,null,null,null,"Spielpaarung",null,null,null,null,null,null,null,null,null,null,null,null,null,null,null,null,null,null,null,null,null,null,null,null,null,null,null,null,null,null,null,null,null,"Ergebnis",null,null,null,null,null,null,null,null,"Punkte"]
[null,17,null,null,null,null,3,null,null,{"$f":"$H$10","v":"14:30:00"},null,null,null,null,{"$f":"$D$16","v":"Blau Weiß Oberhausen"},null,null,null,null,null,null,null,null,null,null,null,null,null,null,null,"-",{"$f":"$D$17","v":"DJK Adler Oberhausen"},null,null,null,null,null,null,null,null,null,null,null,null,null,null,null,null,null,null,":",null,null,null,null,null,null,{"$f":"IF(ISBLANK(AW24),\"0\",IF(AW24>AZ24,3,IF(AW24=AZ24,1,0)))","v":"0"},":",{"$f":"IF(ISBLANK(AZ24),\"0\",IF(AZ24>AW24,3,IF(AZ24=AW24,1,0)))","v":"0"}]
[null,18,null,null,null,null,3,null,null,{"$f":"J24+$U$10*$X$10+$AL$10","v":"14:42:00"},null,null,null,null,{"$f":"$D$18","v":"SuS 1921 Oberhausen"},null,null,null,null,null,null,null,null,null,null,null,null,null,null,null,"-",{"$f":"$D$19","v":"Turnerbund Oberhausen"},null,null,null,null,null,null,null,null,null,null,null,null,null,null,null,null,null,null,":",null,null,null,null,null,null,"0",":","0"]
[null,19,null,null,null,null,4,null,null,"14:54:00",null,null,null,null,{"$f":"$AG$16","v":"Spvgg. Sterkrade-Nord"},null,null,null,null,null,null,null,null,null,null,null,null,null,null,null,"-",{"$f":"$AG$17","v":"FC Sterkrade 72"},null,null,null,null,null,null,null,null,null,null,null,null,null,null,null,null,null,null,":",null,null,null,null,null,null,"0",":","0"]
[null,20,null,null,null,null,4,null,null,"15:06:00",null,null,null,null,{"$f":"$AG$18","v":"TSV Safakspor"},null,null,null,null,null,null,null,null,null,null,null,null,null,null,null,"-",{"$f":"$AG$19","v":"BKV Oberhausen"},null,null,null,null,null,null,null,null,null,null,null,null,null,null,null,null,null,null,":",null,null,null,null,null,null,"0",":","0"]
[null,21,null,null,null,null,3,null,null,"15:18:00",null,null,null,null,{"$f":"$D$16","v":"Blau Weiß Oberhausen"},null,null,null,null,null,null,null,null,null,null,null,null,null,null,null,"-",{"$f":"$D$18","v":"SuS 1921 Oberhausen"},null,null,null,null,null,null,null,null,null,null,null,null,null,null,null,null,null,null,":",null,null,null,null,null,null,"0",":","0"]
[null,22,null,null,null,null,3,null,null,"15:30:00",null,null,null,null,{"$f":"$D$17","v":"DJK Adler Oberhausen"},null,null,null,null,null,null,null,null,null,null,null,null,null,null,null,"-",{"$f":"$D$19","v":"Turnerbund Oberhausen"},null,null,null,null,null,null,null,null,null,null,null,null,null,null,null,null,null,null,":",null,null,null,null,null,null,"0",":","0"]
[null,23,null,null,null,null,4,null,null,"15:42:00",null,null,null,null,{"$f":"$AG$16","v":"Spvgg. Sterkrade-Nord"},null,null,null,null,null,null,null,null,null,null,null,null,null,null,null,"-",{"$f":"$AG$18","v":"TSV Safakspor"},null,null,null,null,null,null,null,null,null,null,null,null,null,null,null,null,null,null,":",null,null,null,null,null,null,"0",":","0",null,null,null,null,{"$f":"$D$16","v":"Blau Weiß Oberhausen"},{"$f":"COUNT($AW$24,$AW$28,$AZ$33)","v":0},{"$f":"SUM($BF$24+$BF$28+$BH$33)","v":0},{"$f":"SUM($AW$24+$AW$28+$AZ$33)","v":0},":",{"$f":"SUM($AZ$24+$AZ$28+$AW$33)","v":0},{"$f":"SUM(BP30-BR30)","v":0}]
[null,24,null,null,null,null,4,null,null,"15:54:00",null,null,null,null,{"$f":"$AG$17","v":"FC Sterkrade 72"},null,null,null,null,null,null,null,null,null,null,null,null,null,null,null,"-",{"$f":"$AG$19","v":"BKV Oberhausen"},null,null,null,null,null,null,null,null,null,null,null,null,null,null,null,null,null,null,":",null,null,null,null,null,null,"0",":","0",null,null,null,null,{"$f":"$D$18","v":"SuS 1921 Oberhausen"},{"$f":"COUNT($AW$25,$AZ$28,$AZ$32)","v":0},{"$f":"SUM($BF$25+$BH$28+$BH$32)","v":0},{"$f":"SUM($AW$25+$AZ$28+$AZ$32)","v":0},":",{"$f":"SUM($AZ$25+$AW$28+$AW$32)","v":0},{"$f":"SUM(BP31-BR31)","v":0}]
[null,25,null,null,null,null,3,null,null,"16:06:00",null,null,null,null,{"$f":"$D$17","v":"DJK Adler Oberhausen"},null,null,null,null,null,null,null,null,null,null,null,null,null,null,null,"-",{"$f":"$D$18","v":"SuS 1921 Oberhausen"},null,null,null,null,null,null,null,null,null,null,null,null,null,null,null,null,null,null,":",null,null,null,null,null,null,"0",":","0",null,null,null,null,{"$f":"$D$17","v":"DJK Adler Oberhausen"},{"$f":"COUNT($AZ$24,$AW$29,$AW$32)","v":0},{"$f":"SUM($BH$24+$BF$29+$BF$32)","v":0},{"$f":"SUM($AZ$24+$AW$29+$AW$32)","v":0},":",{"$f":"SUM($AW$24+$AZ$29+$AZ$32)","v":0},{"$f":"SUM(BP32-BR32)","v":0}]
[null,26,null,null,null,null,3,null,null,"16:18:00",null,null,null,null,{"$f":"$D$19","v":"Turnerbund Oberhausen"},null,null,null,null,null,null,null,null,null,null,null,null,null,null,null,"-",{"$f":"$D$16","v":"Blau Weiß Oberhausen"},null,null,null,null,null,null,null,null,null,null,null,null,null,null,null,null,null,null,":",null,null,null,null,null,null,"0",":","0",null,null,null,null,{"$f":"$D$19","v":"Turnerbund Oberhausen"},{"$f":"COUNT($AZ$25,$AZ$29,$AW$33)","v":0},{"$f":"SUM($BH$25+$BH$29+$BF$33)","v":0},{"$f":"SUM($AZ$25+$AZ$29+$AW$33)","v":0},":",{"$f":"SUM($AW$25+$AW$29+$AZ$33)","v":0},{"$f":"SUM(BP33-BR33)","v":0}]
[null,27,null,null,null,null,4,null,null,"16:30:00",null,null,null,null,{"$f":"$AG$17","v":"FC Sterkrade 72"},null,null,null,null,null,null,null,null,null,null,null,null,null,null,null,"-",{"$f":"$AG$18","v":"TSV Safakspor"},null,null,null,null,null,null,null,null,null,null,null,null,null,null,null,null,null,null,":",null,null,null,null,null,null,"0",":","0"]
[null,28,null,null,null,null,4,null,null,"16:42:00",null,null,null,null,{"$f":"$AG$19","v":"BKV Oberhausen"},null,null,null,null,null,null,null,null,null,null,null,null,null,null,null,"-",{"$f":"$AG$16","v":"Spvgg. Sterkrade-Nord"},null,null,null,null,null,null,null,null,null,null,null,null,null,null,null,null,null,null,":",null,null,null,null,null,null,"0",":","0"]
[]
[null,"III. Abschlußtabellen Vorrunde",null,null,null,null,null,null,null,null,null,null,null,null,null,null,null,null,null,null,null,null,null,null,null,null,null,null,null,null,null,null,null,null,null,null,null,null,null,null,null,null,null,null,null,null,null,null,null,null,null,null,null,null,null,null,null,null,null,null,null,null,null,null,{"$f":"$AG$17","v":"FC Sterkrade 72"},{"$f":"COUNT($AZ$26,$AW$31,$AW$34)","v":0},{"$f":"SUM($BH$26+$BF$31+$BF$34)","v":0},{"$f":"SUM($AZ$26+$AW$31+$AW$34)","v":0},":",{"$f":"SUM($AW$26+$AZ$31+$AZ$34)","v":0},{"$f":"SUM(BP37-BR37)","v":0}]
[null,null,null,null,null,null,null,null,null,null,null,null,null,null,null,null,null,null,null,null,null,null,null,null,null,null,null,null,null,null,null,null,null,null,null,null,null,null,null,null,null,null,null,null,null,null,null,null,null,null,null,null,null,null,null,null,null,null,null,null,null,null,null,null,{"$f":"$AG$16","v":"Spvgg. Sterkrade-Nord"},{"$f":"COUNT($AW$26,$AW$30,$AZ$35)","v":0},{"$f":"SUM($BF$26+$BF$30+$BH$35)","v":0},{"$f":"SUM($AW$26+$AW$30+$AZ$35)","v":0},":",{"$f":"SUM($AZ$26+$AZ$30+$AW$35)","v":0},{"$f":"SUM(BP38-BR38)","v":0}]
[null,null,null,null,"Gruppe 3",null,null,null,null,null,null,null,null,null,null,null,null,null,null,null,null,null,null,null,null,null,null,null,null,null,"Sp.",null,null,"Pkt.",null,null,"Tore",null,null,null,null,"Diff.",null,null,null,null,null,null,null,null,null,null,null,null,null,null,null,null,null,null,null,null,null,null,{"$f":"$AG$18","v":"TSV Safakspor"},{"$f":"COUNT($AW$27,$AZ$30,$AZ$34)","v":0},{"$f":"SUM($BF$27+$BH$30+$BH$34)","v":0},{"$f":"SUM($AW$27+$AZ$30+$AZ$34)","v":0},":",{"$f":"SUM($AZ$27+$AW$30+$AW$34)","v":0},{"$f":"SUM(BP39-BR39)","v":0}]
[null,null,null,null,"1.",null,null,null,null,null,null,null,null,null,null,null,null,null,null,null,null,null,null,null,null,null,null,null,null,null,null,null,null,null,null,null,null,null,":",null,null,null,null,null,null,null,null,null,null,null,null,null,null,null,null,null,null,null,null,null,null,null,null,null,{"$f":"$AG$19","v":"BKV Oberhausen"},{"$f":"COUNT($AZ$27,$AZ$31,$AW$35)","v":0},{"$f":"SUM($BH$27+$BH$31+$BF$35)","v":0},{"$f":"SUM($AZ$27+$AZ$31+$AW$35)","v":0},":",{"$f":"SUM($AW$27+$AW$31+$AZ$35)","v":0},{"$f":"SUM(BP40-BR40)","v":0}]
[null,null,null,null,"2.",null,null,null,null,null,null,null,null,null,null,null,null,null,null,null,null,null,null,null,null,null,null,null,null,null,null,null,null,null,null,null,null,null,":"]
[null,null,null,null,"3.",null,null,null,null,null,null,null,null,null,null,null,null,null,null,null,null,null,null,null,null,null,null,null,null,null,null,null,null,null,null,null,null,null,":"]
[null,null,null,null,4,null,null,null,null,null,null,null,null,null,null,null,null,null,null,null,null,null,null,null,null,null,null,null,null,null,null,null,null,null,null,null,null,null,":"]
[]
[null,null,null,null,"Gruppe 4",null,null,null,null,null,null,null,null,null,null,null,null,null,null,null,null,null,null,null,null,null,null,null,null,null,"Sp.",null,null,"Pkt.",null,null,"Tore",null,null,null,null,"Diff."]
[null,null,null,null,"1.",null,null,null,null,null,null,null,null,null,null,null,null,null,null,null,null,null,null,null,null,null,null,null,null,null,null,null,null,null,null,null,null,null,":"]
[null,null,null,null,"2.",null,null,null,null,null,null,null,null,null,null,null,null,null,null,null,null,null,null,null,null,null,null,null,null,null,null,null,null,null,null,null,null,null,":"]
[null,null,null,null,"3.",null,null,null,null,null,null,null,null,null,null,null,null,null,null,null,null,null,null,null,null,null,null,null,null,null,null,null,null,null,null,null,null,null,":"]
[null,null,null,null,"4.",null,null,null,null,null,null,null,null,null,null,null,null,null,null,null,null,null,null,null,null,null,null,null,null,null,null,null,null,null,null,null,null,null,":"]

{"sheet":"Gr.5+6","index":2,"n_rows":49,"n_cols":71,"rows_kept":49,"cut":false,"hidden":false,"merged":[[1,0,2,41],[3,0,3,41],[5,12,5,19],[5,24,5,31],[7,1,7,38],[9,7,9,11],[9,20,9,21],[9,23,9,27],[9,37,9,41],[16,1,16,2],[16,3,16,23],[16,24,16,25],[16,30,16,31],[16,32,16,52],[16,53,16,54],[14,1,14,23],[14,24,14,25],[14,30,14,52],[14,53,14,54],[15,1,15,2],[15,3,15,23],[15,24,15,25],[15,30,15,31],[15,32,15,52],[15,53,15,54],[18,1,18,2],[18,3,18,23],[18,24,18,25],[18,30,18,31],[18,32,18,52],[18,53,18,54],[17,1,17,2],[17,3,17,23],[17,24,17,25],[17,30,17,31],[17,32,17,52],[17,53,17,54],[22,53,22,54],[23,1,23,2],[23,3,23,5],[23,6,23,8],[23,9,23,13],[23,14,23,29],[23,31,23,47],[23,48,23,49],[23,51,23,52],[23,53,23,54],[22,1,22,2],[22,3,22,5],[22,6,22,8],[22,9,22,13],[22,14,22,47],[22,48,22,52],[24,48,24,49],[24,51,24,52],[24,53,24,54],[25,1,25,2],[25,3,25,5],[25,6,25,8],[25,9,25,13],[25,14,25,29],[25,31,25,47],[25,48,25,49],[24,1,24,2],[24,3,24,5],[24,6,24,8],[24,9,24,13],[24,14,24,29],[24,31,24,47],[25,51,25,52],[25,53,25,54],[26,1,26,2],[26,3,26,5],[26,6,26,8],[26,9,26,13],[26,14,26,29],[26,31,26,47],[26,48,26,49],[26,51,26,52],[26,53,26,54],[27,1,27,2],[27,3,27,5],[27,6,27,8],[27,9,27,13],[27,14,27,29],[27,31,27,47],[27,48,27,49],[27,51,27,52],[27,53,27,54],[28,48,28,49],[28,51,28,52],[28,53,28,54],[29,1,29,2],[29,3,29,5],[29,6,29,8],[29,9,29,13],[29,14,29,29],[29,31,29,47],[29,48,29,49],[28,1,28,2],[28,3,28,5],[28,6,28,8],[28,9,28,13],[28,14,28,29],[28,31,28,47],[29,51,29,52],[29,53,29,54],[30,1,30,2],[30,3,30,5],[30,6,30,8],[30,9,30,13],[30,14,30,29],[30,31,30,47],[30,48,30,49],[30,51,30,52],[30,53,30,54],[31,1,31,2],[31,3,31,5],[31,6,31,8],[31,9,31,13],[31,14,31,29],[31,31,31,47],[31,48,31,49],[31,51,31,52],[31,53,31,54],[32,48,32,49],[32,51,32,52],[32,53,32,54],[33,1,33,2],[33,3,33,5],[33,6,33,8],[33,9,33,13],[33,14,33,29],[33,31,33,47],[33,48,33,49],[32,1,32,2],[32,3,32,5],[32,6,32,8],[32,9,32,13],[32,14,32,29],[32,31,32,47],[34,53,34,54],[38,4,38,29],[38,30,38,32],[38,33,38,35],[38,36,38,40],[38,41,38,43],[33,51,33,52],[33,53,33,54],[34,1,34,2],[34,3,34,5],[34,6,34,8],[34,9,34,13],[34,14,34,29],[34,31,34,47],[34,48,34,49],[34,51,34,52],[39,41,39,43],[40,4,40,5],[40,6,40,29],[40,30,40,32],[40,33,40,35],[40,36,40,37],[40,39,40,40],[40,41,40,43],[39,4,39,5],[39,6,39,29],[39,30,39,32],[39,33,39,35],[39,36,39,37],[39,39,39,40],[41,41,41,43],[42,4,42,5],[42,6,42,29],[42,30,42,32],[42,33,42,35],[42,36,42,37],[42,39,42,40],[42,41,42,43],[41,4,41,5],[41,6,41,29],[41,30,41,32],[41,33,41,35],[41,36,41,37],[41,39,41,40],[44,4,44,29],[44,30,44,32],[44,33,44,35],[44,36,44,40],[44,41,44,43],[45,4,45,5],[45,6,45,29],[45,30,45,32],[45,33,45,35],[45,36,45,37],[45,39,45,40],[45,41,45,43],[46,4,46,5],[46,6,46,29],[46,30,46,32],[46,33,46,35],[46,36,46,37],[46,39,46,40],[46,41,46,43],[47,41,47,43],[48,4,48,5],[48,6,48,29],[48,30,48,32],[48,33,48,35],[48,36,48,37],[48,39,48,40],[48,41,48,43],[47,4,47,5],[47,6,47,29],[47,30,47,32],[47,33,47,35],[47,36,47,37],[47,39,47,40],[60,1,60,2],[60,3,60,8],[60,9,60,13],[60,14,60,47],[60,48,60,52],[60,53,60,54],[52,1,52,54],[53,1,53,54],[57,7,57,11],[57,20,57,21],[57,23,57,27],[57,37,57,41],[61,50,62,50],[61,51,62,52],[61,53,62,54],[62,14,62,29],[62,31,62,47],[64,1,64,2],[64,3,64,8],[64,9,64,13],[64,14,64,47],[64,48,64,52],[61,1,62,2],[61,3,62,8],[61,9,62,13],[61,14,61,29],[61,31,61,47],[61,48,62,49],[64,53,64,54],[65,1,66,2],[65,3,66,8],[65,9,66,13],[65,14,65,29],[65,31,65,47],[65,48,66,49],[65,50,66,50],[65,51,66,52],[65,53,66,54],[73,8,73,10],[73,12,73,47],[74,8,74,10],[74,12,74,47],[66,14,66,29],[66,31,66,47],[71,8,71,10],[71,12,71,47],[72,8,72,10],[72,12,72,47]]}
[]
["Stadtsportbund Oberhausen e.V.\nFachschaft Fußball"]
[]
["Senioren Hallenfußball Stadtmeisterschaft 2018"]
[]
[null,null,null,null,null,null,null,null,null,null,null,"Am","Sonntag",null,null,null,null,null,null,null,", den",null,null,null,"2018-01-14"]
[]
[null,"Sporthalle Willy-Jürissen, Goebenstr., 46045 OB"]
[]
[null,null,null,null,null,null,"Beginn:","10:30:00",null,null,null,null,"Uhr",null,null,null,null,null,null,"Spielzeit:",1,null,"x","00:10:00",null,null,null,null,"min",null,null,null,null,null,null,null,"Pause:","00:02:00",null,null,null,null,"min"]
[]
[]
[null,"I. Teilnehmende Mannschaften"]
[]
[null,"Gruppe 5",null,null,null,null,null,null,null,null,null,null,null,null,null,null,null,null,null,null,null,null,null,null,null,null,null,null,null,null,"Gruppe 6"]
[null,"1.",null,"SC 1920 Oberhausen",null,null,null,null,null,null,null,null,null,null,null,null,null,null,null,null,null,null,null,null,null,null,null,null,null,null,"1.",null,"SC Buschhausen 1912"]
[null,"2.",null,"Sportgemeinschaft Osterfeld",null,null,null,null,null,null,null,null,null,null,null,null,null,null,null,null,null,null,null,null,null,null,null,null,null,null,"2.",null,"DJK Arminia Lirich"]
[null,"3.",null,"SG Kaprys Oberhausen",null,null,null,null,null,null,null,null,null,null,null,null,null,null,null,null,null,null,null,null,null,null,null,null,null,null,"3.",null,"VFR 08 Oberhausen"]
[null,"4.",null,"1. AFC Oberhausen",null,null,null,null,null,null,null,null,null,null,null,null,null,null,null,null,null,null,null,null,null,null,null,null,null,null,"4.",null,"TuS Buschhausen 1900"]
[]
[null,"II. Spielplan Vorrunde"]
[]
[null,"Nr.",null,null,null,null,"Grp.",null,null,"Beginn",null,null,null,null,"Spielpaarung",null,null,null,null,null,null,null,null,null,null,null,null,null,null,null,null,null,null,null,null,null,null,null,null,null,null,null,null,null,null,null,null,null,"Ergebnis",null,null,null,null,null,null,null,null,"Punkte"]
[null,29,null,null,null,null,5,null,null,{"$f":"$H$10","v":"10:30:00"},null,null,null,null,{"$f":"$D$16","v":"SC 1920 Oberhausen"},null,null,null,null,null,null,null,null,null,null,null,null,null,null,null,"-",{"$f":"$D$17","v":"Sportgemeinschaft Osterfeld"},null,null,null,null,null,null,null,null,null,null,null,null,null,null,null,null,null,null,":",null,null,null,null,null,null,{"$f":"IF(ISBLANK(AW24),\"0\",IF(AW24>AZ24,3,IF(AW24=AZ24,1,0)))","v":"0"},":",{"$f":"IF(ISBLANK(AZ24),\"0\",IF(AZ24>AW24,3,IF(AZ24=AW24,1,0)))","v":"0"}]
[null,30,null,null,null,null,5,null,null,{"$f":"J24+$U$10*$X$10+$AL$10","v":"10:42:00"},null,null,null,null,{"$f":"$D$18","v":"SG Kaprys Oberhausen"},null,null,null,null,null,null,null,null,null,null,null,null,null,null,null,"-",{"$f":"$D$19","v":"1. AFC Oberhausen"},null,null,null,null,null,null,null,null,null,null,null,null,null,null,null,null,null,null,":",null,null,null,null,null,null,"0",":","0"]
[null,31,null,null,null,null,6,null,null,"10:54:00",null,null,null,null,{"$f":"$AG$16","v":"SC Buschhausen 1912"},null,null,null,null,null,null,null,null,null,null,null,null,null,null,null,"-",{"$f":"$AG$17","v":"DJK Arminia Lirich"},null,null,null,null,null,null,null,null,null,null,null,null,null,null,null,null,null,null,":",null,null,null,null,null,null,"0",":","0"]
[null,32,null,null,null,null,6,null,null,"11:06:00",null,null,null,null,{"$f":"$AG$18","v":"VFR 08 Oberhausen"},null,null,null,null,null,null,null,null,null,null,null,null,null,null,null,"-",{"$f":"$AG$19","v":"TuS Buschhausen 1900"},null,null,null,null,null,null,null,null,null,null,null,null,null,null,null,null,null,null,":",null,null,null,null,null,null,"0",":","0"]
[null,33,null,null,null,null,5,null,null,"11:18:00",null,null,null,null,{"$f":"$D$16","v":"SC 1920 Oberhausen"},null,null,null,null,null,null,null,null,null,null,null,null,null,null,null,"-",{"$f":"$D$18","v":"SG Kaprys Oberhausen"},null,null,null,null,null,null,null,null,null,null,null,null,null,null,null,null,null,null,":",null,null,null,null,null,null,"0",":","0"]
[null,34,null,null,null,null,5,null,null,"11:30:00",null,null,null,null,{"$f":"$D$17","v":"Sportgemeinschaft Osterfeld"},null,null,null,null,null,null,null,null,null,null,null,null,null,null,null,"-",{"$f":"$D$19","v":"1. AFC Oberhausen"},null,null,null,null,null,null,null,null,null,null,null,null,null,null,null,null,null,null,":",null,null,null,null,null,null,"0",":","0"]
[null,35,null,null,null,null,6,null,null,"11:42:00",null,null,null,null,{"$f":"$AG$16","v":"SC Buschhausen 1912"},null,null,null,null,null,null,null,null,null,null,null,null,null,null,null,"-",{"$f":"$AG$18","v":"VFR 08 Oberhausen"},null,null,null,null,null,null,null,null,null,null,null,null,null,null,null,null,null,null,":",null,null,null,null,null,null,"0",":","0",null,null,null,null,{"$f":"$D$16","v":"SC 1920 Oberhausen"},{"$f":"COUNT($AW$24,$AW$28,$AZ$33)","v":0},{"$f":"SUM($BF$24+$BF$28+$BH$33)","v":0},{"$f":"SUM($AW$24+$AW$28+$AZ$33)","v":0},":",{"$f":"SUM($AZ$24+$AZ$28+$AW$33)","v":0},{"$f":"SUM(BP30-BR30)","v":0}]
[null,36,null,null,null,null,6,null,null,"11:54:00",null,null,null,null,{"$f":"$AG$17","v":"DJK Arminia Lirich"},null,null,null,null,null,null,null,null,null,null,null,null,null,null,null,"-",{"$f":"$AG$19","v":"TuS Buschhausen 1900"},null,null,null,null,null,null,null,null,null,null,null,null,null,null,null,null,null,null,":",null,null,null,null,null,null,"0",":","0",null,null,null,null,{"$f":"$D$18","v":"SG Kaprys Oberhausen"},{"$f":"COUNT($AW$25,$AZ$28,$AZ$32)","v":0},{"$f":"SUM($BF$25+$BH$28+$BH$32)","v":0},{"$f":"SUM($AW$25+$AZ$28+$AZ$32)","v":0},":",{"$f":"SUM($AZ$25+$AW$28+$AW$32)","v":0},{"$f":"SUM(BP31-BR31)","v":0}]
[null,37,null,null,null,null,5,null,null,"12:06:00",null,null,null,null,{"$f":"$D$17","v":"Sportgemeinschaft Osterfeld"},null,null,null,null,null,null,null,null,null,null,null,null,null,null,null,"-",{"$f":"$D$18","v":"SG Kaprys Oberhausen"},null,null,null,null,null,null,null,null,null,null,null,null,null,null,null,null,null,null,":",null,null,null,null,null,null,"0",":","0",null,null,null,null,{"$f":"$D$17","v":"Sportgemeinschaft Osterfeld"},{"$f":"COUNT($AZ$24,$AW$29,$AW$32)","v":0},{"$f":"SUM($BH$24+$BF$29+$BF$32)","v":0},{"$f":"SUM($AZ$24+$AW$29+$AW$32)","v":0},":",{"$f":"SUM($AW$24+$AZ$29+$AZ$32)","v":0},{"$f":"SUM(BP32-BR32)","v":0}]
[null,38,null,null,null,null,5,null,null,"12:18:00",null,null,null,null,{"$f":"$D$19","v":"1. AFC Oberhausen"},null,null,null,null,null,null,null,null,null,null,null,null,null,null,null,"-",{"$f":"$D$16","v":"SC 1920 Oberhausen"},null,null,null,null,null,null,null,null,null,null,null,null,null,null,null,null,null,null,":",null,null,null,null,null,null,"0",":","0",null,null,null,null,{"$f":"$D$19","v":"1. AFC Oberhausen"},{"$f":"COUNT($AZ$25,$AZ$29,$AW$33)","v":0},{"$f":"SUM($BH$25+$BH$29+$BF$33)","v":0},{"$f":"SUM($AZ$25+$AZ$29+$AW$33)","v":0},":",{"$f":"SUM($AW$25+$AW$29+$AZ$33)","v":0},{"$f":"SUM(BP33-BR33)","v":0}]
[null,39,null,null,null,null,6,null,null,"12:30:00",null,null,null,null,{"$f":"$AG$17","v":"DJK Arminia Lirich"},null,null,null,null,null,null,null,null,null,null,null,null,null,null,null,"-",{"$f":"$AG$18","v":"VFR 08 Oberhausen"},null,null,null,null,null,null,null,null,null,null,null,null,null,null,null,null,null,null,":",null,null,null,null,null,null,"0",":","0"]
[null,40,null,null,null,null,6,null,null,"12:42:00",null,null,null,null,{"$f":"$AG$19","v":"TuS Buschhausen 1900"},null,null,null,null,null,null,null,null,null,null,null,null,null,null,null,"-",{"$f":"$AG$16","v":"SC Buschhausen 1912"},null,null,null,null,null,null,null,null,null,null,null,null,null,null,null,null,null,null,":",null,null,null,null,null,null,"0",":","0"]
[]
[null,"III. Abschlußtabellen Vorrunde",null,null,null,null,null,null,null,null,null,null,null,null,null,null,null,null,null,null,null,null,null,null,null,null,null,null,null,null,null,null,null,null,null,null,null,null,null,null,null,null,null,null,null,null,null,null,null,null,null,null,null,null,null,null,null,null,null,null,null,null,null,null,{"$f":"$AG$17","v":"DJK Arminia Lirich"},{"$f":"COUNT($AZ$26,$AW$31,$AW$34)","v":0},{"$f":"SUM($BH$26+$BF$31+$BF$34)","v":0},{"$f":"SUM($AZ$26+$AW$31+$AW$34)","v":0},":",{"$f":"SUM($AW$26+$AZ$31+$AZ$34)","v":0},{"$f":"SUM(BP37-BR37)","v":0}]
[null,null,null,null,null,null,null,null,null,null,null,null,null,null,null,null,null,null,null,null,null,null,null,null,null,null,null,null,null,null,null,null,null,null,null,null,null,null,null,null,null,null,null,null,null,null,null,null,null,null,null,null,null,null,null,null,null,null,null,null,null,null,null,null,{"$f":"$AG$16","v":"SC Buschhausen 1912"},{"$f":"COUNT($AW$26,$AW$30,$AZ$35)","v":0},{"$f":"SUM($BF$26+$BF$30+$BH$35)","v":0},{"$f":"SUM($AW$26+$AW$30+$AZ$35)","v":0},":",{"$f":"SUM($AZ$26+$AZ$30+$AW$35)","v":0},{"$f":"SUM(BP38-BR38)","v":0}]
[null,null,null,null,"Gruppe 5",null,null,null,null,null,null,null,null,null,null,null,null,null,null,null,null,null,null,null,null,null,null,null,null,null,"Sp.",null,null,"Pkt.",null,null,"Tore",null,null,null,null,"Diff.",null,null,null,null,null,null,null,null,null,null,null,null,null,null,null,null,null,null,null,null,null,null,{"$f":"$AG$18","v":"VFR 08 Oberhausen"},{"$f":"COUNT($AW$27,$AZ$30,$AZ$34)","v":0},{"$f":"SUM($BF$27+$BH$30+$BH$34)","v":0},{"$f":"SUM($AW$27+$AZ$30+$AZ$34)","v":0},":",{"$f":"SUM($AZ$27+$AW$30+$AW$34)","v":0},{"$f":"SUM(BP39-BR39)","v":0}]
[null,null,null,null,"1.",null,null,null,null,null,null,null,null,null,null,null,null,null,null,null,null,null,null,null,null,null,null,null,null,null,null,null,null,null,null,null,null,null,":",null,null,null,null,null,null,null,null,null,null,null,null,null,null,null,null,null,null,null,null,null,null,null,null,null,{"$f":"$AG$19","v":"TuS Buschhausen 1900"},{"$f":"COUNT($AZ$27,$AZ$31,$AW$35)","v":0},{"$f":"SUM($BH$27+$BH$31+$BF$35)","v":0},{"$f":"SUM($AZ$27+$AZ$31+$AW$35)","v":0},":",{"$f":"SUM($AW$27+$AW$31+$AZ$35)","v":0},{"$f":"SUM(BP40-BR40)","v":0}]
[null,null,null,null,"2.",null,null,null,null,null,null,null,null,null,null,null,null,null,null,null,null,null,null,null,null,null,null,null,null,null,null,null,null,null,null,null,null,null,":"]
[null,null,null,null,"3.",null,null,null,null,null,null,null,null,null,null,null,null,null,null,null,null,null,null,null,null,null,null,null,null,null,null,null,null,null,null,null,null,null,":"]
[null,null,null,null,4,null,null,null,null,null,null,null,null,null,null,null,null,null,null,null,null,null,null,null,null,null,null,null,null,null,null,null,null,null,null,null,null,null,":"]
[]
[null,null,null,null,"Gruppe 6",null,null,null,null,null,null,null,null,null,null,null,null,null,null,null,null,null,null,null,null,null,null,null,null,null,"Sp.",null,null,"Pkt.",null,null,"Tore",null,null,null,null,"Diff."]
[null,null,null,null,"1.",null,null,null,null,null,null,null,null,null,null,null,null,null,null,null,null,null,null,null,null,null,null,null,null,null,null,null,null,null,null,null,null,null,":"]
[null,null,null,null,"2.",null,null,null,null,null,null,null,null,null,null,null,null,null,null,null,null,null,null,null,null,null,null,null,null,null,null,null,null,null,null,null,null,null,":"]
[null,null,null,null,"3.",null,null,null,null,null,null,null,null,null,null,null,null,null,null,null,null,null,null,null,null,null,null,null,null,null,null,null,null,null,null,null,null,null,":"]
[null,null,null,null,"4.",null,null,null,null,null,null,null,null,null,null,null,null,null,null,null,null,null,null,null,null,null,null,null,null,null,null,null,null,null,null,null,null,null,":"]

{"sheet":"Gr.7+8","index":3,"n_rows":49,"n_cols":71,"rows_kept":49,"cut":false,"hidden":false,"merged":[[73,8,73,10],[73,12,73,47],[74,8,74,10],[74,12,74,47],[66,14,66,29],[66,31,66,47],[71,8,71,10],[71,12,71,47],[72,8,72,10],[72,12,72,47],[65,1,66,2],[65,3,66,8],[65,9,66,13],[65,14,65,29],[65,31,65,47],[65,48,66,49],[65,50,66,50],[65,51,66,52],[65,53,66,54],[61,50,62,50],[61,51,62,52],[61,53,62,54],[62,14,62,29],[62,31,62,47],[64,1,64,2],[64,3,64,8],[64,9,64,13],[64,14,64,47],[64,48,64,52],[61,1,62,2],[61,3,62,8],[61,9,62,13],[61,14,61,29],[61,31,61,47],[61,48,62,49],[64,53,64,54],[60,1,60,2],[60,3,60,8],[60,9,60,13],[60,14,60,47],[60,48,60,52],[60,53,60,54],[52,1,52,54],[53,1,53,54],[57,7,57,11],[57,20,57,21],[57,23,57,27],[57,37,57,41],[46,4,46,5],[46,6,46,29],[46,30,46,32],[46,33,46,35],[46,36,46,37],[46,39,46,40],[46,41,46,43],[47,41,47,43],[48,4,48,5],[48,6,48,29],[48,30,48,32],[48,33,48,35],[48,36,48,37],[48,39,48,40],[48,41,48,43],[47,4,47,5],[47,6,47,29],[47,30,47,32],[47,33,47,35],[47,36,47,37],[47,39,47,40],[44,4,44,29],[44,30,44,32],[44,33,44,35],[44,36,44,40],[44,41,44,43],[45,4,45,5],[45,6,45,29],[45,30,45,32],[45,33,45,35],[45,36,45,37],[45,39,45,40],[45,41,45,43],[41,41,41,43],[42,4,42,5],[42,6,42,29],[42,30,42,32],[42,33,42,35],[42,36,42,37],[42,39,42,40],[42,41,42,43],[41,4,41,5],[41,6,41,29],[41,30,41,32],[41,33,41,35],[41,36,41,37],[41,39,41,40],[39,41,39,43],[40,4,40,5],[40,6,40,29],[40,30,40,32],[40,33,40,35],[40,36,40,37],[40,39,40,40],[40,41,40,43],[39,4,39,5],[39,6,39,29],[39,30,39,32],[39,33,39,35],[39,36,39,37],[39,39,39,40],[34,53,34,54],[38,4,38,29],[38,30,38,32],[38,33,38,35],[38,36,38,40],[38,41,38,43],[33,51,33,52],[33,53,33,54],[34,1,34,2],[34,3,34,5],[34,6,34,8],[34,9,34,13],[34,14,34,29],[34,31,34,47],[34,48,34,49],[34,51,34,52],[32,48,32,49],[32,51,32,52],[32,53,32,54],[33,1,33,2],[33,3,33,5],[33,6,33,8],[33,9,33,13],[33,14,33,29],[33,31,33,47],[33,48,33,49],[32,1,32,2],[32,3,32,5],[32,6,32,8],[32,9,32,13],[32,14,32,29],[32,31,32,47],[31,1,31,2],[31,3,31,5],[31,6,31,8],[31,9,31,13],[31,14,31,29],[31,31,31,47],[31,48,31,49],[31,51,31,52],[31,53,31,54],[30,1,30,2],[30,3,30,5],[30,6,30,8],[30,9,30,13],[30,14,30,29],[30,31,30,47],[30,48,30,49],[30,51,30,52],[30,53,30,54],[28,48,28,49],[28,51,28,52],[28,53,28,54],[29,1,29,2],[29,3,29,5],[29,6,29,8],[29,9,29,13],[29,14,29,29],[29,31,29,47],[29,48,29,49],[28,1,28,2],[28,3,28,5],[28,6,28,8],[28,9,28,13],[28,14,28,29],[28,31,28,47],[29,51,29,52],[29,53,29,54],[27,1,27,2],[27,3,27,5],[27,6,27,8],[27,9,27,13],[27,14,27,29],[27,31,27,47],[27,48,27,49],[27,51,27,52],[27,53,27,54],[26,1,26,2],[26,3,26,5],[26,6,26,8],[26,9,26,13],[26,14,26,29],[26,31,26,47],[26,48,26,49],[26,51,26,52],[26,53,26,54],[24,48,24,49],[24,51,24,52],[24,53,24,54],[25,1,25,2],[25,3,25,5],[25,6,25,8],[25,9,25,13],[25,14,25,29],[25,31,25,47],[25,48,25,49],[24,1,24,2],[24,3,24,5],[24,6,24,8],[24,9,24,13],[24,14,24,29],[24,31,24,47],[25,51,25,52],[25,53,25,54],[22,53,22,54],[23,1,23,2],[23,3,23,5],[23,6,23,8],[23,9,23,13],[23,14,23,29],[23,31,23,47],[23,48,23,49],[23,51,23,52],[23,53,23,54],[22,1,22,2],[22,3,22,5],[22,6,22,8],[22,9,22,13],[22,14,22,47],[22,48,22,52],[18,1,18,2],[18,3,18,23],[18,24,18,25],[18,30,18,31],[18,32,18,52],[18,53,18,54],[17,1,17,2],[17,3,17,23],[17,24,17,25],[17,30,17,31],[17,32,17,52],[17,53,17,54],[16,1,16,2],[16,3,16,23],[16,24,16,25],[16,30,16,31],[16,32,16,52],[16,53,16,54],[14,1,14,23],[14,24,14,25],[14,30,14,52],[14,53,14,54],[15,1,15,2],[15,3,15,23],[15,24,15,25],[15,30,15,31],[15,32,15,52],[15,53,15,54],[1,0,2,41],[3,0,3,41],[5,12,5,19],[5,24,5,31],[7,1,7,38],[9,7,9,11],[9,20,9,21],[9,23,9,27],[9,37,9,41]]}
[]
["Stadtsportbund Oberhausen e.V.\nFachschaft Fußball"]
[]
["Senioren Hallenfußball Stadtmeisterschaft 2018"]
[]
[null,null,null,null,null,null,null,null,null,null,null,"Am","Sonntag",null,null,null,null,null,null,null,", den",null,null,null,"2018-01-14"]
[]
[null,"Sporthalle Willy-Jürissen, Goebenstr., 46045 OB"]
[]
[null,null,null,null,null,null,"Beginn:","14:30:00",null,null,null,null,"Uhr",null,null,null,null,null,null,"Spielzeit:",1,null,"x","00:10:00",null,null,null,null,"min",null,null,null,null,null,null,null,"Pause:","00:02:00",null,null,null,null,"min"]
[]
[]
[null,"I. Teilnehmende Mannschaften"]
[]
[null,"Gruppe 7",null,null,null,null,null,null,null,null,null,null,null,null,null,null,null,null,null,null,null,null,null,null,null,null,null,null,null,null,"Gruppe 8"]
[null,"1.",null,"DJK Arminia Klosterhardt",null,null,null,null,null,null,null,null,null,null,null,null,null,null,null,null,null,null,null,null,null,null,null,null,null,null,"1.",null,"SV Adler Osterfeld"]
[null,"2.",null,"Schwarz-Weiß Alstaden",null,null,null,null,null,null,null,null,null,null,null,null,null,null,null,null,null,null,null,null,null,null,null,null,null,null,"2.",null,"Glück-Auf Sterkrade"]
[null,"3.",null,"SV Sarajevo OB",null,null,null,null,null,null,null,null,null,null,null,null,null,null,null,null,null,null,null,null,null,null,null,null,null,null,"3.",null,"Ballspielverein Osterfeld"]
[null,"4.",null,"SF Sterkrade-Heide 06",null,null,null,null,null,null,null,null,null,null,null,null,null,null,null,null,null,null,null,null,null,null,null,null,null,null,"4.",null,"SG Oberhausen 92"]
[]
[null,"II. Spielplan Vorrunde"]
[]
[null,"Nr.",null,null,null,null,"Grp.",null,null,"Beginn",null,null,null,null,"Spielpaarung",null,null,null,null,null,null,null,null,null,null,null,null,null,null,null,null,null,null,null,null,null,null,null,null,null,null,null,null,null,null,null,null,null,"Ergebnis",null,null,null,null,null,null,null,null,"Punkte"]
[null,41,null,null,null,null,7,null,null,{"$f":"$H$10","v":"14:30:00"},null,null,null,null,{"$f":"$D$16","v":"DJK Arminia Klosterhardt"},null,null,null,null,null,null,null,null,null,null,null,null,null,null,null,"-",{"$f":"$D$17","v":"Schwarz-Weiß Alstaden"},null,null,null,null,null,null,null,null,null,null,null,null,null,null,null,null,null,null,":",null,null,null,null,null,null,{"$f":"IF(ISBLANK(AW24),\"0\",IF(AW24>AZ24,3,IF(AW24=AZ24,1,0)))","v":"0"},":",{"$f":"IF(ISBLANK(AZ24),\"0\",IF(AZ24>AW24,3,IF(AZ24=AW24,1,0)))","v":"0"}]
[null,42,null,null,null,null,7,null,null,{"$f":"J24+$U$10*$X$10+$AL$10","v":"14:42:00"},null,null,null,null,{"$f":"$D$18","v":"SV Sarajevo OB"},null,null,null,null,null,null,null,null,null,null,null,null,null,null,null,"-",{"$f":"$D$19","v":"SF Sterkrade-Heide 06"},null,null,null,null,null,null,null,null,null,null,null,null,null,null,null,null,null,null,":",null,null,null,null,null,null,"0",":","0"]
[null,43,null,null,null,null,8,null,null,"14:54:00",null,null,null,null,{"$f":"$AG$16","v":"SV Adler Osterfeld"},null,null,null,null,null,null,null,null,null,null,null,null,null,null,null,"-",{"$f":"$AG$17","v":"Glück-Auf Sterkrade"},null,null,null,null,null,null,null,null,null,null,null,null,null,null,null,null,null,null,":",null,null,null,null,null,null,"0",":","0"]
[null,44,null,null,null,null,8,null,null,"15:06:00",null,null,null,null,{"$f":"$AG$18","v":"Ballspielverein Osterfeld"},null,null,null,null,null,null,null,null,null,null,null,null,null,null,null,"-",{"$f":"$AG$19","v":"SG Oberhausen 92"},null,null,null,null,null,null,null,null,null,null,null,null,null,null,null,null,null,null,":",null,null,null,null,null,null,"0",":","0"]
[null,45,null,null,null,null,7,null,null,"15:18:00",null,null,null,null,{"$f":"$D$16","v":"DJK Arminia Klosterhardt"},null,null,null,null,null,null,null,null,null,null,null,null,null,null,null,"-",{"$f":"$D$18","v":"SV Sarajevo OB"},null,null,null,null,null,null,null,null,null,null,null,null,null,null,null,null,null,null,":",null,null,null,null,null,null,"0",":","0"]
[null,46,null,null,null,null,7,null,null,"15:30:00",null,null,null,null,{"$f":"$D$17","v":"Schwarz-Weiß Alstaden"},null,null,null,null,null,null,null,null,null,null,null,null,null,null,null,"-",{"$f":"$D$19","v":"SF Sterkrade-Heide 06"},null,null,null,null,null,null,null,null,null,null,null,null,null,null,null,null,null,null,":",null,null,null,null,null,null,"0",":","0"]
[null,47,null,null,null,null,8,null,null,"15:42:00",null,null,null,null,{"$f":"$AG$16","v":"SV Adler Osterfeld"},null,null,null,null,null,null,null,null,null,null,null,null,null,null,null,"-",{"$f":"$AG$18","v":"Ballspielverein Osterfeld"},null,null,null,null,null,null,null,null,null,null,null,null,null,null,null,null,null,null,":",null,null,null,null,null,null,"0",":","0",null,null,null,null,{"$f":"$D$16","v":"DJK Arminia Klosterhardt"},{"$f":"COUNT($AW$24,$AW$28,$AZ$33)","v":0},{"$f":"SUM($BF$24+$BF$28+$BH$33)","v":0},{"$f":"SUM($AW$24+$AW$28+$AZ$33)","v":0},":",{"$f":"SUM($AZ$24+$AZ$28+$AW$33)","v":0},{"$f":"SUM(BP30-BR30)","v":0}]
[null,48,null,null,null,null,8,null,null,"15:54:00",null,null,null,null,{"$f":"$AG$17","v":"Glück-Auf Sterkrade"},null,null,null,null,null,null,null,null,null,null,null,null,null,null,null,"-",{"$f":"$AG$19","v":"SG Oberhausen 92"},null,null,null,null,null,null,null,null,null,null,null,null,null,null,null,null,null,null,":",null,null,null,null,null,null,"0",":","0",null,null,null,null,{"$f":"$D$18","v":"SV Sarajevo OB"},{"$f":"COUNT($AW$25,$AZ$28,$AZ$32)","v":0},{"$f":"SUM($BF$25+$BH$28+$BH$32)","v":0},{"$f":"SUM($AW$25+$AZ$28+$AZ$32)","v":0},":",{"$f":"SUM($AZ$25+$AW$28+$AW$32)","v":0},{"$f":"SUM(BP31-BR31)","v":0}]
[null,49,null,null,null,null,7,null,null,"16:06:00",null,null,null,null,{"$f":"$D$17","v":"Schwarz-Weiß Alstaden"},null,null,null,null,null,null,null,null,null,null,null,null,null,null,null,"-",{"$f":"$D$18","v":"SV Sarajevo OB"},null,null,null,null,null,null,null,null,null,null,null,null,null,null,null,null,null,null,":",null,null,null,null,null,null,"0",":","0",null,null,null,null,{"$f":"$D$17","v":"Schwarz-Weiß Alstaden"},{"$f":"COUNT($AZ$24,$AW$29,$AW$32)","v":0},{"$f":"SUM($BH$24+$BF$29+$BF$32)","v":0},{"$f":"SUM($AZ$24+$AW$29+$AW$32)","v":0},":",{"$f":"SUM($AW$24+$AZ$29+$AZ$32)","v":0},{"$f":"SUM(BP32-BR32)","v":0}]
[null,50,null,null,null,null,7,null,null,"16:18:00",null,null,null,null,{"$f":"$D$19","v":"SF Sterkrade-Heide 06"},null,null,null,null,null,null,null,null,null,null,null,null,null,null,null,"-",{"$f":"$D$16","v":"DJK Arminia Klosterhardt"},null,null,null,null,null,null,null,null,null,null,null,null,null,null,null,null,null,null,":",null,null,null,null,null,null,"0",":","0",null,null,null,null,{"$f":"$D$19","v":"SF Sterkrade-Heide 06"},{"$f":"COUNT($AZ$25,$AZ$29,$AW$33)","v":0},{"$f":"SUM($BH$25+$BH$29+$BF$33)","v":0},{"$f":"SUM($AZ$25+$AZ$29+$AW$33)","v":0},":",{"$f":"SUM($AW$25+$AW$29+$AZ$33)","v":0},{"$f":"SUM(BP33-BR33)","v":0}]
[null,51,null,null,null,null,8,null,null,"16:30:00",null,null,null,null,{"$f":"$AG$17","v":"Glück-Auf Sterkrade"},null,null,null,null,null,null,null,null,null,null,null,null,null,null,null,"-",{"$f":"$AG$18","v":"Ballspielverein Osterfeld"},null,null,null,null,null,null,null,null,null,null,null,null,null,null,null,null,null,null,":",null,null,null,null,null,null,"0",":","0"]
[null,52,null,null,null,null,8,null,null,"16:42:00",null,null,null,null,{"$f":"$AG$19","v":"SG Oberhausen 92"},null,null,null,null,null,null,null,null,null,null,null,null,null,null,null,"-",{"$f":"$AG$16","v":"SV Adler Osterfeld"},null,null,null,null,null,null,null,null,null,null,null,null,null,null,null,null,null,null,":",null,null,null,null,null,null,"0",":","0"]
[]
[null,"III. Abschlußtabellen Vorrunde",null,null,null,null,null,null,null,null,null,null,null,null,null,null,null,null,null,null,null,null,null,null,null,null,null,null,null,null,null,null,null,null,null,null,null,null,null,null,null,null,null,null,null,null,null,null,null,null,null,null,null,null,null,null,null,null,null,null,null,null,null,null,{"$f":"$AG$17","v":"Glück-Auf Sterkrade"},{"$f":"COUNT($AZ$26,$AW$31,$AW$34)","v":0},{"$f":"SUM($BH$26+$BF$31+$BF$34)","v":0},{"$f":"SUM($AZ$26+$AW$31+$AW$34)","v":0},":",{"$f":"SUM($AW$26+$AZ$31+$AZ$34)","v":0},{"$f":"SUM(BP37-BR37)","v":0}]
[null,null,null,null,null,null,null,null,null,null,null,null,null,null,null,null,null,null,null,null,null,null,null,null,null,null,null,null,null,null,null,null,null,null,null,null,null,null,null,null,null,null,null,null,null,null,null,null,null,null,null,null,null,null,null,null,null,null,null,null,null,null,null,null,{"$f":"$AG$16","v":"SV Adler Osterfeld"},{"$f":"COUNT($AW$26,$AW$30,$AZ$35)","v":0},{"$f":"SUM($BF$26+$BF$30+$BH$35)","v":0},{"$f":"SUM($AW$26+$AW$30+$AZ$35)","v":0},":",{"$f":"SUM($AZ$26+$AZ$30+$AW$35)","v":0},{"$f":"SUM(BP38-BR38)","v":0}]
[null,null,null,null,"Gruppe 7",null,null,null,null,null,null,null,null,null,null,null,null,null,null,null,null,null,null,null,null,null,null,null,null,null,"Sp.",null,null,"Pkt.",null,null,"Tore",null,null,null,null,"Diff.",null,null,null,null,null,null,null,null,null,null,null,null,null,null,null,null,null,null,null,null,null,null,{"$f":"$AG$18","v":"Ballspielverein Osterfeld"},{"$f":"COUNT($AW$27,$AZ$30,$AZ$34)","v":0},{"$f":"SUM($BF$27+$BH$30+$BH$34)","v":0},{"$f":"SUM($AW$27+$AZ$30+$AZ$34)","v":0},":",{"$f":"SUM($AZ$27+$AW$30+$AW$34)","v":0},{"$f":"SUM(BP39-BR39)","v":0}]
[null,null,null,null,"1.",null,null,null,null,null,null,null,null,null,null,null,null,null,null,null,null,null,null,null,null,null,null,null,null,null,null,null,null,null,null,null,null,null,":",null,null,null,null,null,null,null,null,null,null,null,null,null,null,null,null,null,null,null,null,null,null,null,null,null,{"$f":"$AG$19","v":"SG Oberhausen 92"},{"$f":"COUNT($AZ$27,$AZ$31,$AW$35)","v":0},{"$f":"SUM($BH$27+$BH$31+$BF$35)","v":0},{"$f":"SUM($AZ$27+$AZ$31+$AW$35)","v":0},":",{"$f":"SUM($AW$27+$AW$31+$AZ$35)","v":0},{"$f":"SUM(BP40-BR40)","v":0}]
[null,null,null,null,"2.",null,null,null,null,null,null,null,null,null,null,null,null,null,null,null,null,null,null,null,null,null,null,null,null,null,null,null,null,null,null,null,null,null,":"]
[null,null,null,null,"3.",null,null,null,null,null,null,null,null,null,null,null,null,null,null,null,null,null,null,null,null,null,null,null,null,null,null,null,null,null,null,null,null,null,":"]
[null,null,null,null,4,null,null,null,null,null,null,null,null,null,null,null,null,null,null,null,null,null,null,null,null,null,null,null,null,null,null,null,null,null,null,null,null,null,":"]
[]
[null,null,null,null,"Gruppe 8",null,null,null,null,null,null,null,null,null,null,null,null,null,null,null,null,null,null,null,null,null,null,null,null,null,"Sp.",null,null,"Pkt.",null,null,"Tore",null,null,null,null,"Diff."]
[null,null,null,null,"1.",null,null,null,null,null,null,null,null,null,null,null,null,null,null,null,null,null,null,null,null,null,null,null,null,null,null,null,null,null,null,null,null,null,":"]
[null,null,null,null,"2.",null,null,null,null,null,null,null,null,null,null,null,null,null,null,null,null,null,null,null,null,null,null,null,null,null,null,null,null,null,null,null,null,null,":"]
[null,null,null,null,"3.",null,null,null,null,null,null,null,null,null,null,null,null,null,null,null,null,null,null,null,null,null,null,null,null,null,null,null,null,null,null,null,null,null,":"]
[null,null,null,null,"4.",null,null,null,null,null,null,null,null,null,null,null,null,null,null,null,null,null,null,null,null,null,null,null,null,null,null,null,null,null,null,null,null,null,":"]

{"sheet":"Endrunde","index":4,"n_rows":112,"n_cols":84,"rows_kept":112,"cut":false,"hidden":false,"merged":[[48,14,48,29],[60,1,60,2],[26,80,26,82],[32,80,32,82],[38,80,38,82],[44,80,44,82],[64,1,64,2],[64,3,64,14],[64,15,64,17],[64,18,64,19],[64,21,64,22],[61,50,61,51],[61,52,61,54],[61,30,61,31],[61,32,61,43],[63,1,63,14],[63,15,63,17],[45,3,45,5],[45,6,45,8],[45,9,45,13],[45,14,45,29],[45,31,45,47],[45,48,45,49],[59,1,59,2],[59,15,59,17],[59,18,59,19],[57,1,57,14],[57,15,57,17],[57,18,57,22],[57,23,57,25],[58,23,58,25],[59,21,59,22],[59,23,59,25],[58,21,58,22],[58,3,58,14],[58,15,58,17],[59,3,59,14],[53,1,53,54],[58,1,58,2],[58,18,58,19],[44,6,44,8],[44,9,44,13],[44,14,44,29],[44,31,44,47],[44,48,44,49],[44,53,44,54],[48,53,48,54],[49,53,49,54],[46,51,46,52],[45,51,45,52],[45,53,45,54],[46,53,46,54],[47,53,47,54],[48,48,48,49],[48,51,48,52],[47,9,47,13],[49,1,49,2],[49,3,49,5],[49,6,49,8],[49,9,49,13],[48,9,48,13],[43,6,43,8],[43,9,43,13],[43,14,43,29],[43,31,43,47],[43,48,43,49],[43,51,43,52],[40,48,40,49],[40,51,40,52],[43,53,43,54],[39,53,39,54],[40,31,40,47],[40,53,40,54],[41,48,41,49],[41,51,41,52],[41,53,41,54],[42,6,42,8],[42,9,42,13],[42,14,42,29],[42,31,42,47],[42,48,42,49],[42,51,42,52],[41,6,41,8],[42,53,42,54],[41,9,41,13],[39,9,39,13],[39,14,39,29],[39,31,39,47],[39,48,39,49],[39,51,39,52],[37,53,37,54],[36,6,36,8],[36,9,36,13],[36,14,36,29],[36,31,36,47],[36,48,36,49],[36,51,36,52],[38,14,38,29],[38,31,38,47],[38,48,38,49],[36,53,36,54],[37,6,37,8],[37,9,37,13],[37,14,37,29],[37,31,37,47],[37,48,37,49],[38,51,38,52],[38,53,38,54],[34,48,34,49],[34,51,34,52],[34,53,34,54],[33,9,33,13],[33,14,33,29],[35,9,35,13],[35,14,35,29],[35,31,35,47],[35,48,35,49],[35,51,35,52],[35,53,35,54],[28,48,28,49],[28,51,28,52],[31,14,31,29],[31,48,31,49],[33,31,33,47],[33,48,33,49],[31,53,31,54],[32,9,32,13],[32,14,32,29],[32,31,32,47],[32,48,32,49],[32,51,32,52],[32,53,32,54],[31,9,31,13],[33,51,33,52],[33,53,33,54],[29,48,29,49],[29,51,29,52],[30,14,30,29],[30,31,30,47],[30,48,30,49],[30,51,30,52],[30,53,30,54],[29,53,29,54],[31,31,31,47],[35,6,35,8],[37,3,37,5],[39,3,39,5],[39,6,39,8],[35,1,35,2],[36,1,36,2],[37,1,37,2],[40,1,40,2],[34,1,34,2],[38,6,38,8],[34,31,34,47],[38,9,38,13],[40,6,40,8],[40,9,40,13],[40,14,40,29],[15,1,15,2],[15,3,15,23],[15,30,15,31],[15,24,15,25],[14,3,14,23],[14,30,14,31],[14,24,14,25],[26,3,26,5],[26,6,26,8],[26,9,26,13],[17,1,17,25],[19,1,19,2],[19,3,19,23],[19,24,19,25],[18,1,18,2],[18,3,18,23],[18,24,18,25],[25,6,25,8],[25,3,25,5],[25,9,25,13],[25,14,25,47],[20,30,20,31],[20,32,20,52],[25,1,25,2],[28,31,28,47],[27,1,27,2],[28,1,28,2],[32,1,32,2],[30,1,30,2],[31,1,31,2],[29,1,29,2],[27,3,27,5],[34,3,34,5],[33,3,33,5],[27,9,27,13],[30,6,30,8],[32,3,32,5],[32,6,32,8],[31,3,31,5],[31,6,31,8],[34,6,34,8],[33,6,33,8],[28,9,28,13],[29,9,29,13],[29,14,29,29],[30,9,30,13],[34,9,34,13],[34,14,34,29],[60,50,60,51],[60,52,60,54],[59,44,59,46],[59,47,59,48],[58,50,58,51],[58,52,58,54],[59,50,59,51],[59,52,59,54],[27,53,27,54],[57,44,57,46],[57,47,57,51],[57,52,57,54],[27,31,27,47],[31,51,31,52],[28,53,28,54],[46,48,46,49],[58,30,58,31],[58,32,58,43],[58,44,58,46],[49,51,49,52],[44,51,44,52],[47,31,47,47],[59,30,59,31],[59,32,59,43],[13,32,13,52],[12,32,12,52],[17,30,17,54],[12,53,12,54],[14,53,14,54],[15,32,15,52],[19,30,19,31],[11,1,11,25],[11,30,11,54],[15,53,15,54],[13,53,13,54],[14,32,14,52],[18,30,18,31],[18,32,18,52],[18,53,18,54],[12,1,12,2],[12,30,12,31],[12,24,12,25],[13,1,13,2],[12,3,12,23],[13,3,13,23],[13,30,13,31],[13,24,13,25],[14,1,14,2],[20,53,20,54],[20,1,20,2],[20,3,20,23],[20,24,20,25],[19,32,19,52],[29,31,29,47],[21,53,21,54],[26,53,26,54],[21,30,21,31],[21,32,21,52],[21,1,21,2],[21,3,21,23],[21,24,21,25],[26,31,26,47],[27,14,27,29],[25,53,25,54],[25,48,25,52],[19,53,19,54],[26,1,26,2],[28,3,28,5],[28,6,28,8],[28,14,28,29],[29,3,29,5],[29,6,29,8],[47,6,47,8],[48,3,48,5],[48,6,48,8],[46,1,46,2],[46,3,46,5],[46,6,46,8],[46,9,46,13],[26,51,26,52],[27,48,27,49],[27,51,27,52],[26,48,26,49],[26,14,26,29],[47,51,47,52],[47,48,47,49],[46,14,46,29],[46,31,46,47],[47,14,47,29],[37,51,37,52],[41,14,41,29],[41,31,41,47],[27,6,27,8],[42,1,42,2],[38,1,38,2],[39,1,39,2],[43,1,43,2],[44,1,44,2],[45,1,45,2],[44,3,44,5],[33,1,33,2],[30,3,30,5],[36,3,36,5],[40,3,40,5],[48,1,48,2],[47,1,47,2],[47,3,47,5],[35,3,35,5],[38,3,38,5],[41,3,41,5],[41,1,41,2],[43,3,43,5],[42,3,42,5],[48,31,48,47],[65,1,65,2],[65,3,65,14],[65,30,65,31],[61,47,61,48],[61,44,61,46],[63,23,63,25],[63,30,63,43],[63,44,63,46],[63,47,63,51],[61,1,61,2],[60,47,60,48],[58,47,58,48],[49,48,49,49],[65,32,65,43],[60,30,60,31],[60,32,60,43],[60,44,60,46],[65,15,65,17],[65,18,65,19],[49,14,49,29],[49,31,49,47],[65,23,65,25],[57,30,57,43],[60,3,60,14],[60,15,60,17],[60,18,60,19],[61,21,61,22],[61,23,61,25],[60,21,60,22],[60,23,60,25],[61,3,61,14],[61,15,61,17],[61,18,61,19],[63,52,63,54],[64,30,64,31],[64,32,64,43],[64,44,64,46],[64,47,64,48],[64,50,64,51],[66,21,66,22],[64,52,64,54],[65,52,65,54],[66,44,66,46],[66,47,66,48],[65,44,65,46],[65,47,65,48],[66,50,66,51],[66,52,66,54],[65,50,65,51],[64,23,64,25],[65,21,65,22],[66,23,66,25],[63,18,63,22],[67,50,67,51],[67,52,67,54],[67,44,67,46],[67,47,67,48],[67,18,67,19],[67,21,67,22],[67,23,67,25],[67,1,67,2],[66,30,66,31],[66,32,66,43],[67,30,67,31],[67,32,67,43],[67,3,67,14],[67,15,67,17],[66,15,66,17],[66,1,66,2],[66,3,66,14],[66,18,66,19],[72,7,72,11],[72,21,72,22],[72,24,72,28],[72,37,72,41],[88,14,88,29],[88,31,88,47],[86,48,86,52],[102,3,102,8],[87,14,87,29],[87,31,87,47],[95,14,95,29],[95,31,95,47],[99,9,100,13],[99,14,99,29],[78,48,78,52],[86,3,86,8],[87,3,88,8],[79,14,79,29],[83,14,83,29],[76,14,76,29],[76,31,76,47],[91,50,92,50],[91,51,92,52],[98,48,98,52],[74,53,74,54],[75,1,76,2],[75,3,76,8],[75,9,76,13],[75,14,75,29],[75,31,75,47],[75,48,76,49],[75,50,76,50],[75,51,76,52],[75,53,76,54],[74,3,74,8],[74,9,74,13],[74,14,74,47],[74,48,74,52],[74,1,74,2],[82,1,82,2],[82,9,82,13],[82,14,82,47],[82,48,82,52],[82,3,82,8],[83,3,84,8],[82,53,82,54],[78,53,78,54],[79,1,80,2],[79,9,80,13],[79,31,79,47],[79,48,80,49],[79,50,80,50],[79,51,80,52],[79,53,80,54],[80,14,80,29],[80,31,80,47],[78,1,78,2],[78,9,78,13],[78,14,78,47],[78,3,78,8],[79,3,80,8],[86,1,86,2],[86,9,86,13],[86,14,86,47],[86,53,86,54],[83,50,84,50],[83,51,84,52],[83,53,84,54],[84,14,84,29],[84,31,84,47],[83,1,84,2],[83,9,84,13],[83,31,83,47],[83,48,84,49],[90,1,90,2],[90,3,90,8],[90,9,90,13],[90,14,90,47],[87,51,88,52],[87,53,88,54],[87,1,88,2],[87,9,88,13],[87,48,88,49],[87,50,88,50],[90,48,90,52],[90,53,90,54],[91,53,92,54],[92,14,92,29],[92,31,92,47],[91,1,92,2],[91,3,92,8],[91,9,92,13],[91,14,91,29],[91,31,91,47],[91,48,92,49],[95,1,96,2],[95,3,96,8],[95,9,96,13],[95,53,96,54],[96,14,96,29],[96,31,96,47],[94,48,94,52],[94,53,94,54],[95,48,96,49],[95,50,96,50],[95,51,96,52],[94,1,94,2],[94,3,94,8],[94,9,94,13],[94,14,94,47],[98,53,98,54],[99,1,100,2],[99,3,100,8],[100,14,100,29],[99,48,100,49],[99,50,100,50],[99,51,100,52],[99,53,100,54],[98,1,98,2],[98,3,98,8],[98,9,98,13],[98,14,98,47],[99,31,99,47],[100,31,100,47],[102,53,102,54],[103,1,104,2],[103,48,104,49],[103,50,104,50],[103,51,104,52],[103,53,104,54],[104,14,104,29],[104,31,104,47],[102,1,102,2],[102,9,102,13],[103,3,104,8],[103,9,104,13],[103,14,103,29],[103,31,103,47],[111,8,111,10],[111,12,111,47],[109,8,109,10],[110,8,110,10],[110,12,110,47],[102,48,102,52],[102,14,102,47],[109,12,109,47],[108,8,108,10],[108,12,108,47],[2,0,3,41],[4,0,4,41],[5,12,5,19],[5,24,5,31],[6,1,6,38],[7,7,7,11],[7,20,7,21],[7,23,7,27],[7,37,7,41]]}
[]
[]
["Stadtsportbund Oberhausen e.V.\nFachschaft Fußball"]
[]
["Senioren Hallenfußball Stadtmeisterschaft 2018"]
[null,null,null,null,null,null,null,null,null,null,null,"Am","Sonntag",null,null,null,null,null,null,null,", den",null,null,null,"2018-01-28"]
[null,"Sporthalle Willy-Jürissen, Goebenstr., 46045 OB"]
[null,null,null,null,null,null,"Beginn:","10:30:00",null,null,null,null,"Uhr",null,null,null,null,null,null,"Spielzeit:",1,null,"x","00:10:00",null,null,null,null,"min",null,null,null,null,null,null,null,"Pause:","00:02:00",null,null,null,null,"min"]
[]
[null,"I. Teilnehmende Mannschaften"]
[]
[null,"Gruppe A",null,null,null,null,null,null,null,null,null,null,null,null,null,null,null,null,null,null,null,null,null,null,null,null,null,null,null,null,"Gruppe B"]
[null,"1.",null,"Erster Gruppe 1",null,null,null,null,null,null,null,null,null,null,null,null,null,null,null,null,null,null,null,null,null,null,null,null,null,null,"1.",null,"Erster Gruppe 3"]
[null,"2.",null,"Erster Gruppe 2",null,null,null,null,null,null,null,null,null,null,null,null,null,null,null,null,null,null,null,null,null,null,null,null,null,null,"2.",null,"Erster Gruppe 4"]
[null,"3.",null,"Zweiter Gruppe 7",null,null,null,null,null,null,null,null,null,null,null,null,null,null,null,null,null,null,null,null,null,null,null,null,null,null,"3.",null,"Zweiter Gruppe 5"]
[null,"4.",null,"Zweiter Gruppe 8",null,null,null,null,null,null,null,null,null,null,null,null,null,null,null,null,null,null,null,null,null,null,null,null,null,null,"4.",null,"Zweiter Gruppe 6"]
[]
[null,"Gruppe C",null,null,null,null,null,null,null,null,null,null,null,null,null,null,null,null,null,null,null,null,null,null,null,null,null,null,null,null,"Gruppe D"]
[null,"1.",null,"Erster Gruppe 5",null,null,null,null,null,null,null,null,null,null,null,null,null,null,null,null,null,null,null,null,null,null,null,null,null,null,"1.",null,"Erster Gruppe 7"]
[null,"2.",null,"Erster Gruppe 6",null,null,null,null,null,null,null,null,null,null,null,null,null,null,null,null,null,null,null,null,null,null,null,null,null,null,"2.",null,"Erster Gruppe 8"]
[null,"3.",null,"Zweiter Gruppe 3",null,null,null,null,null,null,null,null,null,null,null,null,null,null,null,null,null,null,null,null,null,null,null,null,null,null,"3.",null,"Zweiter Gruppe 1"]
[null,"4.",null,"Zweiter Gruppe 4",null,null,null,null,null,null,null,null,null,null,null,null,null,null,null,null,null,null,null,null,null,null,null,null,null,null,"4.",null,"Zweiter Gruppe 2"]
[]
[null,"II. Spielplan Vorrunde"]
[]
[null,"Nr.",null,null,null,null,"Grp.",null,null,"Beginn",null,null,null,null,"Spielpaarung",null,null,null,null,null,null,null,null,null,null,null,null,null,null,null,null,null,null,null,null,null,null,null,null,null,null,null,null,null,null,null,null,null,"Ergebnis"]
[null,53,null,null,null,null,"A",null,null,"10:30:00",null,null,null,null,{"$f":"D13","v":"Erster Gruppe 1"},null,null,null,null,null,null,null,null,null,null,null,null,null,null,null,"-",{"$f":"D14","v":"Erster Gruppe 2"},null,null,null,null,null,null,null,null,null,null,null,null,null,null,null,null,null,null,":",null,null,null,null,null,null,null,null,null,null,null,null,null,null,null,null,null,null,null,null,null,{"$f":"IF(ISBLANK(AZ27),\"0\",IF(AW27>AZ27,3,IF(AW27=AZ27,1,0)))","v":"0"},":",{"$f":"IF(ISBLANK(AZ27),\"0\",IF(AZ27>AW27,3,IF(AZ27=AW27,1,0)))","v":"0"},null,null,null,"Gruppe A","Pkt.","Tore",null,null,"Diff."]
[null,54,null,null,null,null,"A",null,null,{"$f":"J27+$U$8+$X$8+$AL$8","v":1.4458333333333333},null,null,null,null,{"$f":"D15","v":"Zweiter Gruppe 7"},null,null,null,null,null,null,null,null,null,null,null,null,null,null,null,"-",{"$f":"D16","v":"Zweiter Gruppe 8"},null,null,null,null,null,null,null,null,null,null,null,null,null,null,null,null,null,null,":",null,null,null,null,null,null,null,null,null,null,null,null,null,null,null,null,null,null,null,null,null,"0",":","0",null,null,null,{"$f":"$D$15","v":"Zweiter Gruppe 7"},{"$f":"SUM($BU$28+$BW$36+$BW$43)","v":0},{"$f":"SUM($AW$28+$AZ$36+$AZ$43)","v":0},":",{"$f":"SUM($AZ$28+$AW$36+$AW$43)","v":0},{"$f":"SUM(CC28-CE28)","v":0}]
[null,55,null,null,null,null,"B",null,null,2.4541666666666671,null,null,null,null,{"$f":"AG13","v":"Erster Gruppe 3"},null,null,null,null,null,null,null,null,null,null,null,null,null,null,null,"-",{"$f":"AG14","v":"Erster Gruppe 4"},null,null,null,null,null,null,null,null,null,null,null,null,null,null,null,null,null,null,":",null,null,null,null,null,null,null,null,null,null,null,null,null,null,null,null,null,null,null,null,null,"0",":","0",null,null,null,{"$f":"$D$14","v":"Erster Gruppe 2"},{"$f":"SUM($BW$27+$BU$36+$BU$44)","v":0},{"$f":"SUM($AZ$27+$AW$36+$AW$44)","v":0},":",{"$f":"SUM($AW$27+$AZ$36+$AZ$44)","v":0},{"$f":"SUM(CC29-CE29)","v":0}]
[null,56,null,null,null,null,"B",null,null,3.4625000000000008,null,null,null,null,{"$f":"AG15","v":"Zweiter Gruppe 5"},null,null,null,null,null,null,null,null,null,null,null,null,null,null,null,"-",{"$f":"AG16","v":"Zweiter Gruppe 6"},null,null,null,null,null,null,null,null,null,null,null,null,null,null,null,null,null,null,":",null,null,null,null,null,null,null,null,null,null,null,null,null,null,null,null,null,null,null,null,null,"0",":","0",null,null,null,{"$f":"$D$16","v":"Zweiter Gruppe 8"},{"$f":"SUM($BW$28+$BU$35+$BW$44)","v":0},{"$f":"SUM($AZ$28+$AW$35+$AZ$44)","v":0},":",{"$f":"SUM($AW$28+$AZ$35+$AW$44)","v":0},{"$f":"SUM(CC30-CE30)","v":0}]
[null,57,null,null,null,null,"C",null,null,4.4708333333333341,null,null,null,null,{"$f":"D19","v":"Erster Gruppe 5"},null,null,null,null,null,null,null,null,null,null,null,null,null,null,null,"-",{"$f":"D20","v":"Erster Gruppe 6"},null,null,null,null,null,null,null,null,null,null,null,null,null,null,null,null,null,null,":",null,null,null,null,null,null,null,null,null,null,null,null,null,null,null,null,null,null,null,null,null,"0",":","0",null,null,null,{"$f":"$D$13","v":"Erster Gruppe 1"},{"$f":"SUM($BU$27+$BW$35+$BU$43)","v":0},{"$f":"SUM($AW$27+$AZ$35+$AW$43)","v":0},":",{"$f":"SUM($AZ$27+$AW$35+$AZ$43)","v":0},{"$f":"SUM(CC31-CE31)","v":0}]
[null,58,null,null,null,null,"C",null,null,5.4791666666666679,null,null,null,null,{"$f":"D21","v":"Zweiter Gruppe 3"},null,null,null,null,null,null,null,null,null,null,null,null,null,null,null,"-",{"$f":"D22","v":"Zweiter Gruppe 4"},null,null,null,null,null,null,null,null,null,null,null,null,null,null,null,null,null,null,":",null,null,null,null,null,null,null,null,null,null,null,null,null,null,null,null,null,null,null,null,null,"0",":","0"]
[null,59,null,null,null,null,"D",null,null,6.4875000000000016,null,null,null,null,{"$f":"AG19","v":"Erster Gruppe 7"},null,null,null,null,null,null,null,null,null,null,null,null,null,null,null,"-",{"$f":"AG20","v":"Erster Gruppe 8"},null,null,null,null,null,null,null,null,null,null,null,null,null,null,null,null,null,null,":",null,null,null,null,null,null,null,null,null,null,null,null,null,null,null,null,null,null,null,null,null,"0",":","0",null,null,null,"Gruppe B","Pkt.","Tore",null,null,"Diff."]
[null,60,null,null,null,null,"D",null,null,7.4958333333333353,null,null,null,null,{"$f":"AG21","v":"Zweiter Gruppe 1"},null,null,null,null,null,null,null,null,null,null,null,null,null,null,null,"-",{"$f":"AG22","v":"Zweiter Gruppe 2"},null,null,null,null,null,null,null,null,null,null,null,null,null,null,null,null,null,null,":",null,null,null,null,null,null,null,null,null,null,null,null,null,null,null,null,null,null,null,null,null,"0",":","0",null,null,null,{"$f":"$AG$15","v":"Zweiter Gruppe 5"},{"$f":"SUM($BU$30+$BW$38+$BW$45)","v":0},{"$f":"SUM($AW$30+$AZ$38+$AZ$45)","v":0},":",{"$f":"SUM($AZ$30+$AW$38+$AW$45)","v":0},{"$f":"SUM(CC34-CE34)","v":0}]
[null,61,null,null,null,null,"A",null,null,8.5041666666666682,null,null,null,null,{"$f":"D16","v":"Zweiter Gruppe 8"},null,null,null,null,null,null,null,null,null,null,null,null,null,null,null,"-",{"$f":"D13","v":"Erster Gruppe 1"},null,null,null,null,null,null,null,null,null,null,null,null,null,null,null,null,null,null,":",null,null,null,null,null,null,null,null,null,null,null,null,null,null,null,null,null,null,null,null,null,"0",":","0",null,null,null,{"$f":"$AG$16","v":"Zweiter Gruppe 6"},{"$f":"SUM($BW$30+$BU$37+$BW$46)","v":0},{"$f":"SUM($AZ$30+$AW$37+$AZ$46)","v":0},":",{"$f":"SUM($AW$30+$AZ$37+$AW$46)","v":0},{"$f":"SUM(CC35-CE35)","v":0}]
[null,62,null,null,null,null,"A",null,null,9.5125000000000011,null,null,null,null,{"$f":"D14","v":"Erster Gruppe 2"},null,null,null,null,null,null,null,null,null,null,null,null,null,null,null,"-",{"$f":"D15","v":"Zweiter Gruppe 7"},null,null,null,null,null,null,null,null,null,null,null,null,null,null,null,null,null,null,":",null,null,null,null,null,null,null,null,null,null,null,null,null,null,null,null,null,null,null,null,null,"0",":","0",null,null,null,{"$f":"$AG$13","v":"Erster Gruppe 3"},{"$f":"SUM($BU$29+$BW$37+$BU$45)","v":0},{"$f":"SUM($AW$29+$AZ$37+$AW$45)","v":0},":",{"$f":"SUM($AZ$29+$AW$37+$AZ$45)","v":0},{"$f":"SUM(CC36-CE36)","v":0}]
[null,63,null,null,null,null,"B",null,null,10.520833333333334,null,null,null,null,{"$f":"AG16","v":"Zweiter Gruppe 6"},null,null,null,null,null,null,null,null,null,null,null,null,null,null,null,"-",{"$f":"AG13","v":"Erster Gruppe 3"},null,null,null,null,null,null,null,null,null,null,null,null,null,null,null,null,null,null,":",null,null,null,null,null,null,null,null,null,null,null,null,null,null,null,null,null,null,null,null,null,"0",":","0",null,null,null,{"$f":"$AG$14","v":"Erster Gruppe 4"},{"$f":"SUM($BW$29+$BU$38+$BU$46)","v":0},{"$f":"SUM($AZ$29+$AW$38+$AW$46)","v":0},":",{"$f":"SUM($AW$29+$AZ$38+$AZ$46)","v":0},{"$f":"SUM(CC37-CE37)","v":0}]
[null,64,null,null,null,null,"B",null,null,11.529166666666667,null,null,null,null,{"$f":"AG14","v":"Erster Gruppe 4"},null,null,null,null,null,null,null,null,null,null,null,null,null,null,null,"-",{"$f":"AG15","v":"Zweiter Gruppe 5"},null,null,null,null,null,null,null,null,null,null,null,null,null,null,null,null,null,null,":",null,null,null,null,null,null,null,null,null,null,null,null,null,null,null,null,null,null,null,null,null,"0",":","0"]
[null,65,null,null,null,null,"C",null,null,12.5375,null,null,null,null,{"$f":"D22","v":"Zweiter Gruppe 4"},null,null,null,null,null,null,null,null,null,null,null,null,null,null,null,"-",{"$f":"D19","v":"Erster Gruppe 5"},null,null,null,null,null,null,null,null,null,null,null,null,null,null,null,null,null,null,":",null,null,null,null,null,null,null,null,null,null,null,null,null,null,null,null,null,null,null,null,null,"0",":","0",null,null,null,"Gruppe C","Pkt.","Tore",null,null,"Diff."]
[null,66,null,null,null,null,"C",null,null,13.545833333333333,null,null,null,null,{"$f":"D20","v":"Erster Gruppe 6"},null,null,null,null,null,null,null,null,null,null,null,null,null,null,null,"-",{"$f":"D21","v":"Zweiter Gruppe 3"},null,null,null,null,null,null,null,null,null,null,null,null,null,null,null,null,null,null,":",null,null,null,null,null,null,null,null,null,null,null,null,null,null,null,null,null,null,null,null,null,"0",":","0",null,null,null,{"$f":"$D$22","v":"Zweiter Gruppe 4"},{"$f":"SUM($BW$32+$BU$39+$BW$48)","v":0},{"$f":"SUM($AZ$32+$AW$39+$AZ$48)","v":0},":",{"$f":"SUM($AW$32+$AZ$39+$AW$48)","v":0},{"$f":"SUM(CC40-CE40)","v":0}]
[null,67,null,null,null,null,"D",null,null,14.554166666666665,null,null,null,null,{"$f":"AG22","v":"Zweiter Gruppe 2"},null,null,null,null,null,null,null,null,null,null,null,null,null,null,null,"-",{"$f":"AG19","v":"Erster Gruppe 7"},null,null,null,null,null,null,null,null,null,null,null,null,null,null,null,null,null,null,":",null,null,null,null,null,null,null,null,null,null,null,null,null,null,null,null,null,null,null,null,null,"0",":","0",null,null,null,{"$f":"$D$19","v":"Erster Gruppe 5"},{"$f":"SUM($BU$31+$BW$39+$BU$47)","v":0},{"$f":"SUM($AW$31+$AZ$39+$AW$47)","v":0},":",{"$f":"SUM($AZ$31+$AW$39+$AZ$47)","v":0},{"$f":"SUM(CC41-CE41)","v":0}]
[null,68,null,null,null,null,"D",null,null,15.562499999999998,null,null,null,null,{"$f":"AG20","v":"Erster Gruppe 8"},null,null,null,null,null,null,null,null,null,null,null,null,null,null,null,"-",{"$f":"AG21","v":"Zweiter Gruppe 1"},null,null,null,null,null,null,null,null,null,null,null,null,null,null,null,null,null,null,":",null,null,null,null,null,null,null,null,null,null,null,null,null,null,null,null,null,null,null,null,null,"0",":","0",null,null,null,{"$f":"$D$20","v":"Erster Gruppe 6"},{"$f":"SUM($BW$31+$BU$40+$BU$48)","v":0},{"$f":"SUM($AZ$31+$AW$40+$AW$48)","v":0},":",{"$f":"SUM($AW$31+$AZ$40+$AZ$48)","v":0},{"$f":"SUM(CC42-CE42)","v":0}]
[null,69,null,null,null,null,"A",null,null,16.570833333333333,null,null,null,null,{"$f":"D13","v":"Erster Gruppe 1"},null,null,null,null,null,null,null,null,null,null,null,null,null,null,null,"-",{"$f":"D15","v":"Zweiter Gruppe 7"},null,null,null,null,null,null,null,null,null,null,null,null,null,null,null,null,null,null,":",null,null,null,null,null,null,null,null,null,null,null,null,null,null,null,null,null,null,null,null,null,"0",":","0",null,null,null,{"$f":"$D$21","v":"Zweiter Gruppe 3"},{"$f":"SUM($BU$32+$BW$40+$BW$47)","v":0},{"$f":"SUM($AW$32+$AZ$40+$AZ$47)","v":0},":",{"$f":"SUM($AZ$32+$AW$40+$AW$47)","v":0},{"$f":"SUM(CC43-CE43)","v":0}]
[null,70,null,null,null,null,"A",null,null,17.579166666666666,null,null,null,null,{"$f":"D14","v":"Erster Gruppe 2"},null,null,null,null,null,null,null,null,null,null,null,null,null,null,null,"-",{"$f":"D16","v":"Zweiter Gruppe 8"},null,null,null,null,null,null,null,null,null,null,null,null,null,null,null,null,null,null,":",null,null,null,null,null,null,null,null,null,null,null,null,null,null,null,null,null,null,null,null,null,"0",":","0"]
[null,71,null,null,null,null,"B",null,null,18.587499999999999,null,null,null,null,{"$f":"AG13","v":"Erster Gruppe 3"},null,null,null,null,null,null,null,null,null,null,null,null,null,null,null,"-",{"$f":"AG15","v":"Zweiter Gruppe 5"},null,null,null,null,null,null,null,null,null,null,null,null,null,null,null,null,null,null,":",null,null,null,null,null,null,null,null,null,null,null,null,null,null,null,null,null,null,null,null,null,"0",":","0",null,null,null,"Gruppe D","Pkt.","Tore",null,null,"Diff."]
[null,72,null,null,null,null,"B",null,null,19.595833333333331,null,null,null,null,{"$f":"AG14","v":"Erster Gruppe 4"},null,null,null,null,null,null,null,null,null,null,null,null,null,null,null,"-",{"$f":"AG16","v":"Zweiter Gruppe 6"},null,null,null,null,null,null,null,null,null,null,null,null,null,null,null,null,null,null,":",null,null,null,null,null,null,null,null,null,null,null,null,null,null,null,null,null,null,null,null,null,"0",":","0",null,null,null,{"$f":"$AG$19","v":"Erster Gruppe 7"},{"$f":"SUM($BU$33+$BW$41+$BU$49)","v":0},{"$f":"SUM($AW$33+$AZ$41+$AW$49)","v":0},":",{"$f":"SUM($AZ$33+$AW$41+$AZ$49)","v":0},{"$f":"SUM(CC46-CE46)","v":0}]
[null,73,null,null,null,null,"C",null,null,20.604166666666664,null,null,null,null,{"$f":"D19","v":"Erster Gruppe 5"},null,null,null,null,null,null,null,null,null,null,null,null,null,null,null,"-",{"$f":"D21","v":"Zweiter Gruppe 3"},null,null,null,null,null,null,null,null,null,null,null,null,null,null,null,null,null,null,":",null,null,null,null,null,null,null,null,null,null,null,null,null,null,null,null,null,null,null,null,null,"0",":","0",null,null,null,{"$f":"$AG$20","v":"Erster Gruppe 8"},{"$f":"SUM($BW$33+$BU$42+$BU$50)","v":0},{"$f":"SUM($AZ$33+$AW$42+$AW$50)","v":0},":",{"$f":"SUM($AW$33+$AZ$42+$AZ$50)","v":0},{"$f":"SUM(CC47-CE47)","v":0}]
[null,74,null,null,null,null,"C",null,null,21.612499999999997,null,null,null,null,{"$f":"D20","v":"Erster Gruppe 6"},null,null,null,null,null,null,null,null,null,null,null,null,null,null,null,"-",{"$f":"D22","v":"Zweiter Gruppe 4"},null,null,null,null,null,null,null,null,null,null,null,null,null,null,null,null,null,null,":",null,null,null,null,null,null,null,null,null,null,null,null,null,null,null,null,null,null,null,null,null,"0",":","0",null,null,null,{"$f":"$AG$21","v":"Zweiter Gruppe 1"},{"$f":"SUM($BU$34+$BW$42+$BW$49)","v":0},{"$f":"SUM($AW$34+$AZ$42+$AZ$49)","v":0},":",{"$f":"SUM($AZ$34+$AW$42+$AW$49)","v":0},{"$f":"SUM(CC48-CE48)","v":0}]
[null,75,null,null,null,null,"D",null,null,22.62083333333333,null,null,null,null,{"$f":"AG19","v":"Erster Gruppe 7"},null,null,null,null,null,null,null,null,null,null,null,null,null,null,null,"-",{"$f":"AG21","v":"Zweiter Gruppe 1"},null,null,null,null,null,null,null,null,null,null,null,null,null,null,null,null,null,null,":",null,null,null,null,null,null,null,null,null,null,null,null,null,null,null,null,null,null,null,null,null,"0",":","0",null,null,null,{"$f":"$AG$22","v":"Zweiter Gruppe 2"},{"$f":"SUM($BW$34+$BU$41+$BW$50)","v":0},{"$f":"SUM($AZ$34+$AW$41+$AZ$50)","v":0},":",{"$f":"SUM($AW$34+$AZ$41+$AW$50)","v":0},{"$f":"SUM(CC49-CE49)","v":0}]
[null,76,null,null,null,null,"D",null,null,23.629166666666663,null,null,null,null,{"$f":"AG20","v":"Erster Gruppe 8"},null,null,null,null,null,null,null,null,null,null,null,null,null,null,null,"-",{"$f":"AG22","v":"Zweiter Gruppe 2"},null,null,null,null,null,null,null,null,null,null,null,null,null,null,null,null,null,null,":",null,null,null,null,null,null,null,null,null,null,null,null,null,null,null,null,null,null,null,null,null,"0",":","0"]
[]
[]
[]
[null,"SSB Oberhausen, Fachschaft Fußball"]
[]
[null,"III. Abschlußtabellen Vorrunde"]
[]
[null,"Gruppe A",null,null,null,null,null,null,null,null,null,null,null,null,null,"Pkt.",null,null,"Tore",null,null,null,null,"Diff.",null,null,null,null,null,null,"Gruppe B",null,null,null,null,null,null,null,null,null,null,null,null,null,"Pkt.",null,null,"Tore",null,null,null,null,"Diff."]
[null,"1.",null,null,null,null,null,null,null,null,null,null,null,null,null,null,null,null,null,null,":",null,null,null,null,null,null,null,null,null,"1.",null,null,null,null,null,null,null,null,null,null,null,null,null,null,null,null,null,null,":"]
[null,"2.",null,null,null,null,null,null,null,null,null,null,null,null,null,null,null,null,null,null,":",null,null,null,null,null,null,null,null,null,"2.",null,null,null,null,null,null,null,null,null,null,null,null,null,null,null,null,null,null,":"]
[null,"3.",null,null,null,null,null,null,null,null,null,null,null,null,null,null,null,null,null,null,":",null,null,null,null,null,null,null,null,null,"3.",null,null,null,null,null,null,null,null,null,null,null,null,null,null,null,null,null,null,":"]
[null,"4.",null,null,null,null,null,null,null,null,null,null,null,null,null,null,null,null,null,null,":",null,null,null,null,null,null,null,null,null,"4.",null,null,null,null,null,null,null,null,null,null,null,null,null,null,null,null,null,null,":"]
[]
[null,"Gruppe C",null,null,null,null,null,null,null,null,null,null,null,null,null,"Pkt.",null,null,"Tore",null,null,null,null,"Diff.",null,null,null,null,null,null,"Gruppe D",null,null,null,null,null,null,null,null,null,null,null,null,null,"Pkt.",null,null,"Tore",null,null,null,null,"Diff."]
[null,"1.",null,null,null,null,null,null,null,null,null,null,null,null,null,null,null,null,null,null,":",null,null,null,null,null,null,null,null,null,"1.",null,null,null,null,null,null,null,null,null,null,null,null,null,null,null,null,null,null,":"]
[null,"2.",null,null,null,null,null,null,null,null,null,null,null,null,null,null,null,null,null,null,":",null,null,null,null,null,null,null,null,null,"2.",null,null,null,null,null,null,null,null,null,null,null,null,null,null,null,null,null,null,":"]
[null,"3.",null,null,null,null,null,null,null,null,null,null,null,null,null,null,null,null,null,null,":",null,null,null,null,null,null,null,null,null,"3.",null,null,null,null,null,null,null,null,null,null,null,null,null,null,null,null,null,null,":"]
[null,"4.",null,null,null,null,null,null,null,null,null,null,null,null,null,null,null,null,null,null,":",null,null,null,null,null,null,null,null,null,"4.",null,null,null,null,null,null,null,null,null,null,null,null,null,null,null,null,null,null,":"]
[]
[]
[null,"IV. Endrunde"]
[]
[null,null,null,null,null,null,"Beginn:","15:20:00",null,null,null,null,"Uhr",null,null,null,null,null,null,null,"Spielzeit:",1,null,"x","00:10:00",null,null,null,null,"min",null,null,null,null,null,null,"Pause:","00:02:00",null,null,null,null,"min"]
[]
[null,"Nr.",null,null,null,null,null,null,null,"Beginn",null,null,null,null,"1. Viertelfinale",null,null,null,null,null,null,null,null,null,null,null,null,null,null,null,null,null,null,null,null,null,null,null,null,null,null,null,null,null,null,null,null,null,"Ergebnis",null,null,null,null,null,null,null,null,null,null,null,null,null,null,null,null,null,null,null,null,null,null,null,null,null,null,null,null,null,{"$f":"IF(ISBLANK($AZ$44),\"\",IF(AND($X$59=$X$60,$P$60=$P$59,$S$60=$S$59),1,0))","v":""},{"$f":"IF(ISBLANK($AZ$44),\"\",IF(AND($X$61=$X$60,$P$60=$P$61,$S$60=$S$61),1,0))","v":""},{"$f":"SUM(CA75:CB75)","v":0}]
[null,77,null,null,null,null,null,null,null,{"$f":"H73","v":"15:20:00"},null,null,null,null,{"$f":"IF(ISBLANK($AZ$44),\"\",IF(AND($CA$75=1),\"ACHTUNG! Mannschaften gleich!\",$D$59))","v":""},{"$f":"IF(ISBLANK($AZ$63),\"\",IF(AND(#REF!=#REF!,#REF!=#REF!,#REF!=#REF!),1,0))","v":""},{"$f":"IF(ISBLANK($AZ$63),\"\",IF(AND(#REF!=#REF!,#REF!=#REF!,#REF!=#REF!),1,0))","v":""},{"$f":"IF(ISBLANK($AZ$63),\"\",IF(AND(#REF!=#REF!,#REF!=#REF!,#REF!=#REF!),1,0))","v":""},{"$f":"IF(ISBLANK($AZ$63),\"\",IF(AND(#REF!=#REF!,#REF!=#REF!,#REF!=#REF!),1,0))","v":""},{"$f":"IF(ISBLANK($AZ$63),\"\",IF(AND(#REF!=#REF!,#REF!=#REF!,#REF!=#REF!),1,0))","v":""},{"$f":"IF(ISBLANK($AZ$63),\"\",IF(AND(#REF!=#REF!,#REF!=#REF!,#REF!=#REF!),1,0))","v":""},{"$f":"IF(ISBLANK($AZ$63),\"\",IF(AND(#REF!=#REF!,#REF!=#REF!,#REF!=#REF!),1,0))","v":""},{"$f":"IF(ISBLANK($AZ$63),\"\",IF(AND(#REF!=#REF!,#REF!=#REF!,#REF!=#REF!),1,0))","v":""},{"$f":"IF(ISBLANK($AZ$63),\"\",IF(AND(#REF!=#REF!,#REF!=#REF!,#REF!=#REF!),1,0))","v":""},{"$f":"IF(ISBLANK($AZ$63),\"\",IF(AND(#REF!=#REF!,#REF!=#REF!,#REF!=#REF!),1,0))","v":""},{"$f":"IF(ISBLANK($AZ$63),\"\",IF(AND(#REF!=#REF!,#REF!=#REF!,#REF!=#REF!),1,0))","v":""},{"$f":"IF(ISBLANK($AZ$63),\"\",IF(AND(#REF!=#REF!,#REF!=#REF!,#REF!=#REF!),1,0))","v":""},{"$f":"IF(ISBLANK($AZ$63),\"\",IF(AND(#REF!=#REF!,#REF!=#REF!,#REF!=#REF!),1,0))","v":""},{"$f":"IF(ISBLANK($AZ$63),\"\",IF(AND(#REF!=#REF!,#REF!=#REF!,#REF!=#REF!),1,0))","v":""},{"$f":"IF(ISBLANK($AZ$63),\"\",IF(AND(#REF!=#REF!,#REF!=#REF!,#REF!=#REF!),1,0))","v":""},"-",{"$f":"IF(ISBLANK($AZ$46),\"\",IF(AND($CC$79>0),\"ACHTUNG! Mannschaften gleich!\",$AG$60))","v":""},null,null,null,null,null,null,null,null,null,null,null,null,null,null,null,null,null,null,":"]
[null,null,null,null,null,null,null,null,null,null,null,null,null,null,"1. Gruppe A",null,null,null,null,null,null,null,null,null,null,null,null,null,null,null,null,"2. Gruppe B"]
[]
[null,"Nr.",null,null,null,null,null,null,null,"Beginn",null,null,null,null,"2. Viertelfinale",null,null,null,null,null,null,null,null,null,null,null,null,null,null,null,null,null,null,null,null,null,null,null,null,null,null,null,null,null,null,null,null,null,"Ergebnis",null,null,null,null,null,null,null,null,null,null,null,null,null,null,null,null,null,null,null,null,null,null,null,null,null,null,null,null,null,{"$f":"IF(ISBLANK($AZ$46),\"\",IF(AND($BA$59=$BA$60,$AS$60=$AS$59,$AV$60=$AV$59),1,0))","v":""},{"$f":"IF(ISBLANK($AZ$46),\"\",IF(AND($BA$61=$BA$60,$AS$60=$AS$61,$AV$60=$AV$61),1,0))","v":""},{"$f":"SUM(CA79:CB79)","v":0}]
[null,78,null,null,null,null,null,null,null,{"$f":"J76+$V$73*$Y$73+$AL$73","v":"15:32:00"},null,null,null,null,{"$f":"IF(ISBLANK($AZ$46),\"\",IF(AND($CA$79=1),\"ACHTUNG! Mannschaften gleich!\",$AG$59))","v":""},{"$f":"IF(ISBLANK($AZ$63),\"\",IF(AND(#REF!=#REF!,#REF!=#REF!,#REF!=#REF!),1,0))","v":""},{"$f":"IF(ISBLANK($AZ$63),\"\",IF(AND(#REF!=#REF!,#REF!=#REF!,#REF!=#REF!),1,0))","v":""},{"$f":"IF(ISBLANK($AZ$63),\"\",IF(AND(#REF!=#REF!,#REF!=#REF!,#REF!=#REF!),1,0))","v":""},{"$f":"IF(ISBLANK($AZ$63),\"\",IF(AND(#REF!=#REF!,#REF!=#REF!,#REF!=#REF!),1,0))","v":""},{"$f":"IF(ISBLANK($AZ$63),\"\",IF(AND(#REF!=#REF!,#REF!=#REF!,#REF!=#REF!),1,0))","v":""},{"$f":"IF(ISBLANK($AZ$63),\"\",IF(AND(#REF!=#REF!,#REF!=#REF!,#REF!=#REF!),1,0))","v":""},{"$f":"IF(ISBLANK($AZ$63),\"\",IF(AND(#REF!=#REF!,#REF!=#REF!,#REF!=#REF!),1,0))","v":""},{"$f":"IF(ISBLANK($AZ$63),\"\",IF(AND(#REF!=#REF!,#REF!=#REF!,#REF!=#REF!),1,0))","v":""},{"$f":"IF(ISBLANK($AZ$63),\"\",IF(AND(#REF!=#REF!,#REF!=#REF!,#REF!=#REF!),1,0))","v":""},{"$f":"IF(ISBLANK($AZ$63),\"\",IF(AND(#REF!=#REF!,#REF!=#REF!,#REF!=#REF!),1,0))","v":""},{"$f":"IF(ISBLANK($AZ$63),\"\",IF(AND(#REF!=#REF!,#REF!=#REF!,#REF!=#REF!),1,0))","v":""},{"$f":"IF(ISBLANK($AZ$63),\"\",IF(AND(#REF!=#REF!,#REF!=#REF!,#REF!=#REF!),1,0))","v":""},{"$f":"IF(ISBLANK($AZ$63),\"\",IF(AND(#REF!=#REF!,#REF!=#REF!,#REF!=#REF!),1,0))","v":""},{"$f":"IF(ISBLANK($AZ$63),\"\",IF(AND(#REF!=#REF!,#REF!=#REF!,#REF!=#REF!),1,0))","v":""},{"$f":"IF(ISBLANK($AZ$63),\"\",IF(AND(#REF!=#REF!,#REF!=#REF!,#REF!=#REF!),1,0))","v":""},"-",{"$f":"IF(ISBLANK($AZ$44),\"\",IF(AND($CC$75>0),\"ACHTUNG! Mannschaften gleich!\",$D$60))","v":""},null,null,null,null,null,null,null,null,null,null,null,null,null,null,null,null,null,null,":"]
[null,null,null,null,null,null,null,null,null,null,null,null,null,null,"1. Gruppe B",null,null,null,null,null,null,null,null,null,null,null,null,null,null,null,null,"2. Gruppe A"]
[]
[null,"Nr.",null,null,null,null,null,null,null,"Beginn",null,null,null,null,"3. Viertelfinale",null,null,null,null,null,null,null,null,null,null,null,null,null,null,null,null,null,null,null,null,null,null,null,null,null,null,null,null,null,null,null,null,null,"Ergebnis",null,null,null,null,null,null,null,null,null,null,null,null,null,null,null,null,null,null,null,null,null,null,null,null,null,null,null,null,null,{"$f":"IF(ISBLANK($AZ$48),\"\",IF(AND($X$65=$X$66,$P$66=$P$65,$S$66=$S$65),1,0))","v":""},{"$f":"IF(ISBLANK($AZ$48),\"\",IF(AND($X$67=$X$66,$P$66=$P$67,$S$66=$S$67),1,0))","v":""},{"$f":"SUM(CA83:CB83)","v":0}]
[null,79,null,null,null,null,null,null,null,{"$f":"J80+$V$73*$Y$73+$AL$73","v":"15:44:00"},null,null,null,null,{"$f":"IF(ISBLANK($AZ$48),\"\",IF(AND($CA$83=1),\"ACHTUNG! Mannschaften gleich!\",$D$65))","v":""},{"$f":"IF(ISBLANK($AZ$63),\"\",IF(AND(#REF!=#REF!,#REF!=#REF!,#REF!=#REF!),1,0))","v":""},{"$f":"IF(ISBLANK($AZ$63),\"\",IF(AND(#REF!=#REF!,#REF!=#REF!,#REF!=#REF!),1,0))","v":""},{"$f":"IF(ISBLANK($AZ$63),\"\",IF(AND(#REF!=#REF!,#REF!=#REF!,#REF!=#REF!),1,0))","v":""},{"$f":"IF(ISBLANK($AZ$63),\"\",IF(AND(#REF!=#REF!,#REF!=#REF!,#REF!=#REF!),1,0))","v":""},{"$f":"IF(ISBLANK($AZ$63),\"\",IF(AND(#REF!=#REF!,#REF!=#REF!,#REF!=#REF!),1,0))","v":""},{"$f":"IF(ISBLANK($AZ$63),\"\",IF(AND(#REF!=#REF!,#REF!=#REF!,#REF!=#REF!),1,0))","v":""},{"$f":"IF(ISBLANK($AZ$63),\"\",IF(AND(#REF!=#REF!,#REF!=#REF!,#REF!=#REF!),1,0))","v":""},{"$f":"IF(ISBLANK($AZ$63),\"\",IF(AND(#REF!=#REF!,#REF!=#REF!,#REF!=#REF!),1,0))","v":""},{"$f":"IF(ISBLANK($AZ$63),\"\",IF(AND(#REF!=#REF!,#REF!=#REF!,#REF!=#REF!),1,0))","v":""},{"$f":"IF(ISBLANK($AZ$63),\"\",IF(AND(#REF!=#REF!,#REF!=#REF!,#REF!=#REF!),1,0))","v":""},{"$f":"IF(ISBLANK($AZ$63),\"\",IF(AND(#REF!=#REF!,#REF!=#REF!,#REF!=#REF!),1,0))","v":""},{"$f":"IF(ISBLANK($AZ$63),\"\",IF(AND(#REF!=#REF!,#REF!=#REF!,#REF!=#REF!),1,0))","v":""},{"$f":"IF(ISBLANK($AZ$63),\"\",IF(AND(#REF!=#REF!,#REF!=#REF!,#REF!=#REF!),1,0))","v":""},{"$f":"IF(ISBLANK($AZ$63),\"\",IF(AND(#REF!=#REF!,#REF!=#REF!,#REF!=#REF!),1,0))","v":""},{"$f":"IF(ISBLANK($AZ$63),\"\",IF(AND(#REF!=#REF!,#REF!=#REF!,#REF!=#REF!),1,0))","v":""},"-",{"$f":"IF(ISBLANK($AZ$50),\"\",IF(AND($CC$87>0),\"ACHTUNG! Mannschaften gleich!\",$AG$66))","v":""},null,null,null,null,null,null,null,null,null,null,null,null,null,null,null,null,null,null,":"]
[null,null,null,null,null,null,null,null,null,null,null,null,null,null,"1. Gruppe C",null,null,null,null,null,null,null,null,null,null,null,null,null,null,null,null,"2. Gruppe D"]
[]
[null,"Nr.",null,null,null,null,null,null,null,"Beginn",null,null,null,null,"4. Viertelfinale",null,null,null,null,null,null,null,null,null,null,null,null,null,null,null,null,null,null,null,null,null,null,null,null,null,null,null,null,null,null,null,null,null,"Ergebnis",null,null,null,null,null,null,null,null,null,null,null,null,null,null,null,null,null,null,null,null,null,null,null,null,null,null,null,null,null,{"$f":"IF(ISBLANK($AZ$50),\"\",IF(AND($BA$65=$BA$66,$AS$66=$AS$65,$AV$66=$AV$65),1,0))","v":""},{"$f":"IF(ISBLANK($AZ$50),\"\",IF(AND($BA$67=$BA$66,$AS$66=$AS$67,$AV$66=$AV$67),1,0))","v":""},{"$f":"SUM(CA87:CB87)","v":0}]
[null,80,null,null,null,null,null,null,null,{"$f":"J84+$V$73*$Y$73+$AL$73","v":"15:56:00"},null,null,null,null,{"$f":"IF(ISBLANK($AZ$50),\"\",IF(AND($CA$87=1),\"ACHTUNG! Mannschaften gleich!\",$AG$65))","v":""},{"$f":"IF(ISBLANK($AZ$63),\"\",IF(AND(#REF!=#REF!,#REF!=#REF!,#REF!=#REF!),1,0))","v":""},{"$f":"IF(ISBLANK($AZ$63),\"\",IF(AND(#REF!=#REF!,#REF!=#REF!,#REF!=#REF!),1,0))","v":""},{"$f":"IF(ISBLANK($AZ$63),\"\",IF(AND(#REF!=#REF!,#REF!=#REF!,#REF!=#REF!),1,0))","v":""},{"$f":"IF(ISBLANK($AZ$63),\"\",IF(AND(#REF!=#REF!,#REF!=#REF!,#REF!=#REF!),1,0))","v":""},{"$f":"IF(ISBLANK($AZ$63),\"\",IF(AND(#REF!=#REF!,#REF!=#REF!,#REF!=#REF!),1,0))","v":""},{"$f":"IF(ISBLANK($AZ$63),\"\",IF(AND(#REF!=#REF!,#REF!=#REF!,#REF!=#REF!),1,0))","v":""},{"$f":"IF(ISBLANK($AZ$63),\"\",IF(AND(#REF!=#REF!,#REF!=#REF!,#REF!=#REF!),1,0))","v":""},{"$f":"IF(ISBLANK($AZ$63),\"\",IF(AND(#REF!=#REF!,#REF!=#REF!,#REF!=#REF!),1,0))","v":""},{"$f":"IF(ISBLANK($AZ$63),\"\",IF(AND(#REF!=#REF!,#REF!=#REF!,#REF!=#REF!),1,0))","v":""},{"$f":"IF(ISBLANK($AZ$63),\"\",IF(AND(#REF!=#REF!,#REF!=#REF!,#REF!=#REF!),1,0))","v":""},{"$f":"IF(ISBLANK($AZ$63),\"\",IF(AND(#REF!=#REF!,#REF!=#REF!,#REF!=#REF!),1,0))","v":""},{"$f":"IF(ISBLANK($AZ$63),\"\",IF(AND(#REF!=#REF!,#REF!=#REF!,#REF!=#REF!),1,0))","v":""},{"$f":"IF(ISBLANK($AZ$63),\"\",IF(AND(#REF!=#REF!,#REF!=#REF!,#REF!=#REF!),1,0))","v":""},{"$f":"IF(ISBLANK($AZ$63),\"\",IF(AND(#REF!=#REF!,#REF!=#REF!,#REF!=#REF!),1,0))","v":""},{"$f":"IF(ISBLANK($AZ$63),\"\",IF(AND(#REF!=#REF!,#REF!=#REF!,#REF!=#REF!),1,0))","v":""},"-",{"$f":"IF(ISBLANK($AZ$48),\"\",IF(AND($CC$83>0),\"ACHTUNG! Mannschaften gleich!\",$D$66))","v":""},null,null,null,null,null,null,null,null,null,null,null,null,null,null,null,null,null,null,":"]
[null,null,null,null,null,null,null,null,null,null,null,null,null,null,"1. Gruppe D",null,null,null,null,null,null,null,null,null,null,null,null,null,null,null,null,"2. Gruppe C"]
[]
[null,"Nr.",null,null,null,null,null,null,null,"Beginn",null,null,null,null,"1. Halbfinale",null,null,null,null,null,null,null,null,null,null,null,null,null,null,null,null,null,null,null,null,null,null,null,null,null,null,null,null,null,null,null,null,null,"Ergebnis"]
[null,81,null,null,null,null,null,null,null,"16:15:00",null,null,null,null,{"$f":"IF(ISBLANK($AZ$76),\" \",IF($AW$76>$AZ$76,$O$76,IF($AZ$76>$AW$76,$AF$76,IF($AW$76=$AZ$76,\"Entscheidung ermitteln!\"))))","v":" "},{"$f":"IF(ISBLANK(#REF!),\" \",IF(#REF!<#REF!,#REF!,IF(#REF!<#REF!,#REF!)))","v":{"$error":"#REF!"}},{"$f":"IF(ISBLANK(#REF!),\" \",IF(#REF!<#REF!,#REF!,IF(#REF!<#REF!,#REF!)))","v":{"$error":"#REF!"}},{"$f":"IF(ISBLANK(#REF!),\" \",IF(#REF!<#REF!,#REF!,IF(#REF!<#REF!,#REF!)))","v":{"$error":"#REF!"}},{"$f":"IF(ISBLANK(#REF!),\" \",IF(#REF!<#REF!,#REF!,IF(#REF!<#REF!,#REF!)))","v":{"$error":"#REF!"}},{"$f":"IF(ISBLANK(#REF!),\" \",IF(#REF!<#REF!,#REF!,IF(#REF!<#REF!,#REF!)))","v":{"$error":"#REF!"}},{"$f":"IF(ISBLANK(#REF!),\" \",IF(#REF!<#REF!,#REF!,IF(#REF!<#REF!,#REF!)))","v":{"$error":"#REF!"}},{"$f":"IF(ISBLANK(#REF!),\" \",IF(#REF!<#REF!,#REF!,IF(#REF!<#REF!,#REF!)))","v":{"$error":"#REF!"}},{"$f":"IF(ISBLANK(#REF!),\" \",IF(#REF!<#REF!,#REF!,IF(#REF!<#REF!,#REF!)))","v":{"$error":"#REF!"}},{"$f":"IF(ISBLANK(#REF!),\" \",IF(#REF!<#REF!,#REF!,IF(#REF!<#REF!,#REF!)))","v":{"$error":"#REF!"}},{"$f":"IF(ISBLANK(#REF!),\" \",IF(#REF!<#REF!,#REF!,IF(#REF!<#REF!,#REF!)))","v":{"$error":"#REF!"}},{"$f":"IF(ISBLANK(#REF!),\" \",IF(#REF!<#REF!,#REF!,IF(#REF!<#REF!,#REF!)))","v":{"$error":"#REF!"}},{"$f":"IF(ISBLANK(#REF!),\" \",IF(#REF!<#REF!,#REF!,IF(#REF!<#REF!,#REF!)))","v":{"$error":"#REF!"}},{"$f":"IF(ISBLANK(#REF!),\" \",IF(#REF!<#REF!,#REF!,IF(#REF!<#REF!,#REF!)))","v":{"$error":"#REF!"}},{"$f":"IF(ISBLANK(#REF!),\" \",IF(#REF!<#REF!,#REF!,IF(#REF!<#REF!,#REF!)))","v":{"$error":"#REF!"}},{"$f":"IF(ISBLANK(#REF!),\" \",IF(#REF!<#REF!,#REF!,IF(#REF!<#REF!,#REF!)))","v":{"$error":"#REF!"}},"-",{"$f":"IF(ISBLANK($AZ$84),\" \",IF($AW$84>$AZ$84,$O$84,IF($AZ$84>$AW$84,$AF$84,IF($AW$84=$AZ$84,\"Entscheidung ermitteln!\"))))","v":" "},{"$f":"IF(ISBLANK(#REF!),\" \",IF(#REF!<#REF!,#REF!,IF(#REF!<#REF!,#REF!)))","v":{"$error":"#REF!"}},{"$f":"IF(ISBLANK(#REF!),\" \",IF(#REF!<#REF!,#REF!,IF(#REF!<#REF!,#REF!)))","v":{"$error":"#REF!"}},{"$f":"IF(ISBLANK(#REF!),\" \",IF(#REF!<#REF!,#REF!,IF(#REF!<#REF!,#REF!)))","v":{"$error":"#REF!"}},{"$f":"IF(ISBLANK(#REF!),\" \",IF(#REF!<#REF!,#REF!,IF(#REF!<#REF!,#REF!)))","v":{"$error":"#REF!"}},{"$f":"IF(ISBLANK(#REF!),\" \",IF(#REF!<#REF!,#REF!,IF(#REF!<#REF!,#REF!)))","v":{"$error":"#REF!"}},{"$f":"IF(ISBLANK(#REF!),\" \",IF(#REF!<#REF!,#REF!,IF(#REF!<#REF!,#REF!)))","v":{"$error":"#REF!"}},{"$f":"IF(ISBLANK(#REF!),\" \",IF(#REF!<#REF!,#REF!,IF(#REF!<#REF!,#REF!)))","v":{"$error":"#REF!"}},{"$f":"IF(ISBLANK(#REF!),\" \",IF(#REF!<#REF!,#REF!,IF(#REF!<#REF!,#REF!)))","v":{"$error":"#REF!"}},{"$f":"IF(ISBLANK(#REF!),\" \",IF(#REF!<#REF!,#REF!,IF(#REF!<#REF!,#REF!)))","v":{"$error":"#REF!"}},{"$f":"IF(ISBLANK(#REF!),\" \",IF(#REF!<#REF!,#REF!,IF(#REF!<#REF!,#REF!)))","v":{"$error":"#REF!"}},{"$f":"IF(ISBLANK(#REF!),\" \",IF(#REF!<#REF!,#REF!,IF(#REF!<#REF!,#REF!)))","v":{"$error":"#REF!"}},{"$f":"IF(ISBLANK(#REF!),\" \",IF(#REF!<#REF!,#REF!,IF(#REF!<#REF!,#REF!)))","v":{"$error":"#REF!"}},{"$f":"IF(ISBLANK(#REF!),\" \",IF(#REF!<#REF!,#REF!,IF(#REF!<#REF!,#REF!)))","v":{"$error":"#REF!"}},{"$f":"IF(ISBLANK(#REF!),\" \",IF(#REF!<#REF!,#REF!,IF(#REF!<#REF!,#REF!)))","v":{"$error":"#REF!"}},{"$f":"IF(ISBLANK(#REF!),\" \",IF(#REF!<#REF!,#REF!,IF(#REF!<#REF!,#REF!)))","v":{"$error":"#REF!"}},{"$f":"IF(ISBLANK(#REF!),\" \",IF(#REF!<#REF!,#REF!,IF(#REF!<#REF!,#REF!)))","v":{"$error":"#REF!"}},null,null,":"]
[null,null,null,null,null,null,null,null,null,null,null,null,null,null,"Sieger Spiel 77",null,null,null,null,null,null,null,null,null,null,null,null,null,null,null,null,"Sieger Spiel 79"]
[]
[null,"Nr.",null,null,null,null,null,null,null,"Beginn",null,null,null,null,"2. Halbfinale",null,null,null,null,null,null,null,null,null,null,null,null,null,null,null,null,null,null,null,null,null,null,null,null,null,null,null,null,null,null,null,null,null,"Ergebnis"]
[null,82,null,null,null,null,null,null,null,{"$f":"J92+$V$73*$Y$73+$AL$73","v":"16:27:00"},null,null,null,null,{"$f":"IF(ISBLANK($AZ$80),\" \",IF($AW$80>$AZ$80,$O$80,IF($AZ$80>$AW$80,$AF$80,IF($AW$80=$AZ$80,\"Entscheidung ermitteln!\"))))","v":" "},{"$f":"IF(ISBLANK(#REF!),\" \",IF(#REF!<#REF!,#REF!,IF(#REF!<#REF!,#REF!)))","v":{"$error":"#REF!"}},{"$f":"IF(ISBLANK(#REF!),\" \",IF(#REF!<#REF!,#REF!,IF(#REF!<#REF!,#REF!)))","v":{"$error":"#REF!"}},{"$f":"IF(ISBLANK(#REF!),\" \",IF(#REF!<#REF!,#REF!,IF(#REF!<#REF!,#REF!)))","v":{"$error":"#REF!"}},{"$f":"IF(ISBLANK(#REF!),\" \",IF(#REF!<#REF!,#REF!,IF(#REF!<#REF!,#REF!)))","v":{"$error":"#REF!"}},{"$f":"IF(ISBLANK(#REF!),\" \",IF(#REF!<#REF!,#REF!,IF(#REF!<#REF!,#REF!)))","v":{"$error":"#REF!"}},{"$f":"IF(ISBLANK(#REF!),\" \",IF(#REF!<#REF!,#REF!,IF(#REF!<#REF!,#REF!)))","v":{"$error":"#REF!"}},{"$f":"IF(ISBLANK(#REF!),\" \",IF(#REF!<#REF!,#REF!,IF(#REF!<#REF!,#REF!)))","v":{"$error":"#REF!"}},{"$f":"IF(ISBLANK(#REF!),\" \",IF(#REF!<#REF!,#REF!,IF(#REF!<#REF!,#REF!)))","v":{"$error":"#REF!"}},{"$f":"IF(ISBLANK(#REF!),\" \",IF(#REF!<#REF!,#REF!,IF(#REF!<#REF!,#REF!)))","v":{"$error":"#REF!"}},{"$f":"IF(ISBLANK(#REF!),\" \",IF(#REF!<#REF!,#REF!,IF(#REF!<#REF!,#REF!)))","v":{"$error":"#REF!"}},{"$f":"IF(ISBLANK(#REF!),\" \",IF(#REF!<#REF!,#REF!,IF(#REF!<#REF!,#REF!)))","v":{"$error":"#REF!"}},{"$f":"IF(ISBLANK(#REF!),\" \",IF(#REF!<#REF!,#REF!,IF(#REF!<#REF!,#REF!)))","v":{"$error":"#REF!"}},{"$f":"IF(ISBLANK(#REF!),\" \",IF(#REF!<#REF!,#REF!,IF(#REF!<#REF!,#REF!)))","v":{"$error":"#REF!"}},{"$f":"IF(ISBLANK(#REF!),\" \",IF(#REF!<#REF!,#REF!,IF(#REF!<#REF!,#REF!)))","v":{"$error":"#REF!"}},{"$f":"IF(ISBLANK(#REF!),\" \",IF(#REF!<#REF!,#REF!,IF(#REF!<#REF!,#REF!)))","v":{"$error":"#REF!"}},"-",{"$f":"IF(ISBLANK($AZ$88),\" \",IF($AW$88>$AZ$88,$O$88,IF($AZ$88>$AW$88,$AF$88,IF($AW$88=$AZ$88,\"Entscheidung ermitteln!\"))))","v":" "},{"$f":"IF(ISBLANK(#REF!),\" \",IF(#REF!<#REF!,#REF!,IF(#REF!<#REF!,#REF!)))","v":{"$error":"#REF!"}},{"$f":"IF(ISBLANK(#REF!),\" \",IF(#REF!<#REF!,#REF!,IF(#REF!<#REF!,#REF!)))","v":{"$error":"#REF!"}},{"$f":"IF(ISBLANK(#REF!),\" \",IF(#REF!<#REF!,#REF!,IF(#REF!<#REF!,#REF!)))","v":{"$error":"#REF!"}},{"$f":"IF(ISBLANK(#REF!),\" \",IF(#REF!<#REF!,#REF!,IF(#REF!<#REF!,#REF!)))","v":{"$error":"#REF!"}},{"$f":"IF(ISBLANK(#REF!),\" \",IF(#REF!<#REF!,#REF!,IF(#REF!<#REF!,#REF!)))","v":{"$error":"#REF!"}},{"$f":"IF(ISBLANK(#REF!),\" \",IF(#REF!<#REF!,#REF!,IF(#REF!<#REF!,#REF!)))","v":{"$error":"#REF!"}},{"$f":"IF(ISBLANK(#REF!),\" \",IF(#REF!<#REF!,#REF!,IF(#REF!<#REF!,#REF!)))","v":{"$error":"#REF!"}},{"$f":"IF(ISBLANK(#REF!),\" \",IF(#REF!<#REF!,#REF!,IF(#REF!<#REF!,#REF!)))","v":{"$error":"#REF!"}},{"$f":"IF(ISBLANK(#REF!),\" \",IF(#REF!<#REF!,#REF!,IF(#REF!<#REF!,#REF!)))","v":{"$error":"#REF!"}},{"$f":"IF(ISBLANK(#REF!),\" \",IF(#REF!<#REF!,#REF!,IF(#REF!<#REF!,#REF!)))","v":{"$error":"#REF!"}},{"$f":"IF(ISBLANK(#REF!),\" \",IF(#REF!<#REF!,#REF!,IF(#REF!<#REF!,#REF!)))","v":{"$error":"#REF!"}},{"$f":"IF(ISBLANK(#REF!),\" \",IF(#REF!<#REF!,#REF!,IF(#REF!<#REF!,#REF!)))","v":{"$error":"#REF!"}},{"$f":"IF(ISBLANK(#REF!),\" \",IF(#REF!<#REF!,#REF!,IF(#REF!<#REF!,#REF!)))","v":{"$error":"#REF!"}},{"$f":"IF(ISBLANK(#REF!),\" \",IF(#REF!<#REF!,#REF!,IF(#REF!<#REF!,#REF!)))","v":{"$error":"#REF!"}},{"$f":"IF(ISBLANK(#REF!),\" \",IF(#REF!<#REF!,#REF!,IF(#REF!<#REF!,#REF!)))","v":{"$error":"#REF!"}},{"$f":"IF(ISBLANK(#REF!),\" \",IF(#REF!<#REF!,#REF!,IF(#REF!<#REF!,#REF!)))","v":{"$error":"#REF!"}},null,null,":"]
[null,null,null,null,null,null,null,null,null,null,null,null,null,null,"Sieger Spiel 78",null,null,null,null,null,null,null,null,null,null,null,null,null,null,null,null,"Sieger Spiel 80"]
[]
[null,"Nr.",null,null,null,null,null,null,null,"Beginn",null,null,null,null,"Spiel um Platz 3",null,null,null,null,null,null,null,null,null,null,null,null,null,null,null,null,null,null,null,null,null,null,null,null,null,null,null,null,null,null,null,null,null,"Ergebnis"]
[null,83,null,null,null,null,null,null,null,"16:50:00",null,null,null,null,{"$f":"IF(ISBLANK($AZ$92),\" \",IF($AW$92<$AZ$92,$O$92,IF($AZ$92<$AW$92,$AF$92,IF($AW$92=$AZ$92,\"Entscheidung ermitteln!\"))))","v":" "},{"$f":"IF(ISBLANK(#REF!),\" \",IF(#REF!<#REF!,#REF!,IF(#REF!<#REF!,#REF!)))","v":{"$error":"#REF!"}},{"$f":"IF(ISBLANK(#REF!),\" \",IF(#REF!<#REF!,#REF!,IF(#REF!<#REF!,#REF!)))","v":{"$error":"#REF!"}},{"$f":"IF(ISBLANK(#REF!),\" \",IF(#REF!<#REF!,#REF!,IF(#REF!<#REF!,#REF!)))","v":{"$error":"#REF!"}},{"$f":"IF(ISBLANK(#REF!),\" \",IF(#REF!<#REF!,#REF!,IF(#REF!<#REF!,#REF!)))","v":{"$error":"#REF!"}},{"$f":"IF(ISBLANK(#REF!),\" \",IF(#REF!<#REF!,#REF!,IF(#REF!<#REF!,#REF!)))","v":{"$error":"#REF!"}},{"$f":"IF(ISBLANK(#REF!),\" \",IF(#REF!<#REF!,#REF!,IF(#REF!<#REF!,#REF!)))","v":{"$error":"#REF!"}},{"$f":"IF(ISBLANK(#REF!),\" \",IF(#REF!<#REF!,#REF!,IF(#REF!<#REF!,#REF!)))","v":{"$error":"#REF!"}},{"$f":"IF(ISBLANK(#REF!),\" \",IF(#REF!<#REF!,#REF!,IF(#REF!<#REF!,#REF!)))","v":{"$error":"#REF!"}},{"$f":"IF(ISBLANK(#REF!),\" \",IF(#REF!<#REF!,#REF!,IF(#REF!<#REF!,#REF!)))","v":{"$error":"#REF!"}},{"$f":"IF(ISBLANK(#REF!),\" \",IF(#REF!<#REF!,#REF!,IF(#REF!<#REF!,#REF!)))","v":{"$error":"#REF!"}},{"$f":"IF(ISBLANK(#REF!),\" \",IF(#REF!<#REF!,#REF!,IF(#REF!<#REF!,#REF!)))","v":{"$error":"#REF!"}},{"$f":"IF(ISBLANK(#REF!),\" \",IF(#REF!<#REF!,#REF!,IF(#REF!<#REF!,#REF!)))","v":{"$error":"#REF!"}},{"$f":"IF(ISBLANK(#REF!),\" \",IF(#REF!<#REF!,#REF!,IF(#REF!<#REF!,#REF!)))","v":{"$error":"#REF!"}},{"$f":"IF(ISBLANK(#REF!),\" \",IF(#REF!<#REF!,#REF!,IF(#REF!<#REF!,#REF!)))","v":{"$error":"#REF!"}},{"$f":"IF(ISBLANK(#REF!),\" \",IF(#REF!<#REF!,#REF!,IF(#REF!<#REF!,#REF!)))","v":{"$error":"#REF!"}},"-",{"$f":"IF(ISBLANK($AZ$96),\" \",IF($AW$96<$AZ$96,$O$96,IF($AZ$96<$AW$96,$AF$96,IF($AW$96=$AZ$96,\"Entscheidung ermitteln!\"))))","v":" "},{"$f":"IF(ISBLANK(#REF!),\" \",IF(#REF!<#REF!,#REF!,IF(#REF!<#REF!,#REF!)))","v":{"$error":"#REF!"}},{"$f":"IF(ISBLANK(#REF!),\" \",IF(#REF!<#REF!,#REF!,IF(#REF!<#REF!,#REF!)))","v":{"$error":"#REF!"}},{"$f":"IF(ISBLANK(#REF!),\" \",IF(#REF!<#REF!,#REF!,IF(#REF!<#REF!,#REF!)))","v":{"$error":"#REF!"}},{"$f":"IF(ISBLANK(#REF!),\" \",IF(#REF!<#REF!,#REF!,IF(#REF!<#REF!,#REF!)))","v":{"$error":"#REF!"}},{"$f":"IF(ISBLANK(#REF!),\" \",IF(#REF!<#REF!,#REF!,IF(#REF!<#REF!,#REF!)))","v":{"$error":"#REF!"}},{"$f":"IF(ISBLANK(#REF!),\" \",IF(#REF!<#REF!,#REF!,IF(#REF!<#REF!,#REF!)))","v":{"$error":"#REF!"}},{"$f":"IF(ISBLANK(#REF!),\" \",IF(#REF!<#REF!,#REF!,IF(#REF!<#REF!,#REF!)))","v":{"$error":"#REF!"}},{"$f":"IF(ISBLANK(#REF!),\" \",IF(#REF!<#REF!,#REF!,IF(#REF!<#REF!,#REF!)))","v":{"$error":"#REF!"}},{"$f":"IF(ISBLANK(#REF!),\" \",IF(#REF!<#REF!,#REF!,IF(#REF!<#REF!,#REF!)))","v":{"$error":"#REF!"}},{"$f":"IF(ISBLANK(#REF!),\" \",IF(#REF!<#REF!,#REF!,IF(#REF!<#REF!,#REF!)))","v":{"$error":"#REF!"}},{"$f":"IF(ISBLANK(#REF!),\" \",IF(#REF!<#REF!,#REF!,IF(#REF!<#REF!,#REF!)))","v":{"$error":"#REF!"}},{"$f":"IF(ISBLANK(#REF!),\" \",IF(#REF!<#REF!,#REF!,IF(#REF!<#REF!,#REF!)))","v":{"$error":"#REF!"}},{"$f":"IF(ISBLANK(#REF!),\" \",IF(#REF!<#REF!,#REF!,IF(#REF!<#REF!,#REF!)))","v":{"$error":"#REF!"}},{"$f":"IF(ISBLANK(#REF!),\" \",IF(#REF!<#REF!,#REF!,IF(#REF!<#REF!,#REF!)))","v":{"$error":"#REF!"}},{"$f":"IF(ISBLANK(#REF!),\" \",IF(#REF!<#REF!,#REF!,IF(#REF!<#REF!,#REF!)))","v":{"$error":"#REF!"}},{"$f":"IF(ISBLANK(#REF!),\" \",IF(#REF!<#REF!,#REF!,IF(#REF!<#REF!,#REF!)))","v":{"$error":"#REF!"}},null,null,":"]
[null,null,null,null,null,null,null,null,null,null,null,null,null,null,"Verlierer Spiel 81",null,null,null,null,null,null,null,null,null,null,null,null,null,null,null,null,"Verlierer Spiel 82"]
[]
[null,"Nr.",null,null,null,null,null,null,null,"Beginn",null,null,null,null,"Finale",null,null,null,null,null,null,null,null,null,null,null,null,null,null,null,null,null,null,null,null,null,null,null,null,null,null,null,null,null,null,null,null,null,"Ergebnis"]
[null,84,null,null,null,null,null,null,null,{"$f":"J100+$V$73*$Y$73+$AL$73","v":"17:02:00"},null,null,null,null,{"$f":"IF(ISBLANK($AZ$92),\" \",IF($AW$92>$AZ$92,$O$92,IF($AZ$92>$AW$92,$AF$92,IF($AW$92=$AZ$92,\"Entscheidung ermitteln!\"))))","v":" "},{"$f":"IF(ISBLANK(#REF!),\" \",IF(#REF!<#REF!,#REF!,IF(#REF!<#REF!,#REF!)))","v":{"$error":"#REF!"}},{"$f":"IF(ISBLANK(#REF!),\" \",IF(#REF!<#REF!,#REF!,IF(#REF!<#REF!,#REF!)))","v":{"$error":"#REF!"}},{"$f":"IF(ISBLANK(#REF!),\" \",IF(#REF!<#REF!,#REF!,IF(#REF!<#REF!,#REF!)))","v":{"$error":"#REF!"}},{"$f":"IF(ISBLANK(#REF!),\" \",IF(#REF!<#REF!,#REF!,IF(#REF!<#REF!,#REF!)))","v":{"$error":"#REF!"}},{"$f":"IF(ISBLANK(#REF!),\" \",IF(#REF!<#REF!,#REF!,IF(#REF!<#REF!,#REF!)))","v":{"$error":"#REF!"}},{"$f":"IF(ISBLANK(#REF!),\" \",IF(#REF!<#REF!,#REF!,IF(#REF!<#REF!,#REF!)))","v":{"$error":"#REF!"}},{"$f":"IF(ISBLANK(#REF!),\" \",IF(#REF!<#REF!,#REF!,IF(#REF!<#REF!,#REF!)))","v":{"$error":"#REF!"}},{"$f":"IF(ISBLANK(#REF!),\" \",IF(#REF!<#REF!,#REF!,IF(#REF!<#REF!,#REF!)))","v":{"$error":"#REF!"}},{"$f":"IF(ISBLANK(#REF!),\" \",IF(#REF!<#REF!,#REF!,IF(#REF!<#REF!,#REF!)))","v":{"$error":"#REF!"}},{"$f":"IF(ISBLANK(#REF!),\" \",IF(#REF!<#REF!,#REF!,IF(#REF!<#REF!,#REF!)))","v":{"$error":"#REF!"}},{"$f":"IF(ISBLANK(#REF!),\" \",IF(#REF!<#REF!,#REF!,IF(#REF!<#REF!,#REF!)))","v":{"$error":"#REF!"}},{"$f":"IF(ISBLANK(#REF!),\" \",IF(#REF!<#REF!,#REF!,IF(#REF!<#REF!,#REF!)))","v":{"$error":"#REF!"}},{"$f":"IF(ISBLANK(#REF!),\" \",IF(#REF!<#REF!,#REF!,IF(#REF!<#REF!,#REF!)))","v":{"$error":"#REF!"}},{"$f":"IF(ISBLANK(#REF!),\" \",IF(#REF!<#REF!,#REF!,IF(#REF!<#REF!,#REF!)))","v":{"$error":"#REF!"}},{"$f":"IF(ISBLANK(#REF!),\" \",IF(#REF!<#REF!,#REF!,IF(#REF!<#REF!,#REF!)))","v":{"$error":"#REF!"}},"-",{"$f":"IF(ISBLANK($AZ$96),\" \",IF($AW$96>$AZ$96,$O$96,IF($AZ$96>$AW$96,$AF$96,IF($AW$96=$AZ$96,\"Entscheidung ermitteln!\"))))","v":" "},{"$f":"IF(ISBLANK(#REF!),\" \",IF(#REF!<#REF!,#REF!,IF(#REF!<#REF!,#REF!)))","v":{"$error":"#REF!"}},{"$f":"IF(ISBLANK(#REF!),\" \",IF(#REF!<#REF!,#REF!,IF(#REF!<#REF!,#REF!)))","v":{"$error":"#REF!"}},{"$f":"IF(ISBLANK(#REF!),\" \",IF(#REF!<#REF!,#REF!,IF(#REF!<#REF!,#REF!)))","v":{"$error":"#REF!"}},{"$f":"IF(ISBLANK(#REF!),\" \",IF(#REF!<#REF!,#REF!,IF(#REF!<#REF!,#REF!)))","v":{"$error":"#REF!"}},{"$f":"IF(ISBLANK(#REF!),\" \",IF(#REF!<#REF!,#REF!,IF(#REF!<#REF!,#REF!)))","v":{"$error":"#REF!"}},{"$f":"IF(ISBLANK(#REF!),\" \",IF(#REF!<#REF!,#REF!,IF(#REF!<#REF!,#REF!)))","v":{"$error":"#REF!"}},{"$f":"IF(ISBLANK(#REF!),\" \",IF(#REF!<#REF!,#REF!,IF(#REF!<#REF!,#REF!)))","v":{"$error":"#REF!"}},{"$f":"IF(ISBLANK(#REF!),\" \",IF(#REF!<#REF!,#REF!,IF(#REF!<#REF!,#REF!)))","v":{"$error":"#REF!"}},{"$f":"IF(ISBLANK(#REF!),\" \",IF(#REF!<#REF!,#REF!,IF(#REF!<#REF!,#REF!)))","v":{"$error":"#REF!"}},{"$f":"IF(ISBLANK(#REF!),\" \",IF(#REF!<#REF!,#REF!,IF(#REF!<#REF!,#REF!)))","v":{"$error":"#REF!"}},{"$f":"IF(ISBLANK(#REF!),\" \",IF(#REF!<#REF!,#REF!,IF(#REF!<#REF!,#REF!)))","v":{"$error":"#REF!"}},{"$f":"IF(ISBLANK(#REF!),\" \",IF(#REF!<#REF!,#REF!,IF(#REF!<#REF!,#REF!)))","v":{"$error":"#REF!"}},{"$f":"IF(ISBLANK(#REF!),\" \",IF(#REF!<#REF!,#REF!,IF(#REF!<#REF!,#REF!)))","v":{"$error":"#REF!"}},{"$f":"IF(ISBLANK(#REF!),\" \",IF(#REF!<#REF!,#REF!,IF(#REF!<#REF!,#REF!)))","v":{"$error":"#REF!"}},{"$f":"IF(ISBLANK(#REF!),\" \",IF(#REF!<#REF!,#REF!,IF(#REF!<#REF!,#REF!)))","v":{"$error":"#REF!"}},{"$f":"IF(ISBLANK(#REF!),\" \",IF(#REF!<#REF!,#REF!,IF(#REF!<#REF!,#REF!)))","v":{"$error":"#REF!"}},null,null,":"]
[null,null,null,null,null,null,null,null,null,null,null,null,null,null,"Sieger Spiel 81",null,null,null,null,null,null,null,null,null,null,null,null,null,null,null,null,"Sieger Spiel 82"]
[]
[null,"V. Platzierungen"]
[]
[null,null,null,null,null,null,null,null,"1.",null,null,null,{"$f":"IF(ISBLANK($AZ$104),\" \",IF($AW$104>$AZ$104,$O$104,IF($AZ$104>$AW$104,$AF$104,IF($AW$104=$AZ$104,\"Entscheidung ermitteln!\"))))","v":" "}]
[null,null,null,null,null,null,null,null,"2.",null,null,null,{"$f":"IF(ISBLANK($AZ$104),\" \",IF($AW$104<$AZ$104,$O$104,IF($AZ$104<$AW$104,$AF$104,IF($AW$104=$AZ$104,\"Entscheidung ermitteln!\"))))","v":" "}]
[null,null,null,null,null,null,null,null,"3.",null,null,null,{"$f":"IF(ISBLANK($AZ$100),\" \",IF($AW$100>$AZ$100,$O$100,IF($AZ$100>$AW$100,$AF$100,IF($AW$100=$AZ$100,\"Entscheidung ermitteln!\"))))","v":" "}]
[null,null,null,null,null,null,null,null,"4.",null,null,null,{"$f":"IF(ISBLANK($AZ$100),\" \",IF($AW$100<$AZ$100,$O$100,IF($AZ$100<$AW$100,$AF$100,IF($AW$100=$AZ$100,\"Entscheidung ermitteln!\"))))","v":" "}]